Workbook
Name AA: 'G-7 WaterC'' Data'!$B$4
Name AllHabsSummaryData: '[1]G-2 Habitat groups'!$A$3:$AF$135
Name AllHabsSummaryData: 'G-2 Habitat groups'!$A$3:$AF$135
Name BaselineHabOffsite: '[1]D-1 Off-Site Habitat Baseline'!$D$11:$AA$258
Name BaselineHabOffsite: 'D-1 Off-Site Habitat Baseline'!$D$11:$AA$258
Name BaselineHabSite: '[1]A-1 On-Site Habitat Baseline'!$D$11:$X$258
Name BaselineHabSite: 'A-1 On-Site Habitat Baseline'!$D$11:$X$258
Name baselineimage: Start!$D$39:$G$53
Name baselineimageOS: Start!$D$60:$G$65
Name Coastal_lagoons: 'G-1 All Habitats'!$A$103
Name Coastal_saltmarsh: 'G-1 All Habitats'!$A$112:$A$113
Name Cond1: 'G-8 Condition Look up'!$J$5
Name Cond2: 'G-8 Condition Look up'!$K$5
Name Cond3: 'G-8 Condition Look up'!$L$5
Name Cond4: 'G-8 Condition Look up'!$M$5:$M$9
Name Cond5: 'G-8 Condition Look up'!$N$5
Name Condition: 'G-8 Condition Look up'!$B$3:$H$3
Name ConditionData: 'G-8 Condition Look up'!$A$4:$H$102
Name ConditionHabitats: 'G-8 Condition Look up'!$A$4:$A$128
Name Cropland: 'G-1 All Habitats'!$A$3:$A$12
Name Difficulty: '[1]G-3 Multipliers'!$P$3:$Q$6
Name Difficulty: 'G-3 Multipliers'!$P$3:$Q$6
Name Encroachment1: 'G-7 WaterC'' Data'!$AD$4:$AD$13
Name Encroachment2: 'G-7 WaterC'' Data'!$AD$14
Name EnhanceCondition: '[1]G-5 Enhancement Temporal'!$C$4:$X$4
Name EnhanceCondition: 'G-5 Enhancement Temporal'!$C$4:$X$4
Name EnhanceHabitat: '[1]G-5 Enhancement Temporal'!$C$4:$C$136
Name EnhanceHabitat: 'G-5 Enhancement Temporal'!$C$4:$C$136
Name EnhanceTemporal: '[1]G-5 Enhancement Temporal'!$C$4:$X$136
Name EnhanceTemporal: 'G-5 Enhancement Temporal'!$C$4:$X$136
Name Grassland: 'G-1 All Habitats'!$A$13:$A$25
Name Heathland_and_shrub: 'G-1 All Habitats'!$A$26:$A$38
Name HedgeCond: 'G-6 Hedgerow Data'!$B$2:$T$2
Name Hedgecond1: 'G-6 Hedgerow Data'!$BK$3:$BK$5
Name Hedgecond2: 'G-6 Hedgerow Data'!$BL$3
Name HedgeData: 'G-6 Hedgerow Data'!$B$2:$T$15
Name HedgeType: 'G-6 Hedgerow Data'!$B$2:$B$15
Name Individual_trees: 'G-1 All Habitats'!$A$80:$A$81
Name Individualtrees: 'G-1 All Habitats'!$A$79:$A$80
Name Intertidal_hard_structures: 'G-1 All Habitats'!$A$131:$A$133
Name Intertidal_sediment: 'G-1 All Habitats'!$A$114:$A$130
Name Lakes: 'G-1 All Habitats'!$A$39:$A$49
Name LPAList: Lists!$A$1:$A$378
Name postdevelopmentimage: Start!$I$39:$O$53
Name postdevelopmentimageOS: Start!$I$60:$O$65
Name RetCatChecks: 'A-1 On-Site Habitat Baseline'!$AE$11:$AH$258
Name riparianencroachment1: 'G-7 WaterC'' Data'!$AA$4:$AA$6
Name riparianencroachment2: 'G-7 WaterC'' Data'!$AA$7
Name Rivercond1: 'G-7 WaterC'' Data'!$BB$3:$BB$7
Name Rivercond2: 'G-7 WaterC'' Data'!$BC$3
Name RiverCondition: 'G-7 WaterC'' Data'!$B$3:$X$3
Name RiverEnhanceTemporal: 'G-7 WaterC'' Data'!$B$4:$X$12
Name RiverHabitat: 'G-7 WaterC'' Data'!$B$4:$B$14
Name RiversEnhancment: 'G-7 WaterC'' Data'!$O$3:$X$5
Name Rocky_shore: 'G-1 All Habitats'!$A$104:$A$111
Name Sparsely_vegetated_land: 'G-1 All Habitats'!$A$50:$A$58
Name TemporalConditions: '[1]G-4 Temporal multipliers'!$F$3:$M$3
Name TemporalConditions: 'G-4 Temporal multipliers'!$F$3:$M$3
Name TemporalData: '[1]G-4 Temporal multipliers'!$F$3:$M$135
Name TemporalData: 'G-4 Temporal multipliers'!$F$3:$M$135

Sheet Introduction

Sheet Start
D8: 4
D9: Project details
D11: Planning authority: | F11: Rochdale Borough Council
D12: Project name: | F12: Broadfield Park Slopes (‘The Slopes’), The Esplanade, Rochdale, OL16 1AQ
D13: Applicant: | F13: Rochdale Development Agency
D14: Application type: | F14: Full
D15: Planning application reference: | F15: 23/01394/LBC
D16: Completed by: | F16: Anthony Nickson
D17: Date of metric completion: | F17: 45350
D18: Reviewer:
D19: Version control:
D20: Consenting body reviewer:
D21: Date of consenting body review:
D22: Target % net gain: | F22: 0 | I22: =IF(OR(F22>=10%,F22=""),"","Target set below 10% ▲") -> Target set below 10% ▲
D23: Irreplaceable habitat present on-site at baseline: | F23: No | I23: =IF(F23="Yes","Irreplaceable habitats at baseline, you must fill in the irreplaceable habitat tab ⚠",IF(F23="","You must specify if irreplaceable habitats are on-site at baseline ▲",""))
D24: Total site area (including irreplaceable habitat area): | F24: ='Detailed Results'!D21+'Irreplaceable Habitats'!S38 -> 0.5385 | I24: Irreplaceable habitat area at baseline: | J24: ='Irreplaceable Habitats'!M32 -> 0
D27: Contains deviations from the statutory metric - this must be agreed with consenting body | I27: =IF(F27="Yes", "Only acceptable in exceptionally rare circumstances, ensure any deviations have been agreed with the consenting body ⚠", "")
D29: Cell style conventions
D30: ⚠ | F30: Attention required
D31: ▲ | F31: Input error/rules and principles not met
F32: Use of this cell is not appropriate
F33: Enter data
F34: Automatic lookup
F35: Result
D55: On-site baseline map reference number | I55: On-site post-intervention map reference number
D66: Off-site baseline map reference number | I66: Off-site post-intervention reference number

Sheet Instructions

Sheet Irreplaceable Habitats
B2: Irreplaceable habitats
B4: 👁 For further information please refer to the irreplaceable habitats section of the metric user guide.
B9: Habitat module type | E9: Habitat type | K9: Length (km) | M9: Area (ha) | O9: Habitat retained, enhanced, or lost? | S9: Is the habitat included in the relevant baseline tab? | U9: Notes and metric sheet reference | Z9: Has bespoke compensation been agreed with the relevant consenting body?
AA10: =IF(AND($O10="Lost", $Z10<>"Yes"), "Irreplaceable habitat lost, bespoke compensation must be agreed with concenting body ▲", "") | AB10: =IF(S10="Yes","Please provide a reference to the row number within the baseline where this habitat is mentioned ⚠", "")
AA11: =IF(AND($O11="Lost", $Z11<>"Yes"), "Irreplaceable habitat lost, bespoke compensation must be agreed with concenting body ▲", "") | AB11: =IF(S11="Yes","Please provide a reference to the row number within the baseline where this habitat is mentioned ⚠", "")
AA12: =IF(AND($O12="Lost", $Z12<>"Yes"), "Irreplaceable habitat lost, bespoke compensation must be agreed with concenting body ▲", "") | AB12: =IF(S12="Yes","Please provide a reference to the row number within the baseline where this habitat is mentioned ⚠", "")
AA13: =IF(AND($O13="Lost", $Z13<>"Yes"), "Irreplaceable habitat lost, bespoke compensation must be agreed with concenting body ▲", "") | AB13: =IF(S13="Yes","Please provide a reference to the row number within the baseline where this habitat is mentioned ⚠", "")
AA14: =IF(AND($O14="Lost", $Z14<>"Yes"), "Irreplaceable habitat lost, bespoke compensation must be agreed with concenting body ▲", "") | AB14: =IF(S14="Yes","Please provide a reference to the row number within the baseline where this habitat is mentioned ⚠", "")
AA15: =IF(AND($O15="Lost", $Z15<>"Yes"), "Irreplaceable habitat lost, bespoke compensation must be agreed with concenting body ▲", "") | AB15: =IF(S15="Yes","Please provide a reference to the row number within the baseline where this habitat is mentioned ⚠", "")
AA16: =IF(AND($O16="Lost", $Z16<>"Yes"), "Irreplaceable habitat lost, bespoke compensation must be agreed with concenting body ▲", "") | AB16: =IF(S16="Yes","Please provide a reference to the row number within the baseline where this habitat is mentioned ⚠", "")
AA17: =IF(AND($O17="Lost", $Z17<>"Yes"), "Irreplaceable habitat lost, bespoke compensation must be agreed with concenting body ▲", "") | AB17: =IF(S17="Yes","Please provide a reference to the row number within the baseline where this habitat is mentioned ⚠", "")
AA18: =IF(AND($O18="Lost", $Z18<>"Yes"), "Irreplaceable habitat lost, bespoke compensation must be agreed with concenting body ▲", "") | AB18: =IF(S18="Yes","Please provide a reference to the row number within the baseline where this habitat is mentioned ⚠", "")
AA19: =IF(AND($O19="Lost", $Z19<>"Yes"), "Irreplaceable habitat lost, bespoke compensation must be agreed with concenting body ▲", "") | AB19: =IF(S19="Yes","Please provide a reference to the row number within the baseline where this habitat is mentioned ⚠", "")
AA20: =IF(AND($O20="Lost", $Z20<>"Yes"), "Irreplaceable habitat lost, bespoke compensation must be agreed with concenting body ▲", "") | AB20: =IF(S20="Yes","Please provide a reference to the row number within the baseline where this habitat is mentioned ⚠", "")
AA21: =IF(AND($O21="Lost", $Z21<>"Yes"), "Irreplaceable habitat lost, bespoke compensation must be agreed with concenting body ▲", "") | AB21: =IF(S21="Yes","Please provide a reference to the row number within the baseline where this habitat is mentioned ⚠", "")
... AA31: =IF(AND($O31="Lost", $Z31<>"Yes"), "Irreplaceable habitat lost, bespoke compensation must be agreed with concenting body ▲", "") | AB31: =IF(S31="Yes","Please provide a reference to the row number within the baseline where this habitat is mentioned ⚠", "")
K32: =SUM(K10:L31) -> 0 | M32: =SUM(M10:N31) -> 0
B35: Ancient/Veteran trees (No of trees): | K35: Trees retained: | O35: Trees enhanced: | S35: Trees lost: | U35: Total number of trees: | W35: =M35+Q35+T35 -> 0
S36: =SUMIF(S10:S31,"Yes",M11:N31) -> 0
B37: Summary table | S37: =M32-S36 -> 0
B38: Area habitats | S38: =SUMIF(S10:S31,"No",M10:N31) -> 0
B39: Total site area (ha) | I39: =K32-S36 -> 0
B40: Total irreplaceable habitats area (ha) | I40: =M32 -> 0
B41: % Area of site taken up by irreplaceable habitats (ha) | I41: =IF(OR(M32=0,I39=0),"0.00",(M32/I39)) -> 0.00
B42: Total retained irreplaceable habitat area (ha) | I42: =SUMIF(O10:R31, "Retained",M10:N31) -> 0
B43: Total enhanced irreplaceable habitat area (ha) | I43: =SUMIF(O10:R31,"Enhanced",M11:N31) -> 0
B44: Total lost irreplaceable habitat area (ha) | I44: =SUMIF(O10:R31, "Lost",M10:N31) -> 0 | O44: Yes
B45: Hedgerows | O45: No
B46: Total irreplaceable hedgerow length (km) | I46: =SUMIF(B10:D31, "=Hedgerows",K10:L31) -> 0
B47: Total retained irreplaceable hedgerow length (km) | I47: =SUM(SUMIFS(K10:K31,B10:B31, ("=Hedgerows"),O10:O31, ("=Retained"))) -> 0 | O47: Hedgerows
B48: Total enhanced irreplaceable hedgerow length (km) | I48: =SUM(SUMIFS(K10:K31,B10:B31, ("=Hedgerows"),O10:O31, ("=Enhanced"))) -> 0 | O48: Yes
B49: Total lost irreplaceable hedgerow length (km) | I49: =SUM(SUMIFS(K10:K31,B10:B31, ("=Hedgerows"),O10:O31, ("=Lost"))) -> 0
B50: Watercourses
B51: Total irreplaceable watercourse length (km) | I51: =SUMIF(B10:D31, "=Watercourse",K10:L31) -> 0
B52: Total retained irreplaceable watercourse length (km) | I52: =SUMIFS(K10:K32,B10:B32, "=Watercourse", O10:O32, "=Retained") -> 0
B53: Total enhanced irreplaceable watercourse length (km) | I53: =SUMIFS(K10:K31,B10:B31, "=Watercourse", O10:O31, "=Enhanced") -> 0
B54: Total lost irreplaceable watercourse length (km) | I54: =SUM(SUMIFS(K10:K31,B10:B31, ("=Watercourse"),O10:O31, ("=Lost"))) -> 0

Sheet Main Menu
Q3: Tree helper
Q4: Tree size | R4: Number of trees and area (ha) for each condition state
R5: Poor | S5: Area | T5: Moderate | U5: Area | V5: Good | W5: Area
Q6: Small | S6: =R6*'G-3 Multipliers'!$Z$4 -> 0 | U6: =T6*'G-3 Multipliers'!$Z$4 -> 0 | W6: =V6*'G-3 Multipliers'!$Z$4 -> 0
Q7: Medium | S7: =R7*'G-3 Multipliers'!$Z$5 -> 0 | U7: =T7*'G-3 Multipliers'!$Z$5 -> 0 | W7: =V7*'G-3 Multipliers'!$Z$5 -> 0
Q8: Large | S8: =R8*'G-3 Multipliers'!$Z$6 -> 0 | U8: =T8*'G-3 Multipliers'!$Z$6 -> 0 | W8: =V8*'G-3 Multipliers'!$Z$6 -> 0
Q9: Total | R9: =SUM(R6:R8) -> 0 | S9: =SUM(S6:S8) -> 0 | T9: =SUM(T6:T8) -> 0 | U9: =SUM(U6:U8) -> 0 | V9: =SUM(V6:V8) -> 0 | W9: =SUM(W6:W8) -> 0

Sheet Results

Sheet Headline Results
B2: =IF(Start!$F$12="","",Start!$F$12) -> Broadfield Park Slopes (‘The Slopes’), The Esplanade, Rochdale, OL16 1AQ | F2: =IF(OR(B56="This metric contains deviations from the statutory metric - these deviations are only acceptable in extremely rare circumstances and must be agreed with the consenting body ⚠",B57="You must specify if irreplaceable habitats are on-site at baseline ▲",B58="Unacceptable loss of irreplaceable habitat recorded - no bespoke compensation for lossess has been agreed ▲"),"Errors flagged below - please investigate further ▲","")
B3: =MID(CELL("filename",A1),FIND("]",CELL("filename",A1))+1,256) -> Headline Results
B5: Scroll down for final results ⚠
B8: On-site baseline | F8: Habitat units | H8: =IFERROR('A-1 On-Site Habitat Baseline'!Q259,"Check Data ⚠") -> 8.69572
F9: Hedgerow units | H9: =IFERROR('B-1 On-Site Hedge Baseline'!N258,"Check Data ⚠") -> 0
F10: Watercourse units | H10: ='C-1 On-Site WaterC'' Baseline'!R258 -> 0
B12: On-site post-intervention (Including habitat retention, creation & enhancement) | F12: Habitat units | H12: =IFERROR('A-2 On-Site Habitat Creation'!Y257+'A-3 On-Site Habitat Enhancement'!AN258+'A-1 On-Site Habitat Baseline'!U259,"Check Data ⚠") -> 4.3400948
F13: Hedgerow units | H13: =IFERROR('B-2 On-Site Hedge Creation'!W260+'B-3 On-Site Hedge Enhancement'!AH258+'B-1 On-Site Hedge Baseline'!R258,"Check Data⚠") -> 0
F14: Watercourse units | H14: =IFERROR('C-2 On-Site WaterC'' Creation'!Z260 + 'C-3 On-Site WaterC'' Enhancement'!AM258+'C-1 On-Site WaterC'' Baseline'!V258,"Check Data ⚠") -> 0
B16: On-site net change (units & percentage) | F16: Habitat units | H16: =IFERROR(H12-H8, "Error ▲") -> -4.3556252 | J16: =IF(AND(H8=0, H12=0),0,IF(AND(H8=0,H12>0),"N/A",IFERROR((H12/H8)-1,"Check Data ⚠"))) -> -0.50089299 | K16: =IF(J16="N/A","Zero baseline units - % cannot be calculated",IF(OR(AND(H8=0,H12=0),J16>=Start!$F$22)," ","On-site net gain is less than target set ⚠")) -> On-site net gain is less than target set ⚠
F17: Hedgerow units | H17: =IFERROR(H13-H9, "Error ▲") -> 0 | J17: =IF(AND(H9=0, H13=0),0,IF(AND(H9=0,H13>0),"N/A",IFERROR((H13/H9)-1,"Check Data ⚠"))) -> 0 | K17: =IF(J17="N/A","Zero baseline units - % cannot be calculated",IF(OR(AND(H9=0,H13=0),J17>=Start!$F$22)," ","On-site net gain is less than target set ⚠"))
F18: Watercourse units | H18: =IFERROR(H14-H10, "Error ▲") -> 0 | J18: =IF(AND(H10=0, H14=0),0,IF(AND(H10=0,H14>0),"N/A",IFERROR((H14/H10)-1,"Check Data ⚠"))) -> 0 | K18: =IF(J18="N/A","Zero baseline units - % cannot be calculated",IF(OR(AND(H10=0,H14=0),J18>=Start!$F$22)," ","On-site net gain is less than target set ⚠"))
B20: Off-site baseline | F20: Habitat units | H20: =IFERROR('D-1 Off-Site Habitat Baseline'!T259,"Check Data ⚠") -> 0 | L20: =IFERROR('D-1 Off-Site Habitat Baseline'!Q259,"Check Data ⚠") -> 0
F21: Hedgerow units | H21: =IFERROR('E-1 Off-Site Hedge Baseline'!Q258,"Check Data ⚠") -> 0 | L21: =IFERROR('E-1 Off-Site Hedge Baseline'!N258,"Check Data ⚠") -> 0
F22: Watercourse units | H22: =IFERROR('F-1 Off-Site WaterC'' Baseline'!U258,"Check Data ⚠") -> 0 | L22: =IFERROR('F-1 Off-Site WaterC'' Baseline'!R258,"Check Data ⚠") -> 0
B24: Off-site post-intervention (Including habitat retention, creation & enhancement) | F24: Habitat units | H24: =IFERROR('D-1 Off-Site Habitat Baseline'!$X$259+'D-2 Off-Site Habitat Creation'!AB257+'D-3 Off-Site Habitat Enhancment'!AQ259,"Check Data ⚠") -> 0 | L24: =IFERROR('D-1 Off-Site Habitat Baseline'!$AY$259+'D-2 Off-Site Habitat Creation'!AA257+'D-3 Off-Site Habitat Enhancment'!AP259,"Check Data ⚠") -> 0
F25: Hedgerow units | H25: =IFERROR('E-1 Off-Site Hedge Baseline'!U258+'E-2 Off-Site Hedge Creation'!Z260+'E-3 Off-Site Hedge Enhancement'!AK258,"Check Data ⚠") -> 0 | L25: =IFERROR('E-1 Off-Site Hedge Baseline'!AY258+'E-2 Off-Site Hedge Creation'!Y260+'E-3 Off-Site Hedge Enhancement'!AJ258,"Check Data ⚠") -> 0
F26: Watercourse units | H26: =IFERROR('F-1 Off-Site WaterC'' Baseline'!Y258+'F-2 Off-Site WaterC'' Creation'!AC260+'F-3 Off-Site WaterC Enhancement'!AP258,"Check Data ⚠") -> 0 | L26: =IFERROR('F-1 Off-Site WaterC'' Baseline'!AZ258+'F-2 Off-Site WaterC'' Creation'!AB260+'F-3 Off-Site WaterC Enhancement'!AO258,"Check Data ⚠") -> 0
B28: Off-site net change (units & percentage) | F28: Habitat units | H28: =IFERROR(H24-H20, "Error ▲") -> 0 | J28: =IF(AND(H20=0, H24=0), 0,IF(AND(H20=0,H24>0),"N/A",IFERROR((H24/H20)-1,"Check Data ⚠"))) -> 0 | K28: =IF(J28="N/A","0 baseline units - % cannot be calculated") -> FALSE
F29: Hedgerow units | H29: =IFERROR(H25-H21, "Error ▲") -> 0 | J29: =IF(AND(H21=0, H25=0), 0,IF(AND(H21=0,H25>0),"N/A",IFERROR((H25/H21)-1,"Check Data ⚠"))) -> 0 | K29: =IF(J29="N/A","0 baseline units - % cannot be calculated") -> FALSE
F30: Watercourse units | H30: =IFERROR(H26-H22, "Error ▲") -> 0 | J30: =IF(AND(H22=0, H26=0), 0,IF(AND(H22=0,H26>0),"N/A",IFERROR((H26/H22)-1,"Check Data ⚠"))) -> 0 | K30: =IF(J30="N/A","0 baseline units - % cannot be calculated") -> FALSE
B32: Off-site unit change (with Spatial Risk Multiplier applied) | F32: Habitat units | H32: =IF(H28<0, "N/A", (L24-L20)) -> 0 | J32: =IF(H32="N/A", "SRM only applies where unit change is positive (uplift)", " ")
F33: Hedgerow units | H33: =IF(H29<0, "N/A", (L25-L21)) -> 0 | J33: =IF(H33="N/A", "SRM only applies where unit change is positive", " ")
F34: Watercourse units | H34: =IF(H30<0, "N/A", (L26-L22)) -> 0 | J34: =IF(H34="N/A", "SRM only applies where unit change is positive", " ")
B37: Combined net unit change (Including all on-site & off-site habitat retention, creation & enhancement) | F37: Habitat units | H37: =IFERROR((H16)+(H28),"Check Data ⚠") -> -4.3556252
F38: Hedgerow units | H38: =IFERROR((H17)+(H29),"Check Data ⚠") -> 0
F39: Watercourse units | H39: =IFERROR((H18)+(H30),"Check Data ⚠") -> 0
B41: Spatial risk multiplier (SRM) deductions | F41: Habitat units | H41: =IFERROR(H28-H32, "0.00") -> 0
F42: Hedgerow units | H42: =IFERROR(H29-H33, "0.00") -> 0
F43: Watercourse units | H43: =IFERROR(H30-H34, "0.00") -> 0
B45: FINAL RESULTS
B47: Total net unit change (Including all on-site & off-site habitat retention, creation & enhancement) | F47: Habitat units | H47: =IFERROR(IF(H32="N/A", (H12-H8)+(H28), (H12-H8)+(H32)),"Check Data ⚠") -> -4.3556252
F48: Hedgerow units | H48: =IFERROR(IF(H33="N/A", (H13-H9)+(H29), (H13-H9)+(H33)),"Check Data ⚠") -> 0
F49: Watercourse units | H49: =IFERROR(IF(H34="N/A", (H14-H10)+(H30), (H14-H10)+(H34)),"Check Data ⚠") -> 0
B51: Total net % change (Including all on-site & off-site habitat retention, creation & enhancement) | F51: Habitat units | H51: =IF(H47=0,0,IF(AND(H8=0,H20=0,H47>0),1,IFERROR((H47/H8),"Check Data ⚠"))) -> -0.50089299 | J51: =IF(H51="N/A","0 baseline units - % cannot be calculated",IF(OR(AND(H8=0,H12=0,H20=0,H24=0),H51>=Start!$F$22)," ","Total net gain achieved is less than target set ⚠")) -> Total net gain achieved is less than target set ⚠
F52: Hedgerow units | H52: =IF(AND(H48=0, H9=0),0,IF(AND(H9=0,H21=0,H48>0),"N/A",IFERROR((H48/H9),"Check Data ⚠"))) -> 0 | J52: =IF(H52="N/A","0 baseline units - % cannot be calculated",IF(OR(AND(H9=0,H13=0,H21=0,H25=0),H52>=Start!$F$22)," ","Total net gain achieved is less than target set ⚠"))
F53: Watercourse units | H53: =IF(H49=0,0,IF(AND(H10=0,H22=0,H49>0),1,IFERROR((H49/H10),"Check Data ⚠"))) -> 0 | J53: =IF(H53="N/A","0 baseline units - % cannot be calculated",IF(OR(AND(H10=0,H14=0,H22=0,H26=0),H53>=Start!$F$22)," ","Total net gain achieved is less than target set ⚠"))
B55: Trading rules satisfied? | F55: {=IF(OR('Trading Summary Area Habitats'!G5="No ▲",'Trading Summary Area Habitats'!G6="No ▲",'Trading Summary Area Habitats'!G7="No ▲",'Trading Summary Area Habitats'!G8="No ▲",'Trading Summary Hedgerows'!G5="No ▲",'Trading Summary Hedgerows'!G6:H6="No ▲", 'Trading Summary Hedgerows'!G7="No ▲", 'Trading Summary Hedgerows'!G8="No ▲", 'Trading Summary WaterC''s'!G5="No ▲", 'Trading Summary WaterC''s'!G6="No ▲", 'Trading Summary WaterC''s'!G7="No ▲", 'Trading Summary WaterC''s'!G8="No ▲"),"No - Check Trading Summaries ▲","Yes ✓")} -> No - Check Trading Summaries ▲
B56: =IF(Start!F27="Yes", "This metric contains deviations from the statutory metric - these deviations are only acceptable in extremely rare circumstances and must be agreed with the consenting body ⚠", "")
B57: =IF(Start!I23="You must specify if irreplaceable habitats are on-site at baseline ▲", "You must specify if irreplaceable habitats are on-site at baseline ▲", "")
...

Sheet Detailed Results
B2: =IF(Start!$F$12="","",Start!$F$12) -> Broadfield Park Slopes (‘The Slopes’), The Esplanade, Rochdale, OL16 1AQ
B3: =MID(CELL("filename",A1),FIND("]",CELL("filename",A1))+1,256) -> Detailed Results
B7: Summary Figures
B10: Net project biodiversity units (Including all on-site & off-site habitat retention / creation) | F10: Habitat units | H10: =IFERROR('Headline Results'!$H$47:$I$47,"Check Data ⚠") -> -4.3556252
F11: Hedgerow units | H11: =IFERROR('Headline Results'!$H$48:$I$48,"Check Data ⚠") -> 0
F12: Watercourse units | H12: =IFERROR('Headline Results'!$H$49:$I$49,"Check Data ⚠") -> 0
B14: Total project biodiversity % change (Including all on-site & off-site habitat creation + retained habitats) | F14: Habitat units | H14: =IFERROR('Headline Results'!$H$51:$I$51,"Check Data ⚠") -> -0.50089299
F15: Hedgerow units | H15: =IFERROR('Headline Results'!$H$52:$I$52,"Check Data ⚠") -> 0
F16: Watercourse units | H16: =IFERROR('Headline Results'!$H$53:$I$53,"Check Data ⚠") -> 0
B18: Combined habitat retention and enhancement
D20: Habitats | F20: Hedgerows | H20: Watercourses
B21: Total on-site and off-site baseline area / length | D21: =IF(AND($K$40=0,'A-1 On-Site Habitat Baseline'!Y11:Y258<>"No",'D-1 Off-Site Habitat Baseline'!AB11:AB258<>"No"),'A-1 On-Site Habitat Baseline'!$H259+'D-1 Off-Site Habitat Baseline'!H259,"Error ▲") -> 0.5385 | F21: ='B-1 On-Site Hedge Baseline'!$E$258+'E-1 Off-Site Hedge Baseline'!$E$258 -> 0 | H21: ='C-1 On-Site WaterC'' Baseline'!$E$258+'F-1 Off-Site WaterC'' Baseline'!$E$258 -> 0
B22: Total on-site and off-site baseline units | D22: =IF(AND($K$40=0,'A-1 On-Site Habitat Baseline'!Y11:Y258<>"No",'D-1 Off-Site Habitat Baseline'!AB11:AB258<>"No"),'A-1 On-Site Habitat Baseline'!$Q259+'D-1 Off-Site Habitat Baseline'!T259,"Error ▲") -> 8.69572 | F22: ='B-1 On-Site Hedge Baseline'!$N$258+'E-1 Off-Site Hedge Baseline'!$Q$258 -> 0 | H22: ='C-1 On-Site WaterC'' Baseline'!$R$258+'F-1 Off-Site WaterC'' Baseline'!$U$258 -> 0
B24: Total on-site and off-site baseline area / length retained | D24: =IF(AND($K$40=0,'A-1 On-Site Habitat Baseline'!Y11:Y258<>"No",'D-1 Off-Site Habitat Baseline'!AB11:AB258<>"No"),'A-1 On-Site Habitat Baseline'!$S259+'D-1 Off-Site Habitat Baseline'!V259,"Error ▲") -> 0.1284 | F24: ='B-1 On-Site Hedge Baseline'!$P$258+'E-1 Off-Site Hedge Baseline'!$S$258 -> 0 | H24: ='C-1 On-Site WaterC'' Baseline'!T258+'F-1 Off-Site WaterC'' Baseline'!W258 -> 0
B25: Total on-site and off-site baseline units retained | D25: =IF(AND($K$40=0,'A-1 On-Site Habitat Baseline'!Y11:Y258<>"No",'D-1 Off-Site Habitat Baseline'!AB11:AB258<>"No"),'A-1 On-Site Habitat Baseline'!$U259+'D-1 Off-Site Habitat Baseline'!X259,"Error ▲") -> 2.46222 | F25: ='B-1 On-Site Hedge Baseline'!R258+'E-1 Off-Site Hedge Baseline'!U258 -> 0 | H25: ='C-1 On-Site WaterC'' Baseline'!V258+'F-1 Off-Site WaterC'' Baseline'!Y258 -> 0
B27: Area / length proposed for enhancement | D27: =IF(AND($K$40=0,'A-1 On-Site Habitat Baseline'!Y11:Y258<>"No",'D-1 Off-Site Habitat Baseline'!AB11:AB258<>"No"),'A-1 On-Site Habitat Baseline'!$T259+'D-1 Off-Site Habitat Baseline'!W259,"Error ▲") -> 0 | F27: ='B-1 On-Site Hedge Baseline'!$Q$258+'E-1 Off-Site Hedge Baseline'!$T$258 -> 0 | H27: ='C-1 On-Site WaterC'' Baseline'!U258+'F-1 Off-Site WaterC'' Baseline'!X258 -> 0
B28: Baseline units proposed for enhancement | D28: =IF(AND($K$40=0,'A-1 On-Site Habitat Baseline'!Y11:Y258<>"No",'D-1 Off-Site Habitat Baseline'!AB11:AB258<>"No"),'A-1 On-Site Habitat Baseline'!$V259+'D-1 Off-Site Habitat Baseline'!Y259,"Error ▲") -> 0 | F28: ='B-1 On-Site Hedge Baseline'!$S$258+'E-1 Off-Site Hedge Baseline'!$V$258 -> 0 | H28: ='C-1 On-Site WaterC'' Baseline'!W258+'F-1 Off-Site WaterC'' Baseline'!Z258 -> 0
B30: Total on-site and off-site baseline area / length lost | D30: =IF(AND($K$40=0,'A-1 On-Site Habitat Baseline'!Y11:Y258<>"No",'D-1 Off-Site Habitat Baseline'!AB11:AB258<>"No"),'A-1 On-Site Habitat Baseline'!$W259+'D-1 Off-Site Habitat Baseline'!Z259,"Error ▲") -> 0.4101 | F30: ='B-1 On-Site Hedge Baseline'!$T$258+'E-1 Off-Site Hedge Baseline'!$W$258 -> 0 | H30: ='C-1 On-Site WaterC'' Baseline'!X258+'F-1 Off-Site WaterC'' Baseline'!AA258 -> 0
B31: Total on-site and off-site baseline units lost | D31: =IF(AND($K$40=0,'A-1 On-Site Habitat Baseline'!Y11:Y258<>"No",'D-1 Off-Site Habitat Baseline'!AB11:AB258<>"No"),'A-1 On-Site Habitat Baseline'!$X259+'D-1 Off-Site Habitat Baseline'!AA259,"Error ▲") -> 6.2335 | F31: ='B-1 On-Site Hedge Baseline'!$U$258+'E-1 Off-Site Hedge Baseline'!$X$258 -> 0 | H31: ='C-1 On-Site WaterC'' Baseline'!Y258+'F-1 Off-Site WaterC'' Baseline'!AB258 -> 0
A33: Area Habitats Area Habitats Area Habitats
B34: Area habitats
B36: On-site change by broad habitat type | J36: Combined area lost by distinctiveness band
C37: Baseline | E37: Post-development on-site | G37: On-site change
B38: Habitat group | C38: On-site existing area | D38: On-site existing value | E38: On-site proposed area | F38: On-site proposed value | G38: On-site area change | H38: On-site unit change | J38: Category | K38: Area lost (hectares) | L38: Area lost (%)
B39: Cropland | C39: ='G-2 Habitat groups'!$AK$4 -> 0 | D39: ='G-2 Habitat groups'!$AL$4 -> 0 | E39: ='G-2 Habitat groups'!$AM$4 -> 0 | F39: ='G-2 Habitat groups'!$AN$4 -> 0 | G39: =E39-C39 -> 0 | H39: =F39-D39 -> 0
B40: Grassland | C40: ='G-2 Habitat groups'!$AK$5 -> 0.121 | D40: ='G-2 Habitat groups'!$AL$5 -> 1.452 | E40: ='G-2 Habitat groups'!$AM$5 -> 0.2755 | F40: ='G-2 Habitat groups'!$AN$5 -> 1.7798308 | G40: =E40-C40 -> 0.1545 | H40: =F40-D40 -> 0.32783082 | J40: ='G-1 All Habitats'!$V$3 -> V.High | K40: =SUMIF('A-1 On-Site Habitat Baseline'!$I$11:$I$258,'Detailed Results'!J40,'A-1 On-Site Habitat Baseline'!$W$11:$W$258)+SUMIF('D-1 Off-Site Habitat Baseline'!$I$11:$I$258,'Detailed Results'!J40,'D-1 Off-Site Habitat Baseline'!$Z$11:$Z$258) -> 0 | L40: =IF(K40=0,"",(K40/(SUM($K$40:$K$49)))*100)
B41: Heathland and shrub | C41: ='G-2 Habitat groups'!$AK$6 -> 0 | D41: ='G-2 Habitat groups'!$AL$6 -> 0 | E41: ='G-2 Habitat groups'!$AM$6 -> 0 | F41: ='G-2 Habitat groups'!$AN$6 -> 0 | G41: =E41-C41 -> 0 | H41: =F41-D41 -> 0
B42: Lakes | C42: ='G-2 Habitat groups'!$AK$7 -> 0.0045 | D42: ='G-2 Habitat groups'!$AL$7 -> 0.009 | E42: ='G-2 Habitat groups'!$AM$7 -> 0.0085 | F42: ='G-2 Habitat groups'!$AN$7 -> 0.02444 | G42: =E42-C42 -> 0.004 | H42: =F42-D42 -> 0.01544 | J42: ='G-1 All Habitats'!$V$4 -> High | K42: =SUMIF('A-1 On-Site Habitat Baseline'!$I$11:$I$258,'Detailed Results'!J42,'A-1 On-Site Habitat Baseline'!$W$11:$W$258)+SUMIF('D-1 Off-Site Habitat Baseline'!$I$11:$I$258,'Detailed Results'!J42,'D-1 Off-Site Habitat Baseline'!$Z$11:$Z$258) -> 0.2405 | L42: =IF(K42=0,"",(K42/(SUM($K$40:$K$49)))*100) -> 58.644233
B43: Sparsely vegetated land | C43: ='G-2 Habitat groups'!$AK$8 -> 0 | D43: ='G-2 Habitat groups'!$AL$8 -> 0 | E43: ='G-2 Habitat groups'!$AM$8 -> 0 | F43: ='G-2 Habitat groups'!$AN$8 -> 0 | G43: =E43-C43 -> 0 | H43: =F43-D43 -> 0
B44: Urban | C44: ='G-2 Habitat groups'!$AK$9 -> 0.0486 | D44: ='G-2 Habitat groups'!$AL$9 -> 0.0196 | E44: ='G-2 Habitat groups'!$AM$9 -> 0.1306 | F44: ='G-2 Habitat groups'!$AN$9 -> 0.082604 | G44: =E44-C44 -> 0.082 | H44: =F44-D44 -> 0.063004 | J44: ='G-1 All Habitats'!$V5 -> Medium | K44: =SUMIF('A-1 On-Site Habitat Baseline'!$I$11:$I$258,'Detailed Results'!J44,'A-1 On-Site Habitat Baseline'!$W$11:$W$258)+SUMIF('D-1 Off-Site Habitat Baseline'!$I$11:$I$258,'Detailed Results'!J44,'D-1 Off-Site Habitat Baseline'!$Z$11:$Z$258) -> 0.121 | L44: =IF(K44=0,"",(K44/(SUM($K$40:$K$49)))*100) -> 29.504999
B45: Wetland | C45: ='G-2 Habitat groups'!$AK$10 -> 0 | D45: ='G-2 Habitat groups'!$AL$10 -> 0 | E45: ='G-2 Habitat groups'!$AM$10 -> 0 | F45: ='G-2 Habitat groups'!$AN$10 -> 0 | G45: =E45-C45 -> 0 | H45: =F45-D45 -> 0
B46: Woodland and forest | C46: ='G-2 Habitat groups'!$AK$11 -> 0.3644 | D46: ='G-2 Habitat groups'!$AL$11 -> 7.21512 | E46: ='G-2 Habitat groups'!$AM$11 -> 0.1239 | F46: ='G-2 Habitat groups'!$AN$11 -> 2.45322 | G46: =E46-C46 -> -0.2405 | H46: =F46-D46 -> -4.7619 | J46: ='G-1 All Habitats'!$V$6 -> Low | K46: =SUMIF('A-1 On-Site Habitat Baseline'!$I$11:$I$258,'Detailed Results'!J46,'A-1 On-Site Habitat Baseline'!$W$11:$W$258)+SUMIF('D-1 Off-Site Habitat Baseline'!$I$11:$I$258,'Detailed Results'!J46,'D-1 Off-Site Habitat Baseline'!$Z$11:$Z$258) -> 0.0098 | L46: =IF(K46=0,"",(K46/(SUM($K$40:$K$49)))*100) -> 2.3896611
B47: Intertidal sediment | C47: ='G-2 Habitat groups'!$AK$12 -> 0 | D47: ='G-2 Habitat groups'!$AL$12 -> 0 | E47: ='G-2 Habitat groups'!$AM$12 -> 0 | F47: ='G-2 Habitat groups'!$AN$12 -> 0 | G47: =E47-C47 -> 0 | H47: =F47-D47 -> 0
B48: Coastal saltmarsh | C48: ='G-2 Habitat groups'!$AK$13 -> 0 | D48: ='G-2 Habitat groups'!$AL$13 -> 0 | E48: ='G-2 Habitat groups'!$AM$13 -> 0 | F48: ='G-2 Habitat groups'!$AN$13 -> 0 | G48: =E48-C48 -> 0 | H48: =F48-D48 -> 0 | J48: ='G-1 All Habitats'!$V$7 -> V.Low | K48: =SUMIF('A-1 On-Site Habitat Baseline'!$I$11:$I$258,'Detailed Results'!J48,'A-1 On-Site Habitat Baseline'!$W$11:$W$258)+SUMIF('D-1 Off-Site Habitat Baseline'!$I$11:$I$258,'Detailed Results'!J48,'D-1 Off-Site Habitat Baseline'!$Z$11:$Z$258) -> 0.0388 | L48: =IF(K48=0,"",(K48/(SUM($K$40:$K$49)))*100) -> 9.461107
B49: Rocky shore | C49: ='G-2 Habitat groups'!$AK$14 -> 0 | D49: ='G-2 Habitat groups'!$AL$14 -> 0 | E49: ='G-2 Habitat groups'!$AM$14 -> 0 | F49: ='G-2 Habitat groups'!$AN$14 -> 0 | G49: =E49-C49 -> 0 | H49: =F49-D49 -> 0
B50: Coastal lagoons | C50: ='G-2 Habitat groups'!$AK$15 -> 0 | D50: ='G-2 Habitat groups'!$AL$15 -> 0 | E50: ='G-2 Habitat groups'!$AM$15 -> 0 | F50: ='G-2 Habitat groups'!$AN$15 -> 0 | G50: =E50-C50 -> 0 | H50: =F50-D50 -> 0
B51: Intertidal hard structures | C51: ='G-2 Habitat groups'!$AK$16 -> 0 | D51: ='G-2 Habitat groups'!$AL$16 -> 0 | E51: ='G-2 Habitat groups'!$AM$16 -> 0 | F51: ='G-2 Habitat groups'!$AN$16 -> 0 | G51: =E51-C51 -> 0 | H51: =F51-D51 -> 0
B52: Watercourse footprint | C52: ='G-2 Habitat groups'!$AK$18 -> 0 | D52: ='G-2 Habitat groups'!$AL$18 -> 0 | E52: ='G-2 Habitat groups'!$AM$18 -> 0 | F52: ='G-2 Habitat groups'!$AN$18 -> 0 | G52: =E52-C52 -> 0 | H52: =F52-D52 -> 0
B53: Individual trees | C53: ='G-2 Habitat groups'!$AK$17 -> 0 | D53: ='G-2 Habitat groups'!$AL$17 -> 0 | E53: ='G-2 Habitat groups'!$AM$17 -> 0 | F53: ='G-2 Habitat groups'!$AN$17 -> 0 | G53: =E53-C53 -> 0 | H53: =F53-D53 -> 0
B56: Off-site change by broad habitat type
...

Sheet Trading Summary Area Habitats
B2: Trading Summary
B3: Distinctiveness Group | C3: Trading Rule | G3: Trading Satisfied?
B5: Very High | C5: Bespoke compensation likely to be required 🛠 | G5: =IF(('A-1 On-Site Habitat Baseline'!AQ259+'D-1 Off-Site Habitat Baseline'!AU259)>0,"No ▲","Yes ✓") -> Yes ✓
B6: High | C6: Same habitat required = | G6: =IFERROR(IF(J41<0,"No ▲","Yes ✓"),"") -> No ▲
B7: Medium | C7: Same broad habitat or a higher distinctiveness habitat required (≥) | G7: =IF(J40+J12+J89<0,"No ▲","Yes ✓") -> No ▲
B8: Low | C8: Same distinctiveness or better habitat required ≥ | G8: =IF(J126<0,"No ▲","Yes ✓") -> Yes ✓
B11: Very High Distinctiveness | I11: Very High Distinctiveness Summary
B12: Habitat group | C12: Group | D12: On-site unit change | E12: Off-site unit change | F12: Project-wide unit change | G12: Unit losses | I12: Very High Distinctiveness Units available to offset lower distinctiveness deficit | J12: =SUMIF($F$13:$F$32,">0") -> 0
B13: ='G-2 Habitat groups'!AU5 -> Grassland - Lowland dry acid grassland | C13: ='G-2 Habitat groups'!AV5 -> Grassland | D13: ='G-2 Habitat groups'!BB5 -> 0 | E13: ='G-2 Habitat groups'!BD5 -> 0 | F13: ='G-2 Habitat groups'!BE5 -> 0 | G13: ='G-2 Habitat groups'!BF5 | I13: =IF($G$33<0,"Very high distinctiveness unit defecit - CHECK DATA","")
B14: ='G-2 Habitat groups'!AU6 -> Grassland - Lowland meadows | C14: ='G-2 Habitat groups'!AV6 -> Grassland | D14: ='G-2 Habitat groups'!BB6 -> 0 | E14: ='G-2 Habitat groups'!BD6 -> 0 | F14: ='G-2 Habitat groups'!BE6 -> 0 | G14: ='G-2 Habitat groups'!BF6
B15: ='G-2 Habitat groups'!AU7 -> Grassland - Upland hay meadows | C15: ='G-2 Habitat groups'!AV7 -> Grassland | D15: ='G-2 Habitat groups'!BB7 -> 0 | E15: ='G-2 Habitat groups'!BD7 -> 0 | F15: ='G-2 Habitat groups'!BE7 -> 0 | G15: ='G-2 Habitat groups'!BF7
B16: ='G-2 Habitat groups'!AU8 -> Heathland and shrub - Mountain heaths and willow scrub | C16: ='G-2 Habitat groups'!AV8 -> Heathland and shrub | D16: ='G-2 Habitat groups'!BB8 -> 0 | E16: ='G-2 Habitat groups'!BD8 -> 0 | F16: ='G-2 Habitat groups'!BE8 -> 0 | G16: ='G-2 Habitat groups'!BF8
B17: ='G-2 Habitat groups'!AU9 -> Lakes - Aquifer fed naturally fluctuating water bodies | C17: ='G-2 Habitat groups'!AV9 -> Lakes | D17: ='G-2 Habitat groups'!BB9 -> 0 | E17: ='G-2 Habitat groups'!BD9 -> 0 | F17: ='G-2 Habitat groups'!BE9 -> 0 | G17: ='G-2 Habitat groups'!BF9
B18: ='G-2 Habitat groups'!AU10 -> Sparsely vegetated land - Calaminarian grasslands | C18: ='G-2 Habitat groups'!AV10 -> Sparsely vegetated land | D18: ='G-2 Habitat groups'!BB10 -> 0 | E18: ='G-2 Habitat groups'!BD10 -> 0 | F18: ='G-2 Habitat groups'!BE10 -> 0 | G18: ='G-2 Habitat groups'!BF10
B19: ='G-2 Habitat groups'!AU11 -> Sparsely vegetated land - Limestone pavement | C19: ='G-2 Habitat groups'!AV11 -> Sparsely vegetated land | D19: ='G-2 Habitat groups'!BB11 -> 0 | E19: ='G-2 Habitat groups'!BD11 -> 0 | F19: ='G-2 Habitat groups'!BE11 -> 0 | G19: ='G-2 Habitat groups'!BF11
B20: ='G-2 Habitat groups'!AU12 -> Wetland - Blanket bog | C20: ='G-2 Habitat groups'!AV12 -> Wetland | D20: ='G-2 Habitat groups'!BB12 -> 0 | E20: ='G-2 Habitat groups'!BD12 -> 0 | F20: ='G-2 Habitat groups'!BE12 -> 0 | G20: ='G-2 Habitat groups'!BF12
B21: ='G-2 Habitat groups'!AU13 -> Wetland - Depressions on peat substrates (H7150) | C21: ='G-2 Habitat groups'!AV13 -> Wetland | D21: ='G-2 Habitat groups'!BB13 -> 0 | E21: ='G-2 Habitat groups'!BD13 -> 0 | F21: ='G-2 Habitat groups'!BE13 -> 0 | G21: ='G-2 Habitat groups'!BF13
B22: ='G-2 Habitat groups'!AU14 -> Wetland - Fens (upland and lowland) | C22: ='G-2 Habitat groups'!AV14 -> Wetland | D22: ='G-2 Habitat groups'!BB14 -> 0 | E22: ='G-2 Habitat groups'!BD14 -> 0 | F22: ='G-2 Habitat groups'!BE14 -> 0 | G22: ='G-2 Habitat groups'!BF14
B23: ='G-2 Habitat groups'!AU15 -> Wetland - Lowland raised bog | C23: ='G-2 Habitat groups'!AV15 -> Wetland | D23: ='G-2 Habitat groups'!BB15 -> 0 | E23: ='G-2 Habitat groups'!BD15 -> 0 | F23: ='G-2 Habitat groups'!BE15 -> 0 | G23: ='G-2 Habitat groups'!BF15
B24: ='G-2 Habitat groups'!AU16 -> Wetland - Oceanic valley mire[1] (D2.1) | C24: ='G-2 Habitat groups'!AV16 -> Wetland | D24: ='G-2 Habitat groups'!BB16 -> 0 | E24: ='G-2 Habitat groups'!BD16 -> 0 | F24: ='G-2 Habitat groups'!BE16 -> 0 | G24: ='G-2 Habitat groups'!BF16
B25: ='G-2 Habitat groups'!AU17 -> Wetland - Purple moor grass and rush pastures | C25: ='G-2 Habitat groups'!AV17 -> Wetland | D25: ='G-2 Habitat groups'!BB17 -> 0 | E25: ='G-2 Habitat groups'!BD17 -> 0 | F25: ='G-2 Habitat groups'!BE17 -> 0 | G25: ='G-2 Habitat groups'!BF17
... B32: ='G-2 Habitat groups'!AU24 -> Intertidal sediment - Littoral seagrass on peat, clay or chalk | C32: ='G-2 Habitat groups'!AV24 -> Intertidal sediment | D32: ='G-2 Habitat groups'!BB24 -> 0 | E32: ='G-2 Habitat groups'!BD24 -> 0 | F32: ='G-2 Habitat groups'!BE24 -> 0 | G32: ='G-2 Habitat groups'!BF24
D33: =SUM(D13:D32) -> 0 | E33: =SUM(E13:E32) -> 0 | F33: =SUM(F13:F32) -> 0 | G33: =SUM(G13:G32) -> 0
B39: High Distinctiveness | I39: High Distinctiveness Summary
B40: Habitat group | C40: Group | D40: On-site unit change | E40: Off-site unit change | F40: Project-wide unit change | G40: Losses not yet accounted for | I40: High Distinctiveness Units available to offset lower distinctiveness deficit | J40: =SUMIF($F$41:$F$81,">0") -> 0
B41: ='G-2 Habitat groups'!AU30 -> Grassland - Traditional orchards | C41: ='G-2 Habitat groups'!AV30 -> Grassland | D41: ='G-2 Habitat groups'!BB30 -> 0 | E41: ='G-2 Habitat groups'!BD30 -> 0 | F41: ='G-2 Habitat groups'!BE30 -> 0 | G41: ='G-2 Habitat groups'!BF30 | I41: Unit Deficit; Like for like not satisfied | J41: =G83 -> -4.7619
B42: ='G-2 Habitat groups'!AU31 -> Grassland - Floodplain wetland mosaic and CFGM | C42: ='G-2 Habitat groups'!AV31 -> Grassland | D42: ='G-2 Habitat groups'!BB31 -> 0 | E42: ='G-2 Habitat groups'!BD31 -> 0 | F42: ='G-2 Habitat groups'!BE31 -> 0 | G42: ='G-2 Habitat groups'!BF31
B43: ='G-2 Habitat groups'!AU32 -> Grassland - Lowland calcareous grassland | C43: ='G-2 Habitat groups'!AV32 -> Grassland | D43: ='G-2 Habitat groups'!BB32 -> 0 | E43: ='G-2 Habitat groups'!BD32 -> 0 | F43: ='G-2 Habitat groups'!BE32 -> 0 | G43: ='G-2 Habitat groups'!BF32
B44: ='G-2 Habitat groups'!AU33 -> Grassland - Tall herb communities (H6430) | C44: ='G-2 Habitat groups'!AV33 -> Grassland | D44: ='G-2 Habitat groups'!BB33 -> 0 | E44: ='G-2 Habitat groups'!BD33 -> 0 | F44: ='G-2 Habitat groups'!BE33 -> 0 | G44: ='G-2 Habitat groups'!BF33
B45: ='G-2 Habitat groups'!AU34 -> Grassland - Upland calcareous grassland | C45: ='G-2 Habitat groups'!AV34 -> Grassland | D45: ='G-2 Habitat groups'!BB34 -> 0 | E45: ='G-2 Habitat groups'!BD34 -> 0 | F45: ='G-2 Habitat groups'!BE34 -> 0 | G45: ='G-2 Habitat groups'!BF34
B46: ='G-2 Habitat groups'!AU35 -> Heathland and shrub - Lowland Heathland | C46: ='G-2 Habitat groups'!AV35 -> Heathland and shrub | D46: ='G-2 Habitat groups'!BB35 -> 0 | E46: ='G-2 Habitat groups'!BD35 -> 0 | F46: ='G-2 Habitat groups'!BE35 -> 0 | G46: ='G-2 Habitat groups'!BF35
B47: ='G-2 Habitat groups'!AU36 -> Heathland and shrub - Dunes with sea buckthorn (H2160) | C47: ='G-2 Habitat groups'!AV36 -> Heathland and shrub | D47: ='G-2 Habitat groups'!BB36 -> 0 | E47: ='G-2 Habitat groups'!BD36 -> 0 | F47: ='G-2 Habitat groups'!BE36 -> 0 | G47: ='G-2 Habitat groups'!BF36
B48: ='G-2 Habitat groups'!AU37 -> Heathland and shrub - Upland heathland | C48: ='G-2 Habitat groups'!AV37 -> Heathland and shrub | D48: ='G-2 Habitat groups'!BB37 -> 0 | E48: ='G-2 Habitat groups'!BD37 -> 0 | F48: ='G-2 Habitat groups'!BE37 -> 0 | G48: ='G-2 Habitat groups'!BF37
B49: ='G-2 Habitat groups'!AU39 -> Lakes - High alkalinity lakes | C49: ='G-2 Habitat groups'!AV39 -> Lakes | D49: ='G-2 Habitat groups'!BB39 -> 0 | E49: ='G-2 Habitat groups'!BD39 -> 0 | F49: ='G-2 Habitat groups'!BE39 -> 0 | G49: ='G-2 Habitat groups'!BF39
B50: ='G-2 Habitat groups'!AU40 -> Lakes - Low alkalinity lakes | C50: ='G-2 Habitat groups'!AV40 -> Lakes | D50: ='G-2 Habitat groups'!BB40 -> 0 | E50: ='G-2 Habitat groups'!BD40 -> 0 | F50: ='G-2 Habitat groups'!BE40 -> 0 | G50: ='G-2 Habitat groups'!BF40
B51: ='G-2 Habitat groups'!AU41 -> Lakes - Marl lakes | C51: ='G-2 Habitat groups'!AV41 -> Lakes | D51: ='G-2 Habitat groups'!BB41 -> 0 | E51: ='G-2 Habitat groups'!BD41 -> 0 | F51: ='G-2 Habitat groups'!BE41 -> 0 | G51: ='G-2 Habitat groups'!BF41
B52: ='G-2 Habitat groups'!AU42 -> Lakes - Moderate alkalinity lakes | C52: ='G-2 Habitat groups'!AV42 -> Lakes | D52: ='G-2 Habitat groups'!BB42 -> 0 | E52: ='G-2 Habitat groups'!BD42 -> 0 | F52: ='G-2 Habitat groups'!BE42 -> 0 | G52: ='G-2 Habitat groups'!BF42
B53: ='G-2 Habitat groups'!AU43 -> Lakes - Peat lakes | C53: ='G-2 Habitat groups'!AV43 -> Lakes | D53: ='G-2 Habitat groups'!BB43 -> 0 | E53: ='G-2 Habitat groups'!BD43 -> 0 | F53: ='G-2 Habitat groups'!BE43 -> 0 | G53: ='G-2 Habitat groups'!BF43
B54: ='G-2 Habitat groups'!AU44 -> Lakes - Ponds (priority habitat) | C54: ='G-2 Habitat groups'!AV44 -> Lakes | D54: ='G-2 Habitat groups'!BB44 -> 0 | E54: ='G-2 Habitat groups'!BD44 -> 0 | F54: ='G-2 Habitat groups'!BE44 -> 0 | G54: ='G-2 Habitat groups'!BF44
B55: ='G-2 Habitat groups'!AU45 -> Lakes - Temporary lakes ponds and pools (H3170) | C55: ='G-2 Habitat groups'!AV45 -> Lakes | D55: ='G-2 Habitat groups'!BB45 -> 0 | E55: ='G-2 Habitat groups'!BD45 -> 0 | F55: ='G-2 Habitat groups'!BE45 -> 0 | G55: ='G-2 Habitat groups'!BF45
...

Sheet Trading Summary Hedgerows
B2: Trading Summary
B3: Distinctiveness Group | C3: Trading Rule | G3: Trading Satisfied?
B5: Very High | C5: Same habitat required = | G5: =IFERROR(IF(H14<0,"No ▲","Yes ✓"),"") -> Yes ✓
B6: High | C6: Like for like or better | G6: =IF(H22+H13<0, "No ▲","Yes ✓") -> Yes ✓
B7: Medium | C7: Same distinctiveness or better habitat required | G7: =IF(H33<0, "No ▲","Yes ✓") -> Yes ✓
B8: Low/Very Low | C8: Same distinctiveness or better habitat required | G8: =IF(H44<0,"No ▲","Yes ✓") -> Yes ✓
B12: Very High Distinctiveness | G12: Very High Distinctiveness Summary
B13: Habitat group | C13: On-site unit change | D13: Off-site unit change | E13: Project-wide unit change | G13: Very High Distinctiveness Units available to offset lower distinctiveness deficit | H13: =SUMIF($E$14:$E$14,">0") -> 0
B14: ='G-2 Habitat groups'!A150 -> Species-rich native hedgerow with trees - associated with bank or ditch | C14: ='G-2 Habitat groups'!R150 -> 0 | D14: ='G-2 Habitat groups'!AD150 -> 0 | E14: ='G-2 Habitat groups'!AF150 -> 0 | G14: Unit Deficit; Like for like not satisfied | H14: =SUMIF(E14, "<0", E14) -> 0
C15: =SUM(C14:C14) -> 0 | D15: =SUM(D14:D14) -> 0 | E15: =SUM(E14:E14) -> 0
B20: High Distinctiveness | G20: High Distinctiveness Summary
B21: Habitat group | C21: On-site unit change | D21: Off-site unit change | E21: Project wide unit change | G21: High Distinctiveness Units available to offset lower distinctiveness deficit | H21: =SUMIF(E22:E24,">0") -> 0
B22: ='G-2 Habitat groups'!A151 -> Species-rich native hedgerow with trees | C22: ='G-2 Habitat groups'!R151 -> 0 | D22: ='G-2 Habitat groups'!AD151 -> 0 | E22: ='G-2 Habitat groups'!AF151 -> 0 | G22: High Distinctivness Deficit to be offset by trading up | H22: =SUMIF(E22:E24, "<0") -> 0
B23: ='G-2 Habitat groups'!A152 -> Species-rich native hedgerow - associated with bank or ditch | C23: ='G-2 Habitat groups'!R152 -> 0 | D23: ='G-2 Habitat groups'!AD152 -> 0 | E23: ='G-2 Habitat groups'!AF152 -> 0 | G23: Higher Distinctiveness surplus units minus any high distinctivness deficit | H23: =H13+H22 -> 0
B24: ='G-2 Habitat groups'!A153 -> Native hedgerow with trees - associated with bank or ditch | C24: ='G-2 Habitat groups'!R153 -> 0 | D24: ='G-2 Habitat groups'!AD153 -> 0 | E24: ='G-2 Habitat groups'!AF153 -> 0
B25: ='G-2 Habitat groups'!A158 -> Ecologically valuable line of trees - associated with bank or ditch | C25: ='G-2 Habitat groups'!BB87 -> 0 | D25: ='G-2 Habitat groups'!BD87 -> 0 | E25: ='G-2 Habitat groups'!BE87 -> 0 | G25: =SUM(E25:E25) -> 0
C26: =SUM(C22:C25) -> 0 | D26: =SUM(D22:D25) -> 0 | E26: =SUM(E22:E25) -> 0
B30: Medium Distinctiveness | G30: Medium Distinctiveness Summary
B31: Habitat group | C31: On-site unit change | D31: Off-site unit change | E31: Project wide unit change | G31: Units available from higher distinctiveness habitats | H31: =IF(H23>0, H23, 0)+H21 -> 0
B32: ='G-2 Habitat groups'!A154 -> Species-rich native hedgerow | C32: ='G-2 Habitat groups'!R154 -> 0 | D32: ='G-2 Habitat groups'!AD154 -> 0 | E32: ='G-2 Habitat groups'!AF154 -> 0 | G32: Medium Distinctiveness net change in units | H32: =E38 -> 0
B33: ='G-2 Habitat groups'!A155 -> Native hedgerow - associated with bank or ditch | C33: ='G-2 Habitat groups'!R155 -> 0 | D33: ='G-2 Habitat groups'!AD155 -> 0 | E33: ='G-2 Habitat groups'!AF155 -> 0 | G33: Cumulative availability of units | H33: =H32+H31 -> 0
B34: ='G-2 Habitat groups'!A156 -> Native hedgerow with trees | C34: ='G-2 Habitat groups'!R156 -> 0 | D34: ='G-2 Habitat groups'!AD156 -> 0 | E34: ='G-2 Habitat groups'!AF156 -> 0
B35: ='G-2 Habitat groups'!A157 -> Ecologically valuable line of trees | C35: ='G-2 Habitat groups'!R157 -> 0 | D35: ='G-2 Habitat groups'!AD157 -> 0 | E35: ='G-2 Habitat groups'!AF157 -> 0
B36: ='G-2 Habitat groups'!A158 -> Ecologically valuable line of trees - associated with bank or ditch | C36: ='G-2 Habitat groups'!R158 -> 0 | D36: ='G-2 Habitat groups'!AD158 -> 0 | E36: ='G-2 Habitat groups'!AF158 -> 0
B37: ='G-2 Habitat groups'!A158 -> Ecologically valuable line of trees - associated with bank or ditch | C37: ='G-2 Habitat groups'!BB30 -> 0 | D37: ='G-2 Habitat groups'!BD30 -> 0 | E37: ='G-2 Habitat groups'!BE30 -> 0 | G37: =SUM(E37:E37) -> 0
C38: =SUM(C32:C37) -> 0 | D38: =SUM(D32:D37) -> 0 | E38: =SUM(E32:E37) -> 0
B42: Low/Very Low Distinctiveness | G42: Low Distinctiveness Summary
B43: Habitat group | C43: On-site unit change | D43: Off-site unit change | E43: Project wide unit change | G43: Low Distinctiveness net change in units | H43: =E48 -> 0
B44: ='G-2 Habitat groups'!A159 -> Native hedgerow | C44: ='G-2 Habitat groups'!R159 -> 0 | D44: ='G-2 Habitat groups'!AD159 -> 0 | E44: ='G-2 Habitat groups'!AF159 -> 0 | G44: Cumulative availability of units | H44: =H43+H33 -> 0
B45: ='G-2 Habitat groups'!A160 -> Line of trees | C45: ='G-2 Habitat groups'!R160 -> 0 | D45: ='G-2 Habitat groups'!AD160 -> 0 | E45: ='G-2 Habitat groups'!AF160 -> 0
B46: ='G-2 Habitat groups'!A161 -> Line of trees - associated with bank or ditch | C46: ='G-2 Habitat groups'!R161 -> 0 | D46: ='G-2 Habitat groups'!AD161 -> 0 | E46: ='G-2 Habitat groups'!AF161 -> 0
B47: ='G-2 Habitat groups'!A162 -> Non-native and ornamental hedgerow | C47: ='G-2 Habitat groups'!R162 -> 0 | D47: ='G-2 Habitat groups'!AD162 -> 0 | E47: ='G-2 Habitat groups'!AF162 -> 0
C48: =SUM(C44:C47) -> 0 | D48: =SUM(D44:D47) -> 0 | E48: =SUM(E44:E47) -> 0

Sheet Trading Summary WaterC's
B2: Trading Summary
B3: Distinctiveness Group | C3: Trading Rule | G3: Trading Satisfied?
B5: Very High | C5: Bespoke compensation likely to be required 🛠 | G5: =IFERROR(IF(E14<0,"No ▲","Yes ✓"),"") -> Yes ✓
B6: High | C6: Same habitat required = | G6: =IF(H22<0, "No ▲","Yes ✓") -> Yes ✓
B7: Medium | C7: Same habitat required = | G7: =IF(H30<0, "No ▲","Yes ✓") -> Yes ✓
B8: Low | C8: Better distinctiveness habitat required | G8: =IF(H42<0,"No ▲","Yes ✓") -> Yes ✓
B11: Very High Distinctiveness | G11: Very High Distinctiveness Summary
B12: Habitat group | C12: On-site unit change | D12: Off-site unit change | E12: Project-wide unit change | G12: Very High Distinctiveness Units available to offset lower distinctiveness deficit | H12: =SUMIF($E$13:$E$13,">0") -> 0
B13: ='G-2 Habitat groups'!A172 -> Priority habitat | C13: ='G-2 Habitat groups'!R172 -> 0 | D13: ='G-2 Habitat groups'!AD172 -> 0 | E13: ='G-2 Habitat groups'!AF172 -> 0
C14: =SUM(C13:C13) -> 0 | D14: =SUM(D13:D13) -> 0 | E14: =SUM(E13:E13) -> 0
B20: High Distinctiveness | G20: High Distinctiveness Summary
B21: Habitat group | C21: On-site unit change | D21: Off-site unit change | E21: Project-wide unit change | G21: High Distinctiveness Units available to offset lower distinctiveness deficit | H21: =IF(E23>0, E23, 0) -> 0
B22: ='G-2 Habitat groups'!A173 -> Other rivers and streams | C22: ='G-2 Habitat groups'!R173 -> 0 | D22: ='G-2 Habitat groups'!AD173 -> 0 | E22: ='G-2 Habitat groups'!AF173 -> 0 | G22: Unit Deficit; Like for like not satisfied | H22: =IF(E23<0, E23, 0) -> 0
C23: =SUM(C22:C22) -> 0 | D23: =SUM(D22:D22) -> 0 | E23: =SUM(E22:E22) -> 0
B28: Medium Distinctiveness | G28: Medium Distinctiveness Summary
B29: Habitat group | C29: On-site unit change | D29: Off-site unit change | E29: Project wide unit change | G29: Medium Distinctiveness Units available to offset Lower Distinctiveness Deficit | H29: =SUMIF(E30:E31, ">0") -> 0
B30: ='G-2 Habitat groups'!A174 -> Ditches | C30: ='G-2 Habitat groups'!R174 -> 0 | D30: ='G-2 Habitat groups'!AD174 -> 0 | E30: ='G-2 Habitat groups'!AF174 -> 0 | G30: Unit Deficit; Like for like not satisfied | H30: =SUMIF(E30:E31, "<0", E30:E31) -> 0
B31: ='G-2 Habitat groups'!A175 -> Canals | C31: ='G-2 Habitat groups'!R175 -> 0 | D31: ='G-2 Habitat groups'!AD175 -> 0 | E31: ='G-2 Habitat groups'!AF175 -> 0
C32: =SUM(C30:C31) -> 0 | D32: =SUM(D30:D31) -> 0 | E32: =SUM(E30:E31) -> 0
B40: Low Distinctiveness | G40: Low Distinctiveness Summary
B41: Habitat group | C41: On-site unit change | D41: Off-site unit change | E41: Project wide unit change | G41: Low Distinctiveness net change in units | H41: =E43 -> 0
B42: ='G-2 Habitat groups'!A176 -> Culvert | C42: ='G-2 Habitat groups'!R176 -> 0 | D42: ='G-2 Habitat groups'!AD176 -> 0 | E42: ='G-2 Habitat groups'!AF176 -> 0 | G42: Cumulative availability of units | H42: =H41+(H29+H21+H12) -> 0
C43: =SUM(C42:C42) -> 0 | D43: =D42 -> 0 | E43: =SUM(E42:E42) -> 0

Sheet Off-site gain site summary
B3: Summary of sites providing area habitat unit gains | N3: Summary of sites providing hedgerow unit gains | W3: Summary of sites providing watercourse unit gains
B5: Gain site reference | C5: Off-site units baseline | D5: Off-site units retained | F5: Off-site units enhanced | H5: Off-site unit creation | J5: Off-site unit change per gain site (pre-SRM) | K5: SRM | L5: Off-site unit change per gain site (post-SRM) | N5: Gain site reference | O5: Off-site units baseline | P5: Off-site units retained | Q5: Off-site units enhanced | R5: Off-site unit creation | S5: Off-site unit change per gain site (pre-SRM) | T5: SRM | U5: Off-site unit change per gain site (post-SRM) | W5: Gain site reference | X5: Off-site units baseline | Y5: Off-site units retained | Z5: Off-site units enhanced | AA5: Off-site units Created | AB5: Off-site unit change per gain site (pre-SRM) | AC5: SRM | AD5: Off-site unit change per gain site (post-SRM)
A7: ='D-1 Off-Site Habitat Baseline'!AF11 -> 0 | B7: {=_xlfn.UNIQUE(_xlfn._xlws.FILTER(A7:A747,A7:A747<>0))} -> #VALUE! | C7: =SUMIF('D-1 Off-Site Habitat Baseline'!AF11:AF14,B7,'D-1 Off-Site Habitat Baseline'!T11:T14) -> 0 | D7: =SUMIF('D-1 Off-Site Habitat Baseline'!$AF$11:$AF$258,'Off-site gain site summary'!$B$7,'D-1 Off-Site Habitat Baseline'!$X$11:$X$258) -> 0 | F7: =SUMIF('D-3 Off-Site Habitat Enhancment'!$AU$12:$AU$258,'Off-site gain site summary'!B7,'D-3 Off-Site Habitat Enhancment'!$AQ$12:$AQ$258) -> 0 | H7: =SUMIF('D-2 Off-Site Habitat Creation'!$AF$11:$AF$256,'Off-site gain site summary'!B7,'D-2 Off-Site Habitat Creation'!$AB$11:$AB$256) -> 0 | J7: =(H7+F7+D7)-(C7) -> 0 | K7: =IFERROR(_xlfn.XLOOKUP(B7,'D-2 Off-Site Habitat Creation'!$AF$11:$AF$256,'D-2 Off-Site Habitat Creation'!$Z$11:$Z$256), IFERROR(_xlfn.XLOOKUP(B7,'D-1 Off-Site Habitat Baseline'!AF11:AF258,'D-1 Off-Site Habitat Baseline'!S11:S258), " ")) | L7: =IF(J7>0,IFERROR(J7*K7, "0"), J7) -> 0 | M7: ='E-1 Off-Site Hedge Baseline'!AB10 -> 0 | N7: {=_xlfn.UNIQUE(_xlfn._xlws.FILTER(M7:M745,M7:M745<>0))} -> #VALUE! | O7: =SUMIF('E-1 Off-Site Hedge Baseline'!AB10:AB257,'Off-site gain site summary'!N7,'E-1 Off-Site Hedge Baseline'!Q10:Q257) -> 0 | P7: =SUMIF('E-1 Off-Site Hedge Baseline'!$AB$10:$AB$257,'Off-site gain site summary'!$N7,'E-1 Off-Site Hedge Baseline'!$U$10:$U$257) -> 0 | Q7: =SUMIF('E-3 Off-Site Hedge Enhancement'!$AO$12:$AO$257,'Off-site gain site summary'!$N7,'E-3 Off-Site Hedge Enhancement'!$AK$12:$AK$257) -> 0 | R7: =SUMIF('E-2 Off-Site Hedge Creation'!$AD$12:$AD$259,'Off-site gain site summary'!$N7,'E-2 Off-Site Hedge Creation'!$Z$12:$Z$259) -> 0 | S7: =(R7+Q7+P7)-O7 -> 0 | T7: =IFERROR(_xlfn.XLOOKUP(N7,'E-2 Off-Site Hedge Creation'!AD12:AD259,'E-2 Off-Site Hedge Creation'!N12:N259), IFERROR(_xlfn.XLOOKUP(N7,'E-1 Off-Site Hedge Baseline'!AB10:AB257,'E-1 Off-Site Hedge Baseline'!P10:P257), " ")) | U7: =IF(S7>0,IFERROR(S7*T7, "0"), S7) -> 0 | V7: ='F-1 Off-Site WaterC'' Baseline'!AG10 -> 0 | W7: {=_xlfn.UNIQUE(_xlfn._xlws.FILTER(V7:V748, V7:V748<>0))} -> #VALUE! | X7: =SUMIF('F-1 Off-Site WaterC'' Baseline'!$AG$10:$AG$257,'Off-site gain site summary'!$W7,'F-1 Off-Site WaterC'' Baseline'!$U$10:$U$257) -> 0 | Y7: =SUMIF('F-1 Off-Site WaterC'' Baseline'!$AG$10:$AG$257,'Off-site gain site summary'!$W7,'F-1 Off-Site WaterC'' Baseline'!$Y$10:$Y$257) -> 0 | Z7: =SUMIF('F-3 Off-Site WaterC Enhancement'!$AT$12:$AT$257,'Off-site gain site summary'!$W7,'F-3 Off-Site WaterC Enhancement'!$AP$12:$AP$257) -> 0 | AA7: =SUMIF('F-2 Off-Site WaterC'' Creation'!$AG$12:$AG$259,'Off-site gain site summary'!$W7,'F-2 Off-Site WaterC'' Creation'!$AC$12:$AC$259) -> 0 | AB7: =(Z7+AA7+Y7)-X7 -> 0 | AC7: =IFERROR(_xlfn.XLOOKUP(W7,'F-2 Off-Site WaterC'' Creation'!AG12:AG258,'F-2 Off-Site WaterC'' Creation'!AA12:AA259), IFERROR(_xlfn.XLOOKUP(W7,'F-1 Off-Site WaterC'' Baseline'!AG10:AG257,'F-1 Off-Site WaterC'' Baseline'!T10:T257)," ")) | AD7: =IF(AB7>0,IFERROR(AB7*AC7, "0"), AB7) -> 0
A8: ='D-1 Off-Site Habitat Baseline'!AF12 -> 0 | C8: =SUMIF('D-1 Off-Site Habitat Baseline'!AF12:AF15,B8,'D-1 Off-Site Habitat Baseline'!T12:T15) -> 0 | D8: =SUMIF('D-1 Off-Site Habitat Baseline'!$AF$11:$AF$258,'Off-site gain site summary'!$B$7,'D-1 Off-Site Habitat Baseline'!$X$11:$X$258) -> 0 | F8: =SUMIF('D-3 Off-Site Habitat Enhancment'!$AU$12:$AU$258,'Off-site gain site summary'!B8,'D-3 Off-Site Habitat Enhancment'!$AQ$12:$AQ$258) -> 0 | H8: =SUMIF('D-2 Off-Site Habitat Creation'!$AF$11:$AF$256,'Off-site gain site summary'!B8,'D-2 Off-Site Habitat Creation'!$AB$11:$AB$256) -> 0 | J8: =(H8+F8+D8)-(C8) -> 0 | K8: =IFERROR(_xlfn.XLOOKUP(B8,'D-2 Off-Site Habitat Creation'!$AF$11:$AF$256,'D-2 Off-Site Habitat Creation'!$Z$11:$Z$256), IFERROR(_xlfn.XLOOKUP(B8,'D-1 Off-Site Habitat Baseline'!AF12:AF259,'D-1 Off-Site Habitat Baseline'!S12:S259), " ")) | L8: =IF(J8>0,IFERROR(J8*K8, "0"), J8) -> 0 | M8: ='E-1 Off-Site Hedge Baseline'!AB11 -> 0 | O8: =SUMIF('E-1 Off-Site Hedge Baseline'!AB11:AB258,'Off-site gain site summary'!N8,'E-1 Off-Site Hedge Baseline'!Q11:Q258) -> 0 | P8: =SUMIF('E-1 Off-Site Hedge Baseline'!$AB$10:$AB$257,'Off-site gain site summary'!$N8,'E-1 Off-Site Hedge Baseline'!$U$10:$U$257) -> 0 | Q8: =SUMIF('E-3 Off-Site Hedge Enhancement'!$AO$12:$AO$257,'Off-site gain site summary'!$N8,'E-3 Off-Site Hedge Enhancement'!$AK$12:$AK$257) -> 0 | R8: =SUMIF('E-2 Off-Site Hedge Creation'!$AD$12:$AD$259,'Off-site gain site summary'!$N8,'E-2 Off-Site Hedge Creation'!$Z$12:$Z$259) -> 0 | S8: =(R8+Q8+P8)-O8 -> 0 | T8: =IFERROR(_xlfn.XLOOKUP(N8,'E-2 Off-Site Hedge Creation'!AD13:AD260,'E-2 Off-Site Hedge Creation'!N13:N260), IFERROR(_xlfn.XLOOKUP(N8,'E-1 Off-Site Hedge Baseline'!AB11:AB258,'E-1 Off-Site Hedge Baseline'!P11:P258), " ")) | U8: =IF(S8>0,IFERROR(S8*T8, "0"), S8) -> 0 | V8: ='F-1 Off-Site WaterC'' Baseline'!AG11 -> 0 | X8: =SUMIF('F-1 Off-Site WaterC'' Baseline'!$AG$10:$AG$257,'Off-site gain site summary'!$W8,'F-1 Off-Site WaterC'' Baseline'!$U$10:$U$257) -> 0 | Y8: =SUMIF('F-1 Off-Site WaterC'' Baseline'!$AG$10:$AG$257,'Off-site gain site summary'!$W8,'F-1 Off-Site WaterC'' Baseline'!$Y$10:$Y$257) -> 0 | Z8: =SUMIF('F-3 Off-Site WaterC Enhancement'!$AT$12:$AT$257,'Off-site gain site summary'!$W8,'F-3 Off-Site WaterC Enhancement'!$AP$12:$AP$257) -> 0 | AA8: =SUMIF('F-2 Off-Site WaterC'' Creation'!$AG$12:$AG$259,'Off-site gain site summary'!$W8,'F-2 Off-Site WaterC'' Creation'!$AC$12:$AC$259) -> 0 | AB8: =(Z8+AA8+Y8)-X8 -> 0 | AC8: =IFERROR(_xlfn.XLOOKUP(W8,'F-2 Off-Site WaterC'' Creation'!AG13:AG259,'F-2 Off-Site WaterC'' Creation'!AA13:AA260), IFERROR(_xlfn.XLOOKUP(W8,'F-1 Off-Site WaterC'' Baseline'!AG11:AG258,'F-1 Off-Site WaterC'' Baseline'!T11:T258)," ")) | AD8: =IF(AB8>0,IFERROR(AB8*AC8, "0"), AB8) -> 0
A9: ='D-1 Off-Site Habitat Baseline'!AF13 -> 0 | C9: =SUMIF('D-1 Off-Site Habitat Baseline'!AF13:AF16,B9,'D-1 Off-Site Habitat Baseline'!T13:T16) -> 0 | D9: =SUMIF('D-1 Off-Site Habitat Baseline'!$AF$11:$AF$258,'Off-site gain site summary'!$B$7,'D-1 Off-Site Habitat Baseline'!$X$11:$X$258) -> 0 | F9: =SUMIF('D-3 Off-Site Habitat Enhancment'!$AU$12:$AU$258,'Off-site gain site summary'!B9,'D-3 Off-Site Habitat Enhancment'!$AQ$12:$AQ$258) -> 0 | H9: =SUMIF('D-2 Off-Site Habitat Creation'!$AF$11:$AF$256,'Off-site gain site summary'!B9,'D-2 Off-Site Habitat Creation'!$AB$11:$AB$256) -> 0 | J9: =(H9+F9+D9)-(C9) -> 0 | K9: =IFERROR(_xlfn.XLOOKUP(B9,'D-2 Off-Site Habitat Creation'!$AF$11:$AF$256,'D-2 Off-Site Habitat Creation'!$Z$11:$Z$256), IFERROR(_xlfn.XLOOKUP(B9,'D-1 Off-Site Habitat Baseline'!AF13:AF260,'D-1 Off-Site Habitat Baseline'!S13:S260), " ")) | L9: =IF(J9>0,IFERROR(J9*K9, "0"), J9) -> 0 | M9: ='E-1 Off-Site Hedge Baseline'!AB12 -> 0 | O9: =SUMIF('E-1 Off-Site Hedge Baseline'!AB12:AB259,'Off-site gain site summary'!N9,'E-1 Off-Site Hedge Baseline'!Q12:Q259) -> 0 | P9: =SUMIF('E-1 Off-Site Hedge Baseline'!$AB$10:$AB$257,'Off-site gain site summary'!$N9,'E-1 Off-Site Hedge Baseline'!$U$10:$U$257) -> 0 | Q9: =SUMIF('E-3 Off-Site Hedge Enhancement'!$AO$12:$AO$257,'Off-site gain site summary'!$N9,'E-3 Off-Site Hedge Enhancement'!$AK$12:$AK$257) -> 0 | R9: =SUMIF('E-2 Off-Site Hedge Creation'!$AD$12:$AD$259,'Off-site gain site summary'!$N9,'E-2 Off-Site Hedge Creation'!$Z$12:$Z$259) -> 0 | S9: =(R9+Q9+P9)-O9 -> 0 | T9: =IFERROR(_xlfn.XLOOKUP(N9,'E-2 Off-Site Hedge Creation'!AD14:AD261,'E-2 Off-Site Hedge Creation'!N14:N261), IFERROR(_xlfn.XLOOKUP(N9,'E-1 Off-Site Hedge Baseline'!AB12:AB259,'E-1 Off-Site Hedge Baseline'!P12:P259), " ")) | U9: =IF(S9>0,IFERROR(S9*T9, "0"), S9) -> 0 | V9: ='F-1 Off-Site WaterC'' Baseline'!AG12 -> 0 | X9: =SUMIF('F-1 Off-Site WaterC'' Baseline'!$AG$10:$AG$257,'Off-site gain site summary'!$W9,'F-1 Off-Site WaterC'' Baseline'!$U$10:$U$257) -> 0 | Y9: =SUMIF('F-1 Off-Site WaterC'' Baseline'!$AG$10:$AG$257,'Off-site gain site summary'!$W9,'F-1 Off-Site WaterC'' Baseline'!$Y$10:$Y$257) -> 0 | Z9: =SUMIF('F-3 Off-Site WaterC Enhancement'!$AT$12:$AT$257,'Off-site gain site summary'!$W9,'F-3 Off-Site WaterC Enhancement'!$AP$12:$AP$257) -> 0 | AA9: =SUMIF('F-2 Off-Site WaterC'' Creation'!$AG$12:$AG$259,'Off-site gain site summary'!$W9,'F-2 Off-Site WaterC'' Creation'!$AC$12:$AC$259) -> 0 | AB9: =(Z9+AA9+Y9)-X9 -> 0 | AC9: =IFERROR(_xlfn.XLOOKUP(W9,'F-2 Off-Site WaterC'' Creation'!AG14:AG260,'F-2 Off-Site WaterC'' Creation'!AA14:AA261), IFERROR(_xlfn.XLOOKUP(W9,'F-1 Off-Site WaterC'' Baseline'!AG12:AG259,'F-1 Off-Site WaterC'' Baseline'!T12:T259)," ")) | AD9: =IF(AB9>0,IFERROR(AB9*AC9, "0"), AB9) -> 0
