Workbook
Name AA: 'G-7 WaterC'' Data'!$B$4
Name AllHabsSummaryData: '[1]G-2 Habitat groups'!$A$3:$AF$135
Name AllHabsSummaryData: 'G-2 Habitat groups'!$A$3:$AF$135
Name BaselineHabOffsite: '[1]D-1 Off-Site Habitat Baseline'!$D$11:$AA$258
Name BaselineHabOffsite: 'D-1 Off-Site Habitat Baseline'!$D$11:$AA$258
Name BaselineHabSite: '[1]A-1 On-Site Habitat Baseline'!$D$11:$X$258
Name BaselineHabSite: 'A-1 On-Site Habitat Baseline'!$D$11:$X$258
Name baselineimage: Start!$D$39:$G$53
Name baselineimageOS: Start!$D$60:$G$65
Name Coastal_lagoons: 'G-1 All Habitats'!$A$103
Name Coastal_saltmarsh: 'G-1 All Habitats'!$A$112:$A$113
Name Cond1: 'G-8 Condition Look up'!$J$5
Name Cond2: 'G-8 Condition Look up'!$K$5
Name Cond3: 'G-8 Condition Look up'!$L$5
Name Cond4: 'G-8 Condition Look up'!$M$5:$M$9
Name Cond5: 'G-8 Condition Look up'!$N$5
Name Condition: 'G-8 Condition Look up'!$B$3:$H$3
Name ConditionData: 'G-8 Condition Look up'!$A$4:$H$102
Name ConditionHabitats: 'G-8 Condition Look up'!$A$4:$A$128
Name Cropland: 'G-1 All Habitats'!$A$3:$A$12
Name Difficulty: '[1]G-3 Multipliers'!$P$3:$Q$6
Name Difficulty: 'G-3 Multipliers'!$P$3:$Q$6
Name Encroachment1: 'G-7 WaterC'' Data'!$AD$4:$AD$13
Name Encroachment2: 'G-7 WaterC'' Data'!$AD$14
Name EnhanceCondition: '[1]G-5 Enhancement Temporal'!$C$4:$X$4
Name EnhanceCondition: 'G-5 Enhancement Temporal'!$C$4:$X$4
Name EnhanceHabitat: '[1]G-5 Enhancement Temporal'!$C$4:$C$136
Name EnhanceHabitat: 'G-5 Enhancement Temporal'!$C$4:$C$136
Name EnhanceTemporal: '[1]G-5 Enhancement Temporal'!$C$4:$X$136
Name EnhanceTemporal: 'G-5 Enhancement Temporal'!$C$4:$X$136
Name Grassland: 'G-1 All Habitats'!$A$13:$A$25
Name Heathland_and_shrub: 'G-1 All Habitats'!$A$26:$A$38
Name HedgeCond: 'G-6 Hedgerow Data'!$B$2:$T$2
Name Hedgecond1: 'G-6 Hedgerow Data'!$BK$3:$BK$5
Name Hedgecond2: 'G-6 Hedgerow Data'!$BL$3
Name HedgeData: 'G-6 Hedgerow Data'!$B$2:$T$15
Name HedgeType: 'G-6 Hedgerow Data'!$B$2:$B$15
Name Individual_trees: 'G-1 All Habitats'!$A$80:$A$81
Name Individualtrees: 'G-1 All Habitats'!$A$79:$A$80
Name Intertidal_hard_structures: 'G-1 All Habitats'!$A$131:$A$133
Name Intertidal_sediment: 'G-1 All Habitats'!$A$114:$A$130
Name Lakes: 'G-1 All Habitats'!$A$39:$A$49
Name LPAList: Lists!$A$1:$A$378
Name postdevelopmentimage: Start!$I$39:$O$53
Name postdevelopmentimageOS: Start!$I$60:$O$65
Name RetCatChecks: 'A-1 On-Site Habitat Baseline'!$AE$11:$AH$258
Name riparianencroachment1: 'G-7 WaterC'' Data'!$AA$4:$AA$6
Name riparianencroachment2: 'G-7 WaterC'' Data'!$AA$7
Name Rivercond1: 'G-7 WaterC'' Data'!$BB$3:$BB$7
Name Rivercond2: 'G-7 WaterC'' Data'!$BC$3
Name RiverCondition: 'G-7 WaterC'' Data'!$B$3:$X$3
Name RiverEnhanceTemporal: 'G-7 WaterC'' Data'!$B$4:$X$12
Name RiverHabitat: 'G-7 WaterC'' Data'!$B$4:$B$14
Name RiversEnhancment: 'G-7 WaterC'' Data'!$O$3:$X$5
Name Rocky_shore: 'G-1 All Habitats'!$A$104:$A$111
Name Sparsely_vegetated_land: 'G-1 All Habitats'!$A$50:$A$58
Name TemporalConditions: '[1]G-4 Temporal multipliers'!$F$3:$M$3
Name TemporalConditions: 'G-4 Temporal multipliers'!$F$3:$M$3
Name TemporalData: '[1]G-4 Temporal multipliers'!$F$3:$M$135
Name TemporalData: 'G-4 Temporal multipliers'!$F$3:$M$135

Sheet Introduction

Sheet Start
D8: 4
D9: Project details
D11: Planning authority: | F11: Rochdale Borough Council
D12: Project name: | F12: Broadfield Park Slopes (‘The Slopes’), The Esplanade, Rochdale, OL16 1AQ
D13: Applicant: | F13: Rochdale Development Agency
D14: Application type: | F14: Full
D15: Planning application reference: | F15: 23/01394/LBC
D16: Completed by: | F16: Anthony Nickson
D17: Date of metric completion: | F17: 45350
D18: Reviewer:
D19: Version control:
D20: Consenting body reviewer:
D21: Date of consenting body review:
D22: Target % net gain: | F22: 0 | I22: =IF(OR(F22>=10%,F22=""),"","Target set below 10% ▲") -> Target set below 10% ▲
D23: Irreplaceable habitat present on-site at baseline: | F23: No | I23: =IF(F23="Yes","Irreplaceable habitats at baseline, you must fill in the irreplaceable habitat tab ⚠",IF(F23="","You must specify if irreplaceable habitats are on-site at baseline ▲",""))
D24: Total site area (including irreplaceable habitat area): | F24: ='Detailed Results'!D21+'Irreplaceable Habitats'!S38 -> 0.5385 | I24: Irreplaceable habitat area at baseline: | J24: ='Irreplaceable Habitats'!M32 -> 0
D27: Contains deviations from the statutory metric - this must be agreed with consenting body | I27: =IF(F27="Yes", "Only acceptable in exceptionally rare circumstances, ensure any deviations have been agreed with the consenting body ⚠", "")
D29: Cell style conventions
D30: ⚠ | F30: Attention required
D31: ▲ | F31: Input error/rules and principles not met
F32: Use of this cell is not appropriate
F33: Enter data
F34: Automatic lookup
F35: Result
D55: On-site baseline map reference number | I55: On-site post-intervention map reference number
D66: Off-site baseline map reference number | I66: Off-site post-intervention reference number

Sheet Instructions

Sheet Irreplaceable Habitats
B2: Irreplaceable habitats
B4: 👁 For further information please refer to the irreplaceable habitats section of the metric user guide.
B9: Habitat module type | E9: Habitat type | K9: Length (km) | M9: Area (ha) | O9: Habitat retained, enhanced, or lost? | S9: Is the habitat included in the relevant baseline tab? | U9: Notes and metric sheet reference | Z9: Has bespoke compensation been agreed with the relevant consenting body?
AA10: =IF(AND($O10="Lost", $Z10<>"Yes"), "Irreplaceable habitat lost, bespoke compensation must be agreed with concenting body ▲", "") | AB10: =IF(S10="Yes","Please provide a reference to the row number within the baseline where this habitat is mentioned ⚠", "")
AA11: =IF(AND($O11="Lost", $Z11<>"Yes"), "Irreplaceable habitat lost, bespoke compensation must be agreed with concenting body ▲", "") | AB11: =IF(S11="Yes","Please provide a reference to the row number within the baseline where this habitat is mentioned ⚠", "")
AA12: =IF(AND($O12="Lost", $Z12<>"Yes"), "Irreplaceable habitat lost, bespoke compensation must be agreed with concenting body ▲", "") | AB12: =IF(S12="Yes","Please provide a reference to the row number within the baseline where this habitat is mentioned ⚠", "")
AA13: =IF(AND($O13="Lost", $Z13<>"Yes"), "Irreplaceable habitat lost, bespoke compensation must be agreed with concenting body ▲", "") | AB13: =IF(S13="Yes","Please provide a reference to the row number within the baseline where this habitat is mentioned ⚠", "")
AA14: =IF(AND($O14="Lost", $Z14<>"Yes"), "Irreplaceable habitat lost, bespoke compensation must be agreed with concenting body ▲", "") | AB14: =IF(S14="Yes","Please provide a reference to the row number within the baseline where this habitat is mentioned ⚠", "")
AA15: =IF(AND($O15="Lost", $Z15<>"Yes"), "Irreplaceable habitat lost, bespoke compensation must be agreed with concenting body ▲", "") | AB15: =IF(S15="Yes","Please provide a reference to the row number within the baseline where this habitat is mentioned ⚠", "")
AA16: =IF(AND($O16="Lost", $Z16<>"Yes"), "Irreplaceable habitat lost, bespoke compensation must be agreed with concenting body ▲", "") | AB16: =IF(S16="Yes","Please provide a reference to the row number within the baseline where this habitat is mentioned ⚠", "")
AA17: =IF(AND($O17="Lost", $Z17<>"Yes"), "Irreplaceable habitat lost, bespoke compensation must be agreed with concenting body ▲", "") | AB17: =IF(S17="Yes","Please provide a reference to the row number within the baseline where this habitat is mentioned ⚠", "")
AA18: =IF(AND($O18="Lost", $Z18<>"Yes"), "Irreplaceable habitat lost, bespoke compensation must be agreed with concenting body ▲", "") | AB18: =IF(S18="Yes","Please provide a reference to the row number within the baseline where this habitat is mentioned ⚠", "")
AA19: =IF(AND($O19="Lost", $Z19<>"Yes"), "Irreplaceable habitat lost, bespoke compensation must be agreed with concenting body ▲", "") | AB19: =IF(S19="Yes","Please provide a reference to the row number within the baseline where this habitat is mentioned ⚠", "")
AA20: =IF(AND($O20="Lost", $Z20<>"Yes"), "Irreplaceable habitat lost, bespoke compensation must be agreed with concenting body ▲", "") | AB20: =IF(S20="Yes","Please provide a reference to the row number within the baseline where this habitat is mentioned ⚠", "")
AA21: =IF(AND($O21="Lost", $Z21<>"Yes"), "Irreplaceable habitat lost, bespoke compensation must be agreed with concenting body ▲", "") | AB21: =IF(S21="Yes","Please provide a reference to the row number within the baseline where this habitat is mentioned ⚠", "")
... AA31: =IF(AND($O31="Lost", $Z31<>"Yes"), "Irreplaceable habitat lost, bespoke compensation must be agreed with concenting body ▲", "") | AB31: =IF(S31="Yes","Please provide a reference to the row number within the baseline where this habitat is mentioned ⚠", "")
K32: =SUM(K10:L31) -> 0 | M32: =SUM(M10:N31) -> 0
B35: Ancient/Veteran trees (No of trees): | K35: Trees retained: | O35: Trees enhanced: | S35: Trees lost: | U35: Total number of trees: | W35: =M35+Q35+T35 -> 0
S36: =SUMIF(S10:S31,"Yes",M11:N31) -> 0
B37: Summary table | S37: =M32-S36 -> 0
B38: Area habitats | S38: =SUMIF(S10:S31,"No",M10:N31) -> 0
B39: Total site area (ha) | I39: =K32-S36 -> 0
B40: Total irreplaceable habitats area (ha) | I40: =M32 -> 0
B41: % Area of site taken up by irreplaceable habitats (ha) | I41: =IF(OR(M32=0,I39=0),"0.00",(M32/I39)) -> 0.00
B42: Total retained irreplaceable habitat area (ha) | I42: =SUMIF(O10:R31, "Retained",M10:N31) -> 0
B43: Total enhanced irreplaceable habitat area (ha) | I43: =SUMIF(O10:R31,"Enhanced",M11:N31) -> 0
B44: Total lost irreplaceable habitat area (ha) | I44: =SUMIF(O10:R31, "Lost",M10:N31) -> 0 | O44: Yes
B45: Hedgerows | O45: No
B46: Total irreplaceable hedgerow length (km) | I46: =SUMIF(B10:D31, "=Hedgerows",K10:L31) -> 0
B47: Total retained irreplaceable hedgerow length (km) | I47: =SUM(SUMIFS(K10:K31,B10:B31, ("=Hedgerows"),O10:O31, ("=Retained"))) -> 0 | O47: Hedgerows
B48: Total enhanced irreplaceable hedgerow length (km) | I48: =SUM(SUMIFS(K10:K31,B10:B31, ("=Hedgerows"),O10:O31, ("=Enhanced"))) -> 0 | O48: Yes
B49: Total lost irreplaceable hedgerow length (km) | I49: =SUM(SUMIFS(K10:K31,B10:B31, ("=Hedgerows"),O10:O31, ("=Lost"))) -> 0
B50: Watercourses
B51: Total irreplaceable watercourse length (km) | I51: =SUMIF(B10:D31, "=Watercourse",K10:L31) -> 0
B52: Total retained irreplaceable watercourse length (km) | I52: =SUMIFS(K10:K32,B10:B32, "=Watercourse", O10:O32, "=Retained") -> 0
B53: Total enhanced irreplaceable watercourse length (km) | I53: =SUMIFS(K10:K31,B10:B31, "=Watercourse", O10:O31, "=Enhanced") -> 0
B54: Total lost irreplaceable watercourse length (km) | I54: =SUM(SUMIFS(K10:K31,B10:B31, ("=Watercourse"),O10:O31, ("=Lost"))) -> 0

Sheet Main Menu
Q3: Tree helper
Q4: Tree size | R4: Number of trees and area (ha) for each condition state
R5: Poor | S5: Area | T5: Moderate | U5: Area | V5: Good | W5: Area
Q6: Small | S6: =R6*'G-3 Multipliers'!$Z$4 -> 0 | U6: =T6*'G-3 Multipliers'!$Z$4 -> 0 | W6: =V6*'G-3 Multipliers'!$Z$4 -> 0
Q7: Medium | S7: =R7*'G-3 Multipliers'!$Z$5 -> 0 | U7: =T7*'G-3 Multipliers'!$Z$5 -> 0 | W7: =V7*'G-3 Multipliers'!$Z$5 -> 0
Q8: Large | S8: =R8*'G-3 Multipliers'!$Z$6 -> 0 | U8: =T8*'G-3 Multipliers'!$Z$6 -> 0 | W8: =V8*'G-3 Multipliers'!$Z$6 -> 0
Q9: Total | R9: =SUM(R6:R8) -> 0 | S9: =SUM(S6:S8) -> 0 | T9: =SUM(T6:T8) -> 0 | U9: =SUM(U6:U8) -> 0 | V9: =SUM(V6:V8) -> 0 | W9: =SUM(W6:W8) -> 0

Sheet Results

Sheet Headline Results
B2: =IF(Start!$F$12="","",Start!$F$12) -> Broadfield Park Slopes (‘The Slopes’), The Esplanade, Rochdale, OL16 1AQ | F2: =IF(OR(B56="This metric contains deviations from the statutory metric - these deviations are only acceptable in extremely rare circumstances and must be agreed with the consenting body ⚠",B57="You must specify if irreplaceable habitats are on-site at baseline ▲",B58="Unacceptable loss of irreplaceable habitat recorded - no bespoke compensation for lossess has been agreed ▲"),"Errors flagged below - please investigate further ▲","")
B3: =MID(CELL("filename",A1),FIND("]",CELL("filename",A1))+1,256) -> Headline Results
B5: Scroll down for final results ⚠
B8: On-site baseline | F8: Habitat units | H8: =IFERROR('A-1 On-Site Habitat Baseline'!Q259,"Check Data ⚠") -> 8.69572
F9: Hedgerow units | H9: =IFERROR('B-1 On-Site Hedge Baseline'!N258,"Check Data ⚠") -> 0
F10: Watercourse units | H10: ='C-1 On-Site WaterC'' Baseline'!R258 -> 0
B12: On-site post-intervention (Including habitat retention, creation & enhancement) | F12: Habitat units | H12: =IFERROR('A-2 On-Site Habitat Creation'!Y257+'A-3 On-Site Habitat Enhancement'!AN258+'A-1 On-Site Habitat Baseline'!U259,"Check Data ⚠") -> 4.3400948
F13: Hedgerow units | H13: =IFERROR('B-2 On-Site Hedge Creation'!W260+'B-3 On-Site Hedge Enhancement'!AH258+'B-1 On-Site Hedge Baseline'!R258,"Check Data⚠") -> 0
F14: Watercourse units | H14: =IFERROR('C-2 On-Site WaterC'' Creation'!Z260 + 'C-3 On-Site WaterC'' Enhancement'!AM258+'C-1 On-Site WaterC'' Baseline'!V258,"Check Data ⚠") -> 0
B16: On-site net change (units & percentage) | F16: Habitat units | H16: =IFERROR(H12-H8, "Error ▲") -> -4.3556252 | J16: =IF(AND(H8=0, H12=0),0,IF(AND(H8=0,H12>0),"N/A",IFERROR((H12/H8)-1,"Check Data ⚠"))) -> -0.50089299 | K16: =IF(J16="N/A","Zero baseline units - % cannot be calculated",IF(OR(AND(H8=0,H12=0),J16>=Start!$F$22)," ","On-site net gain is less than target set ⚠")) -> On-site net gain is less than target set ⚠
F17: Hedgerow units | H17: =IFERROR(H13-H9, "Error ▲") -> 0 | J17: =IF(AND(H9=0, H13=0),0,IF(AND(H9=0,H13>0),"N/A",IFERROR((H13/H9)-1,"Check Data ⚠"))) -> 0 | K17: =IF(J17="N/A","Zero baseline units - % cannot be calculated",IF(OR(AND(H9=0,H13=0),J17>=Start!$F$22)," ","On-site net gain is less than target set ⚠"))
F18: Watercourse units | H18: =IFERROR(H14-H10, "Error ▲") -> 0 | J18: =IF(AND(H10=0, H14=0),0,IF(AND(H10=0,H14>0),"N/A",IFERROR((H14/H10)-1,"Check Data ⚠"))) -> 0 | K18: =IF(J18="N/A","Zero baseline units - % cannot be calculated",IF(OR(AND(H10=0,H14=0),J18>=Start!$F$22)," ","On-site net gain is less than target set ⚠"))
B20: Off-site baseline | F20: Habitat units | H20: =IFERROR('D-1 Off-Site Habitat Baseline'!T259,"Check Data ⚠") -> 0 | L20: =IFERROR('D-1 Off-Site Habitat Baseline'!Q259,"Check Data ⚠") -> 0
F21: Hedgerow units | H21: =IFERROR('E-1 Off-Site Hedge Baseline'!Q258,"Check Data ⚠") -> 0 | L21: =IFERROR('E-1 Off-Site Hedge Baseline'!N258,"Check Data ⚠") -> 0
F22: Watercourse units | H22: =IFERROR('F-1 Off-Site WaterC'' Baseline'!U258,"Check Data ⚠") -> 0 | L22: =IFERROR('F-1 Off-Site WaterC'' Baseline'!R258,"Check Data ⚠") -> 0
B24: Off-site post-intervention (Including habitat retention, creation & enhancement) | F24: Habitat units | H24: =IFERROR('D-1 Off-Site Habitat Baseline'!$X$259+'D-2 Off-Site Habitat Creation'!AB257+'D-3 Off-Site Habitat Enhancment'!AQ259,"Check Data ⚠") -> 0 | L24: =IFERROR('D-1 Off-Site Habitat Baseline'!$AY$259+'D-2 Off-Site Habitat Creation'!AA257+'D-3 Off-Site Habitat Enhancment'!AP259,"Check Data ⚠") -> 0
F25: Hedgerow units | H25: =IFERROR('E-1 Off-Site Hedge Baseline'!U258+'E-2 Off-Site Hedge Creation'!Z260+'E-3 Off-Site Hedge Enhancement'!AK258,"Check Data ⚠") -> 0 | L25: =IFERROR('E-1 Off-Site Hedge Baseline'!AY258+'E-2 Off-Site Hedge Creation'!Y260+'E-3 Off-Site Hedge Enhancement'!AJ258,"Check Data ⚠") -> 0
F26: Watercourse units | H26: =IFERROR('F-1 Off-Site WaterC'' Baseline'!Y258+'F-2 Off-Site WaterC'' Creation'!AC260+'F-3 Off-Site WaterC Enhancement'!AP258,"Check Data ⚠") -> 0 | L26: =IFERROR('F-1 Off-Site WaterC'' Baseline'!AZ258+'F-2 Off-Site WaterC'' Creation'!AB260+'F-3 Off-Site WaterC Enhancement'!AO258,"Check Data ⚠") -> 0
B28: Off-site net change (units & percentage) | F28: Habitat units | H28: =IFERROR(H24-H20, "Error ▲") -> 0 | J28: =IF(AND(H20=0, H24=0), 0,IF(AND(H20=0,H24>0),"N/A",IFERROR((H24/H20)-1,"Check Data ⚠"))) -> 0 | K28: =IF(J28="N/A","0 baseline units - % cannot be calculated") -> FALSE
F29: Hedgerow units | H29: =IFERROR(H25-H21, "Error ▲") -> 0 | J29: =IF(AND(H21=0, H25=0), 0,IF(AND(H21=0,H25>0),"N/A",IFERROR((H25/H21)-1,"Check Data ⚠"))) -> 0 | K29: =IF(J29="N/A","0 baseline units - % cannot be calculated") -> FALSE
F30: Watercourse units | H30: =IFERROR(H26-H22, "Error ▲") -> 0 | J30: =IF(AND(H22=0, H26=0), 0,IF(AND(H22=0,H26>0),"N/A",IFERROR((H26/H22)-1,"Check Data ⚠"))) -> 0 | K30: =IF(J30="N/A","0 baseline units - % cannot be calculated") -> FALSE
B32: Off-site unit change (with Spatial Risk Multiplier applied) | F32: Habitat units | H32: =IF(H28<0, "N/A", (L24-L20)) -> 0 | J32: =IF(H32="N/A", "SRM only applies where unit change is positive (uplift)", " ")
F33: Hedgerow units | H33: =IF(H29<0, "N/A", (L25-L21)) -> 0 | J33: =IF(H33="N/A", "SRM only applies where unit change is positive", " ")
F34: Watercourse units | H34: =IF(H30<0, "N/A", (L26-L22)) -> 0 | J34: =IF(H34="N/A", "SRM only applies where unit change is positive", " ")
B37: Combined net unit change (Including all on-site & off-site habitat retention, creation & enhancement) | F37: Habitat units | H37: =IFERROR((H16)+(H28),"Check Data ⚠") -> -4.3556252
F38: Hedgerow units | H38: =IFERROR((H17)+(H29),"Check Data ⚠") -> 0
F39: Watercourse units | H39: =IFERROR((H18)+(H30),"Check Data ⚠") -> 0
B41: Spatial risk multiplier (SRM) deductions | F41: Habitat units | H41: =IFERROR(H28-H32, "0.00") -> 0
F42: Hedgerow units | H42: =IFERROR(H29-H33, "0.00") -> 0
F43: Watercourse units | H43: =IFERROR(H30-H34, "0.00") -> 0
B45: FINAL RESULTS
B47: Total net unit change (Including all on-site & off-site habitat retention, creation & enhancement) | F47: Habitat units | H47: =IFERROR(IF(H32="N/A", (H12-H8)+(H28), (H12-H8)+(H32)),"Check Data ⚠") -> -4.3556252
F48: Hedgerow units | H48: =IFERROR(IF(H33="N/A", (H13-H9)+(H29), (H13-H9)+(H33)),"Check Data ⚠") -> 0
F49: Watercourse units | H49: =IFERROR(IF(H34="N/A", (H14-H10)+(H30), (H14-H10)+(H34)),"Check Data ⚠") -> 0
B51: Total net % change (Including all on-site & off-site habitat retention, creation & enhancement) | F51: Habitat units | H51: =IF(H47=0,0,IF(AND(H8=0,H20=0,H47>0),1,IFERROR((H47/H8),"Check Data ⚠"))) -> -0.50089299 | J51: =IF(H51="N/A","0 baseline units - % cannot be calculated",IF(OR(AND(H8=0,H12=0,H20=0,H24=0),H51>=Start!$F$22)," ","Total net gain achieved is less than target set ⚠")) -> Total net gain achieved is less than target set ⚠
F52: Hedgerow units | H52: =IF(AND(H48=0, H9=0),0,IF(AND(H9=0,H21=0,H48>0),"N/A",IFERROR((H48/H9),"Check Data ⚠"))) -> 0 | J52: =IF(H52="N/A","0 baseline units - % cannot be calculated",IF(OR(AND(H9=0,H13=0,H21=0,H25=0),H52>=Start!$F$22)," ","Total net gain achieved is less than target set ⚠"))
F53: Watercourse units | H53: =IF(H49=0,0,IF(AND(H10=0,H22=0,H49>0),1,IFERROR((H49/H10),"Check Data ⚠"))) -> 0 | J53: =IF(H53="N/A","0 baseline units - % cannot be calculated",IF(OR(AND(H10=0,H14=0,H22=0,H26=0),H53>=Start!$F$22)," ","Total net gain achieved is less than target set ⚠"))
B55: Trading rules satisfied? | F55: {=IF(OR('Trading Summary Area Habitats'!G5="No ▲",'Trading Summary Area Habitats'!G6="No ▲",'Trading Summary Area Habitats'!G7="No ▲",'Trading Summary Area Habitats'!G8="No ▲",'Trading Summary Hedgerows'!G5="No ▲",'Trading Summary Hedgerows'!G6:H6="No ▲", 'Trading Summary Hedgerows'!G7="No ▲", 'Trading Summary Hedgerows'!G8="No ▲", 'Trading Summary WaterC''s'!G5="No ▲", 'Trading Summary WaterC''s'!G6="No ▲", 'Trading Summary WaterC''s'!G7="No ▲", 'Trading Summary WaterC''s'!G8="No ▲"),"No - Check Trading Summaries ▲","Yes ✓")} -> No - Check Trading Summaries ▲
B56: =IF(Start!F27="Yes", "This metric contains deviations from the statutory metric - these deviations are only acceptable in extremely rare circumstances and must be agreed with the consenting body ⚠", "")
B57: =IF(Start!I23="You must specify if irreplaceable habitats are on-site at baseline ▲", "You must specify if irreplaceable habitats are on-site at baseline ▲", "")
B58: {=IF(OR('Irreplaceable Habitats'!AA10:AA31="Irreplaceable habitat lost, bespoke compensation must be agreed with concenting body ▲"), "Unacceptable loss of irreplaceable habitat recorded - no bespoke compensation for lossess has been agreed ▲", "")}
B60: Unit Type | D60: Target | E60: Baseline Units | F60: Units Required | H60: Unit Deficit
B61: Habitat units | D61: =Start!F22 -> 0 | E61: =H8 -> 8.69572 | F61: =IFERROR(E61*(1+D61), "Error ▲") -> 8.69572 | H61: =IFERROR(IF(H32="N/A",(IF(F61-(H12+(H28))<0,0,F61-(H12+(H28)))),(IF(F61-(H12+H32)<0,0,F61-(H12+H32)))), "Error ▲") -> 4.3556252 | J61: =IF(H61=0, "Unit requirement met or surpassed ✓", " ")
B62: Hedgerow units | D62: =Start!F22 -> 0 | E62: =H9 -> 0 | F62: =IFERROR(E62*(1+D62), "Error ▲") -> 0 | H62: =IFERROR(IF(H33="N/A",(IF(F62-(H13+(H29))<0,0,F62-(H13+(H29)))),(IF(F62-(H13+H33)<0,0,F62-(H13+H33)))), "Error ▲") -> 0 | J62: =IF(H62=0, "Unit requirement met or surpassed ✓", " ") -> Unit requirement met or surpassed ✓
B63: Watercourse units | D63: =Start!F22 -> 0 | E63: =H10 -> 0 | F63: =IFERROR(E63*(1+D63), "Error ▲") -> 0 | H63: =IFERROR(IF(H34="N/A",(IF(F63-(H14+(H30))<0,0,F63-(H14+(H30)))),(IF(F63-(H14+H34)<0,0,F63-(H14+H34)))), "Error ▲") -> 0 | J63: =IF(H63=0, "Unit requirement met or surpassed ✓", " ") -> Unit requirement met or surpassed ✓

Sheet Detailed Results
B2: =IF(Start!$F$12="","",Start!$F$12) -> Broadfield Park Slopes (‘The Slopes’), The Esplanade, Rochdale, OL16 1AQ
B3: =MID(CELL("filename",A1),FIND("]",CELL("filename",A1))+1,256) -> Detailed Results
B7: Summary Figures
B10: Net project biodiversity units (Including all on-site & off-site habitat retention / creation) | F10: Habitat units | H10: =IFERROR('Headline Results'!$H$47:$I$47,"Check Data ⚠") -> -4.3556252
F11: Hedgerow units | H11: =IFERROR('Headline Results'!$H$48:$I$48,"Check Data ⚠") -> 0
F12: Watercourse units | H12: =IFERROR('Headline Results'!$H$49:$I$49,"Check Data ⚠") -> 0
B14: Total project biodiversity % change (Including all on-site & off-site habitat creation + retained habitats) | F14: Habitat units | H14: =IFERROR('Headline Results'!$H$51:$I$51,"Check Data ⚠") -> -0.50089299
F15: Hedgerow units | H15: =IFERROR('Headline Results'!$H$52:$I$52,"Check Data ⚠") -> 0
F16: Watercourse units | H16: =IFERROR('Headline Results'!$H$53:$I$53,"Check Data ⚠") -> 0
B18: Combined habitat retention and enhancement
D20: Habitats | F20: Hedgerows | H20: Watercourses
B21: Total on-site and off-site baseline area / length | D21: =IF(AND($K$40=0,'A-1 On-Site Habitat Baseline'!Y11:Y258<>"No",'D-1 Off-Site Habitat Baseline'!AB11:AB258<>"No"),'A-1 On-Site Habitat Baseline'!$H259+'D-1 Off-Site Habitat Baseline'!H259,"Error ▲") -> 0.5385 | F21: ='B-1 On-Site Hedge Baseline'!$E$258+'E-1 Off-Site Hedge Baseline'!$E$258 -> 0 | H21: ='C-1 On-Site WaterC'' Baseline'!$E$258+'F-1 Off-Site WaterC'' Baseline'!$E$258 -> 0
B22: Total on-site and off-site baseline units | D22: =IF(AND($K$40=0,'A-1 On-Site Habitat Baseline'!Y11:Y258<>"No",'D-1 Off-Site Habitat Baseline'!AB11:AB258<>"No"),'A-1 On-Site Habitat Baseline'!$Q259+'D-1 Off-Site Habitat Baseline'!T259,"Error ▲") -> 8.69572 | F22: ='B-1 On-Site Hedge Baseline'!$N$258+'E-1 Off-Site Hedge Baseline'!$Q$258 -> 0 | H22: ='C-1 On-Site WaterC'' Baseline'!$R$258+'F-1 Off-Site WaterC'' Baseline'!$U$258 -> 0
B24: Total on-site and off-site baseline area / length retained | D24: =IF(AND($K$40=0,'A-1 On-Site Habitat Baseline'!Y11:Y258<>"No",'D-1 Off-Site Habitat Baseline'!AB11:AB258<>"No"),'A-1 On-Site Habitat Baseline'!$S259+'D-1 Off-Site Habitat Baseline'!V259,"Error ▲") -> 0.1284 | F24: ='B-1 On-Site Hedge Baseline'!$P$258+'E-1 Off-Site Hedge Baseline'!$S$258 -> 0 | H24: ='C-1 On-Site WaterC'' Baseline'!T258+'F-1 Off-Site WaterC'' Baseline'!W258 -> 0
B25: Total on-site and off-site baseline units retained | D25: =IF(AND($K$40=0,'A-1 On-Site Habitat Baseline'!Y11:Y258<>"No",'D-1 Off-Site Habitat Baseline'!AB11:AB258<>"No"),'A-1 On-Site Habitat Baseline'!$U259+'D-1 Off-Site Habitat Baseline'!X259,"Error ▲") -> 2.46222 | F25: ='B-1 On-Site Hedge Baseline'!R258+'E-1 Off-Site Hedge Baseline'!U258 -> 0 | H25: ='C-1 On-Site WaterC'' Baseline'!V258+'F-1 Off-Site WaterC'' Baseline'!Y258 -> 0
B27: Area / length proposed for enhancement | D27: =IF(AND($K$40=0,'A-1 On-Site Habitat Baseline'!Y11:Y258<>"No",'D-1 Off-Site Habitat Baseline'!AB11:AB258<>"No"),'A-1 On-Site Habitat Baseline'!$T259+'D-1 Off-Site Habitat Baseline'!W259,"Error ▲") -> 0 | F27: ='B-1 On-Site Hedge Baseline'!$Q$258+'E-1 Off-Site Hedge Baseline'!$T$258 -> 0 | H27: ='C-1 On-Site WaterC'' Baseline'!U258+'F-1 Off-Site WaterC'' Baseline'!X258 -> 0
B28: Baseline units proposed for enhancement | D28: =IF(AND($K$40=0,'A-1 On-Site Habitat Baseline'!Y11:Y258<>"No",'D-1 Off-Site Habitat Baseline'!AB11:AB258<>"No"),'A-1 On-Site Habitat Baseline'!$V259+'D-1 Off-Site Habitat Baseline'!Y259,"Error ▲") -> 0 | F28: ='B-1 On-Site Hedge Baseline'!$S$258+'E-1 Off-Site Hedge Baseline'!$V$258 -> 0 | H28: ='C-1 On-Site WaterC'' Baseline'!W258+'F-1 Off-Site WaterC'' Baseline'!Z258 -> 0
B30: Total on-site and off-site baseline area / length lost | D30: =IF(AND($K$40=0,'A-1 On-Site Habitat Baseline'!Y11:Y258<>"No",'D-1 Off-Site Habitat Baseline'!AB11:AB258<>"No"),'A-1 On-Site Habitat Baseline'!$W259+'D-1 Off-Site Habitat Baseline'!Z259,"Error ▲") -> 0.4101 | F30: ='B-1 On-Site Hedge Baseline'!$T$258+'E-1 Off-Site Hedge Baseline'!$W$258 -> 0 | H30: ='C-1 On-Site WaterC'' Baseline'!X258+'F-1 Off-Site WaterC'' Baseline'!AA258 -> 0
B31: Total on-site and off-site baseline units lost | D31: =IF(AND($K$40=0,'A-1 On-Site Habitat Baseline'!Y11:Y258<>"No",'D-1 Off-Site Habitat Baseline'!AB11:AB258<>"No"),'A-1 On-Site Habitat Baseline'!$X259+'D-1 Off-Site Habitat Baseline'!AA259,"Error ▲") -> 6.2335 | F31: ='B-1 On-Site Hedge Baseline'!$U$258+'E-1 Off-Site Hedge Baseline'!$X$258 -> 0 | H31: ='C-1 On-Site WaterC'' Baseline'!Y258+'F-1 Off-Site WaterC'' Baseline'!AB258 -> 0
A33: Area Habitats Area Habitats Area Habitats
B34: Area habitats
B36: On-site change by broad habitat type | J36: Combined area lost by distinctiveness band
C37: Baseline | E37: Post-development on-site | G37: On-site change
B38: Habitat group | C38: On-site existing area | D38: On-site existing value | E38: On-site proposed area | F38: On-site proposed value | G38: On-site area change | H38: On-site unit change | J38: Category | K38: Area lost (hectares) | L38: Area lost (%)
B39: Cropland | C39: ='G-2 Habitat groups'!$AK$4 -> 0 | D39: ='G-2 Habitat groups'!$AL$4 -> 0 | E39: ='G-2 Habitat groups'!$AM$4 -> 0 | F39: ='G-2 Habitat groups'!$AN$4 -> 0 | G39: =E39-C39 -> 0 | H39: =F39-D39 -> 0
B40: Grassland | C40: ='G-2 Habitat groups'!$AK$5 -> 0.121 | D40: ='G-2 Habitat groups'!$AL$5 -> 1.452 | E40: ='G-2 Habitat groups'!$AM$5 -> 0.2755 | F40: ='G-2 Habitat groups'!$AN$5 -> 1.7798308 | G40: =E40-C40 -> 0.1545 | H40: =F40-D40 -> 0.32783082 | J40: ='G-1 All Habitats'!$V$3 -> V.High | K40: =SUMIF('A-1 On-Site Habitat Baseline'!$I$11:$I$258,'Detailed Results'!J40,'A-1 On-Site Habitat Baseline'!$W$11:$W$258)+SUMIF('D-1 Off-Site Habitat Baseline'!$I$11:$I$258,'Detailed Results'!J40,'D-1 Off-Site Habitat Baseline'!$Z$11:$Z$258) -> 0 | L40: =IF(K40=0,"",(K40/(SUM($K$40:$K$49)))*100)
B41: Heathland and shrub | C41: ='G-2 Habitat groups'!$AK$6 -> 0 | D41: ='G-2 Habitat groups'!$AL$6 -> 0 | E41: ='G-2 Habitat groups'!$AM$6 -> 0 | F41: ='G-2 Habitat groups'!$AN$6 -> 0 | G41: =E41-C41 -> 0 | H41: =F41-D41 -> 0
B42: Lakes | C42: ='G-2 Habitat groups'!$AK$7 -> 0.0045 | D42: ='G-2 Habitat groups'!$AL$7 -> 0.009 | E42: ='G-2 Habitat groups'!$AM$7 -> 0.0085 | F42: ='G-2 Habitat groups'!$AN$7 -> 0.02444 | G42: =E42-C42 -> 0.004 | H42: =F42-D42 -> 0.01544 | J42: ='G-1 All Habitats'!$V$4 -> High | K42: =SUMIF('A-1 On-Site Habitat Baseline'!$I$11:$I$258,'Detailed Results'!J42,'A-1 On-Site Habitat Baseline'!$W$11:$W$258)+SUMIF('D-1 Off-Site Habitat Baseline'!$I$11:$I$258,'Detailed Results'!J42,'D-1 Off-Site Habitat Baseline'!$Z$11:$Z$258) -> 0.2405 | L42: =IF(K42=0,"",(K42/(SUM($K$40:$K$49)))*100) -> 58.644233
B43: Sparsely vegetated land | C43: ='G-2 Habitat groups'!$AK$8 -> 0 | D43: ='G-2 Habitat groups'!$AL$8 -> 0 | E43: ='G-2 Habitat groups'!$AM$8 -> 0 | F43: ='G-2 Habitat groups'!$AN$8 -> 0 | G43: =E43-C43 -> 0 | H43: =F43-D43 -> 0
B44: Urban | C44: ='G-2 Habitat groups'!$AK$9 -> 0.0486 | D44: ='G-2 Habitat groups'!$AL$9 -> 0.0196 | E44: ='G-2 Habitat groups'!$AM$9 -> 0.1306 | F44: ='G-2 Habitat groups'!$AN$9 -> 0.082604 | G44: =E44-C44 -> 0.082 | H44: =F44-D44 -> 0.063004 | J44: ='G-1 All Habitats'!$V5 -> Medium | K44: =SUMIF('A-1 On-Site Habitat Baseline'!$I$11:$I$258,'Detailed Results'!J44,'A-1 On-Site Habitat Baseline'!$W$11:$W$258)+SUMIF('D-1 Off-Site Habitat Baseline'!$I$11:$I$258,'Detailed Results'!J44,'D-1 Off-Site Habitat Baseline'!$Z$11:$Z$258) -> 0.121 | L44: =IF(K44=0,"",(K44/(SUM($K$40:$K$49)))*100) -> 29.504999
B45: Wetland | C45: ='G-2 Habitat groups'!$AK$10 -> 0 | D45: ='G-2 Habitat groups'!$AL$10 -> 0 | E45: ='G-2 Habitat groups'!$AM$10 -> 0 | F45: ='G-2 Habitat groups'!$AN$10 -> 0 | G45: =E45-C45 -> 0 | H45: =F45-D45 -> 0
B46: Woodland and forest | C46: ='G-2 Habitat groups'!$AK$11 -> 0.3644 | D46: ='G-2 Habitat groups'!$AL$11 -> 7.21512 | E46: ='G-2 Habitat groups'!$AM$11 -> 0.1239 | F46: ='G-2 Habitat groups'!$AN$11 -> 2.45322 | G46: =E46-C46 -> -0.2405 | H46: =F46-D46 -> -4.7619 | J46: ='G-1 All Habitats'!$V$6 -> Low | K46: =SUMIF('A-1 On-Site Habitat Baseline'!$I$11:$I$258,'Detailed Results'!J46,'A-1 On-Site Habitat Baseline'!$W$11:$W$258)+SUMIF('D-1 Off-Site Habitat Baseline'!$I$11:$I$258,'Detailed Results'!J46,'D-1 Off-Site Habitat Baseline'!$Z$11:$Z$258) -> 0.0098 | L46: =IF(K46=0,"",(K46/(SUM($K$40:$K$49)))*100) -> 2.3896611
B47: Intertidal sediment | C47: ='G-2 Habitat groups'!$AK$12 -> 0 | D47: ='G-2 Habitat groups'!$AL$12 -> 0 | E47: ='G-2 Habitat groups'!$AM$12 -> 0 | F47: ='G-2 Habitat groups'!$AN$12 -> 0 | G47: =E47-C47 -> 0 | H47: =F47-D47 -> 0
B48: Coastal saltmarsh | C48: ='G-2 Habitat groups'!$AK$13 -> 0 | D48: ='G-2 Habitat groups'!$AL$13 -> 0 | E48: ='G-2 Habitat groups'!$AM$13 -> 0 | F48: ='G-2 Habitat groups'!$AN$13 -> 0 | G48: =E48-C48 -> 0 | H48: =F48-D48 -> 0 | J48: ='G-1 All Habitats'!$V$7 -> V.Low | K48: =SUMIF('A-1 On-Site Habitat Baseline'!$I$11:$I$258,'Detailed Results'!J48,'A-1 On-Site Habitat Baseline'!$W$11:$W$258)+SUMIF('D-1 Off-Site Habitat Baseline'!$I$11:$I$258,'Detailed Results'!J48,'D-1 Off-Site Habitat Baseline'!$Z$11:$Z$258) -> 0.0388 | L48: =IF(K48=0,"",(K48/(SUM($K$40:$K$49)))*100) -> 9.461107
B49: Rocky shore | C49: ='G-2 Habitat groups'!$AK$14 -> 0 | D49: ='G-2 Habitat groups'!$AL$14 -> 0 | E49: ='G-2 Habitat groups'!$AM$14 -> 0 | F49: ='G-2 Habitat groups'!$AN$14 -> 0 | G49: =E49-C49 -> 0 | H49: =F49-D49 -> 0
B50: Coastal lagoons | C50: ='G-2 Habitat groups'!$AK$15 -> 0 | D50: ='G-2 Habitat groups'!$AL$15 -> 0 | E50: ='G-2 Habitat groups'!$AM$15 -> 0 | F50: ='G-2 Habitat groups'!$AN$15 -> 0 | G50: =E50-C50 -> 0 | H50: =F50-D50 -> 0
B51: Intertidal hard structures | C51: ='G-2 Habitat groups'!$AK$16 -> 0 | D51: ='G-2 Habitat groups'!$AL$16 -> 0 | E51: ='G-2 Habitat groups'!$AM$16 -> 0 | F51: ='G-2 Habitat groups'!$AN$16 -> 0 | G51: =E51-C51 -> 0 | H51: =F51-D51 -> 0
B52: Watercourse footprint | C52: ='G-2 Habitat groups'!$AK$18 -> 0 | D52: ='G-2 Habitat groups'!$AL$18 -> 0 | E52: ='G-2 Habitat groups'!$AM$18 -> 0 | F52: ='G-2 Habitat groups'!$AN$18 -> 0 | G52: =E52-C52 -> 0 | H52: =F52-D52 -> 0
B53: Individual trees | C53: ='G-2 Habitat groups'!$AK$17 -> 0 | D53: ='G-2 Habitat groups'!$AL$17 -> 0 | E53: ='G-2 Habitat groups'!$AM$17 -> 0 | F53: ='G-2 Habitat groups'!$AN$17 -> 0 | G53: =E53-C53 -> 0 | H53: =F53-D53 -> 0
B56: Off-site change by broad habitat type
C57: Baseline | E57: Post-development off-site | G57: Off-site change
B58: Habitat group | C58: Off-site existing area | D58: Off-site existing value | E58: Off-site proposed area | F58: Off-site proposed value | G58: Off-site area change | H58: Off-site unit change
B59: Cropland | C59: ='G-2 Habitat groups'!$AK$21 -> 0 | D59: ='G-2 Habitat groups'!$AL$21 -> 0 | E59: ='G-2 Habitat groups'!$AM$21 -> 0 | F59: ='G-2 Habitat groups'!$AN$21 -> 0 | G59: =E59-C59 -> 0 | H59: =F59-D59 -> 0
B60: Grassland | C60: ='G-2 Habitat groups'!$AK$22 -> 0 | D60: ='G-2 Habitat groups'!$AL$22 -> 0 | E60: ='G-2 Habitat groups'!$AM$22 -> 0 | F60: ='G-2 Habitat groups'!$AN$22 -> 0 | G60: =E60-C60 -> 0 | H60: =F60-D60 -> 0
B61: Heathland and shrub | C61: ='G-2 Habitat groups'!$AK$23 -> 0 | D61: ='G-2 Habitat groups'!$AL$23 -> 0 | E61: ='G-2 Habitat groups'!$AM$23 -> 0 | F61: ='G-2 Habitat groups'!$AN$23 -> 0 | G61: =E61-C61 -> 0 | H61: =F61-D61 -> 0
B62: Lakes | C62: ='G-2 Habitat groups'!$AK$24 -> 0 | D62: ='G-2 Habitat groups'!$AL$24 -> 0 | E62: ='G-2 Habitat groups'!$AM$24 -> 0 | F62: ='G-2 Habitat groups'!$AN$24 -> 0 | G62: =E62-C62 -> 0 | H62: =F62-D62 -> 0
B63: Sparsely vegetated land | C63: ='G-2 Habitat groups'!$AK$25 -> 0 | D63: ='G-2 Habitat groups'!$AL$25 -> 0 | E63: ='G-2 Habitat groups'!$AM$25 -> 0 | F63: ='G-2 Habitat groups'!$AN$25 -> 0 | G63: =E63-C63 -> 0 | H63: =F63-D63 -> 0
B64: Urban | C64: ='G-2 Habitat groups'!$AK$26 -> 0 | D64: ='G-2 Habitat groups'!$AL$26 -> 0 | E64: ='G-2 Habitat groups'!$AM$26 -> 0 | F64: ='G-2 Habitat groups'!$AN$26 -> 0 | G64: =E64-C64 -> 0 | H64: =F64-D64 -> 0
B65: Wetland | C65: ='G-2 Habitat groups'!$AK$27 -> 0 | D65: ='G-2 Habitat groups'!$AL$27 -> 0 | E65: ='G-2 Habitat groups'!$AM$27 -> 0 | F65: ='G-2 Habitat groups'!$AN$27 -> 0 | G65: =E65-C65 -> 0 | H65: =F65-D65 -> 0
B66: Woodland and forest | C66: ='G-2 Habitat groups'!$AK$28 -> 0 | D66: ='G-2 Habitat groups'!$AL$28 -> 0 | E66: ='G-2 Habitat groups'!$AM$28 -> 0 | F66: ='G-2 Habitat groups'!$AN$28 -> 0 | G66: =E66-C66 -> 0 | H66: =F66-D66 -> 0
B67: Intertidal sediment | C67: ='G-2 Habitat groups'!$AK$29 -> 0 | D67: ='G-2 Habitat groups'!$AL$29 -> 0 | E67: ='G-2 Habitat groups'!$AM$29 -> 0 | F67: ='G-2 Habitat groups'!$AN$29 -> 0 | G67: =E67-C67 -> 0 | H67: =F67-D67 -> 0
B68: Coastal saltmarsh | C68: ='G-2 Habitat groups'!$AK$30 -> 0 | D68: ='G-2 Habitat groups'!$AL$30 -> 0 | E68: ='G-2 Habitat groups'!$AM$30 -> 0 | F68: ='G-2 Habitat groups'!$AN$30 -> 0 | G68: =E68-C68 -> 0 | H68: =F68-D68 -> 0
B69: Rocky shore | C69: ='G-2 Habitat groups'!$AK$31 -> 0 | D69: ='G-2 Habitat groups'!$AL$31 -> 0 | E69: ='G-2 Habitat groups'!$AM$31 -> 0 | F69: ='G-2 Habitat groups'!$AN$31 -> 0 | G69: =E69-C69 -> 0 | H69: =F69-D69 -> 0
B70: Coastal lagoons | C70: ='G-2 Habitat groups'!$AK$32 -> 0 | D70: ='G-2 Habitat groups'!$AL$32 -> 0 | E70: ='G-2 Habitat groups'!$AM$32 -> 0 | F70: ='G-2 Habitat groups'!$AN$32 -> 0 | G70: =E70-C70 -> 0 | H70: =F70-D70 -> 0
B71: Intertidal hard structures | C71: ='G-2 Habitat groups'!$AK$33 -> 0 | D71: ='G-2 Habitat groups'!$AL$33 -> 0 | E71: ='G-2 Habitat groups'!$AM$33 -> 0 | F71: ='G-2 Habitat groups'!$AN$33 -> 0 | G71: =E71-C71 -> 0 | H71: =F71-D71 -> 0
B72: Watercourse footprint | C72: ='G-2 Habitat groups'!$AK$35 -> 0 | D72: ='G-2 Habitat groups'!$AL$35 -> 0 | E72: ='G-2 Habitat groups'!$AM$35 -> 0 | F72: ='G-2 Habitat groups'!$AN$35 -> 0 | G72: =E72-C72 -> 0 | H72: =F72-D72 -> 0
B73: Individual trees | C73: ='G-2 Habitat groups'!$AK$34 -> 0 | D73: ='G-2 Habitat groups'!$AL$34 -> 0 | E73: ='G-2 Habitat groups'!$AM$34 -> 0 | F73: ='G-2 Habitat groups'!$AN$34 -> 0 | G73: =E73-C73 -> 0 | H73: =F73-D73 -> 0
B75: Combined on-site and off-site change by broad habitat type
C76: Baseline | E76: On-site and off-site post-development | G76: Combined change
B77: Habitat group | C77: Combined existing area | D77: Combined existing value | E77: Combined proposed area | F77: Combined proposed value | G77: Combined area change | H77: Combined unit change
B78: Cropland | C78: =C39+C59 -> 0 | D78: =D39+D59 -> 0 | E78: =E39+E59 -> 0 | F78: =F39+F59 -> 0 | G78: =G39+G59 -> 0 | H78: =H39+H59 -> 0
B79: Grassland | C79: =C40+C60 -> 0.121 | D79: =D40+D60 -> 1.452 | E79: =E40+E60 -> 0.2755 | F79: =F40+F60 -> 1.7798308 | G79: =G40+G60 -> 0.1545 | H79: =H40+H60 -> 0.32783082
B80: Heathland and shrub | C80: =C41+C61 -> 0 | D80: =D41+D61 -> 0 | E80: =E41+E61 -> 0 | F80: =F41+F61 -> 0 | G80: =G41+G61 -> 0 | H80: =H41+H61 -> 0
B81: Lakes | C81: =C42+C62 -> 0.0045 | D81: =D42+D62 -> 0.009 | E81: =E42+E62 -> 0.0085 | F81: =F42+F62 -> 0.02444 | G81: =G42+G62 -> 0.004 | H81: =H42+H62 -> 0.01544
B82: Sparsely vegetated land | C82: =C43+C63 -> 0 | D82: =D43+D63 -> 0 | E82: =E43+E63 -> 0 | F82: =F43+F63 -> 0 | G82: =G43+G63 -> 0 | H82: =H43+H63 -> 0
B83: Urban | C83: =C44+C64 -> 0.0486 | D83: =D44+D64 -> 0.0196 | E83: =E44+E64 -> 0.1306 | F83: =F44+F64 -> 0.082604 | G83: =G44+G64 -> 0.082 | H83: =H44+H64 -> 0.063004
B84: Wetland | C84: =C45+C65 -> 0 | D84: =D45+D65 -> 0 | E84: =E45+E65 -> 0 | F84: =F45+F65 -> 0 | G84: =G45+G65 -> 0 | H84: =H45+H65 -> 0
B85: Woodland and forest | C85: =C46+C66 -> 0.3644 | D85: =D46+D66 -> 7.21512 | E85: =E46+E66 -> 0.1239 | F85: =F46+F66 -> 2.45322 | G85: =G46+G66 -> -0.2405 | H85: =H46+H66 -> -4.7619
B86: Intertidal sediment | C86: =C47+C67 -> 0 | D86: =D47+D67 -> 0 | E86: =E47+E67 -> 0 | F86: =F47+F67 -> 0 | G86: =G47+G67 -> 0 | H86: =H47+H67 -> 0
B87: Coastal saltmarsh | C87: =C48+C68 -> 0 | D87: =D48+D68 -> 0 | E87: =E48+E68 -> 0 | F87: =F48+F68 -> 0 | G87: =G48+G68 -> 0 | H87: =H48+H68 -> 0
B88: Rocky shore | C88: =C49+C69 -> 0 | D88: =D49+D69 -> 0 | E88: =E49+E69 -> 0 | F88: =F49+F69 -> 0 | G88: =G49+G69 -> 0 | H88: =H49+H69 -> 0
B89: Coastal lagoons | C89: =C50+C70 -> 0 | D89: =D50+D70 -> 0 | E89: =E50+E70 -> 0 | F89: =F50+F70 -> 0 | G89: =G50+G70 -> 0 | H89: =H50+H70 -> 0
... B92: Individual trees | C92: =C53+C73 -> 0 | D92: =D53+D73 -> 0 | E92: =E53+E73 -> 0 | F92: =F53+F73 -> 0 | G92: =G53+G73 -> 0 | H92: =H53+H73 -> 0
A93: Hedgerows and Lines of Trees Hedgerows and Lines of Trees Hedgerows and Lines of Trees
B94: Hedgerows and lines of trees
B97: On-site change by hedgerow type | J97: Combined length lost by distinctiveness band
C98: Baseline | E98: Post-development on-site | G98: On-site change
B99: Hedgerow type | C99: On-site existing length | D99: On-site existing value | E99: On-site proposed length | F99: On-site proposed value | G99: On-site length change | H99: On-site unit change | J99: Category | K99: Length lost (km) | L99: Length lost (%)
B100: Species-rich native hedgerow with trees - associated with bank or ditch | C100: ='G-2 Habitat groups'!E150 -> 0 | D100: ='G-2 Habitat groups'!F150 -> 0 | E100: ='G-2 Habitat groups'!O150 -> 0 | F100: ='G-2 Habitat groups'!P150 -> 0 | G100: =E100-C100 -> 0 | H100: =F100-D100 -> 0
B101: Species-rich native hedgerow with trees | C101: ='G-2 Habitat groups'!E151 -> 0 | D101: ='G-2 Habitat groups'!F151 -> 0 | E101: ='G-2 Habitat groups'!O151 -> 0 | F101: ='G-2 Habitat groups'!P151 -> 0 | G101: =E101-C101 -> 0 | H101: =F101-D101 -> 0 | J101: ='G-1 All Habitats'!$V$3 -> V.High | K101: =SUMIF('B-1 On-Site Hedge Baseline'!$F$10:$F$257,'Detailed Results'!J101,'B-1 On-Site Hedge Baseline'!$T$10:$T$257)+SUMIF('E-1 Off-Site Hedge Baseline'!$F$10:$F$257,'Detailed Results'!J101,'E-1 Off-Site Hedge Baseline'!$W$10:$W$257) -> 0 | L101: =IF(K101=0,"",(K101/(SUM($K$101:$K$110)))*100)
B102: Species-rich native hedgerow - associated with bank or ditch | C102: ='G-2 Habitat groups'!E152 -> 0 | D102: ='G-2 Habitat groups'!F152 -> 0 | E102: ='G-2 Habitat groups'!O152 -> 0 | F102: ='G-2 Habitat groups'!P152 -> 0 | G102: =E102-C102 -> 0 | H102: =F102-D102 -> 0
B103: Native hedgerow with trees - associated with bank or ditch | C103: ='G-2 Habitat groups'!E153 -> 0 | D103: ='G-2 Habitat groups'!F153 -> 0 | E103: ='G-2 Habitat groups'!O153 -> 0 | F103: ='G-2 Habitat groups'!P153 -> 0 | G103: =E103-C103 -> 0 | H103: =F103-D103 -> 0 | J103: ='G-1 All Habitats'!$V$4 -> High | K103: =SUMIF('B-1 On-Site Hedge Baseline'!$F$10:$F$257,'Detailed Results'!J103,'B-1 On-Site Hedge Baseline'!$T$10:$T$257)+SUMIF('E-1 Off-Site Hedge Baseline'!$F$10:$F$257,'Detailed Results'!J103,'E-1 Off-Site Hedge Baseline'!$W$10:$W$257) -> 0 | L103: =IF(K103=0,"",(K103/(SUM($K$101:$K$110)))*100)
B104: Species-rich native hedgerow | C104: ='G-2 Habitat groups'!E154 -> 0 | D104: ='G-2 Habitat groups'!F154 -> 0 | E104: ='G-2 Habitat groups'!O154 -> 0 | F104: ='G-2 Habitat groups'!P154 -> 0 | G104: =E104-C104 -> 0 | H104: =F104-D104 -> 0
B105: Native hedgerow - associated with bank or ditch | C105: ='G-2 Habitat groups'!E155 -> 0 | D105: ='G-2 Habitat groups'!F155 -> 0 | E105: ='G-2 Habitat groups'!O155 -> 0 | F105: ='G-2 Habitat groups'!P155 -> 0 | G105: =E105-C105 -> 0 | H105: =F105-D105 -> 0 | J105: ='G-1 All Habitats'!$V$5 -> Medium | K105: =SUMIF('B-1 On-Site Hedge Baseline'!$F$10:$F$257,'Detailed Results'!J105,'B-1 On-Site Hedge Baseline'!$T$10:$T$257)+SUMIF('E-1 Off-Site Hedge Baseline'!$F$10:$F$257,'Detailed Results'!J105,'E-1 Off-Site Hedge Baseline'!$W$10:$W$257) -> 0 | L105: =IF(K105=0,"",(K105/(SUM($K$101:$K$110)))*100)
B106: Native hedgerow with trees | C106: ='G-2 Habitat groups'!E156 -> 0 | D106: ='G-2 Habitat groups'!F156 -> 0 | E106: ='G-2 Habitat groups'!O156 -> 0 | F106: ='G-2 Habitat groups'!P156 -> 0 | G106: =E106-C106 -> 0 | H106: =F106-D106 -> 0
B107: Ecologically valuable line of trees | C107: ='G-2 Habitat groups'!E157 -> 0 | D107: ='G-2 Habitat groups'!F157 -> 0 | E107: ='G-2 Habitat groups'!O157 -> 0 | F107: ='G-2 Habitat groups'!P157 -> 0 | G107: =E107-C107 -> 0 | H107: =F107-D107 -> 0 | J107: ='G-1 All Habitats'!$V$6 -> Low | K107: =SUMIF('B-1 On-Site Hedge Baseline'!$F$10:$F$257,'Detailed Results'!J107,'B-1 On-Site Hedge Baseline'!$T$10:$T$257)+SUMIF('E-1 Off-Site Hedge Baseline'!$F$10:$F$257,'Detailed Results'!J107,'E-1 Off-Site Hedge Baseline'!$W$10:$W$257) -> 0 | L107: =IF(K107=0,"",(K107/(SUM($K$101:$K$110)))*100)
B108: Ecologically valuable line of trees - associated with bank or ditch | C108: ='G-2 Habitat groups'!E158 -> 0 | D108: ='G-2 Habitat groups'!F158 -> 0 | E108: ='G-2 Habitat groups'!O158 -> 0 | F108: ='G-2 Habitat groups'!P158 -> 0 | G108: =E108-C108 -> 0 | H108: =F108-D108 -> 0
B109: Native hedgerow | C109: ='G-2 Habitat groups'!E159 -> 0 | D109: ='G-2 Habitat groups'!F159 -> 0 | E109: ='G-2 Habitat groups'!O159 -> 0 | F109: ='G-2 Habitat groups'!P159 -> 0 | G109: =E109-C109 -> 0 | H109: =F109-D109 -> 0 | J109: ='G-1 All Habitats'!$V$7 -> V.Low | K109: =SUMIF('B-1 On-Site Hedge Baseline'!$F$10:$F$257,'Detailed Results'!J109,'B-1 On-Site Hedge Baseline'!$T$10:$T$257)+SUMIF('E-1 Off-Site Hedge Baseline'!$F$10:$F$257,'Detailed Results'!J109,'E-1 Off-Site Hedge Baseline'!$W$10:$W$257) -> 0 | L109: =IF(K109=0,"",(K109/(SUM($K$101:$K$110)))*100)
B110: Line of trees | C110: ='G-2 Habitat groups'!E160 -> 0 | D110: ='G-2 Habitat groups'!F160 -> 0 | E110: ='G-2 Habitat groups'!O160 -> 0 | F110: ='G-2 Habitat groups'!P160 -> 0 | G110: =E110-C110 -> 0 | H110: =F110-D110 -> 0
B111: Line of trees - associated with bank or ditch | C111: ='G-2 Habitat groups'!E161 -> 0 | D111: ='G-2 Habitat groups'!F161 -> 0 | E111: ='G-2 Habitat groups'!O161 -> 0 | F111: ='G-2 Habitat groups'!P161 -> 0 | G111: =E111-C111 -> 0 | H111: =F111-D111 -> 0
B112: Non-native and ornamental hedgerow | C112: ='G-2 Habitat groups'!E162 -> 0 | D112: ='G-2 Habitat groups'!F162 -> 0 | E112: ='G-2 Habitat groups'!O162 -> 0 | F112: ='G-2 Habitat groups'!P162 -> 0 | G112: =E112-C112 -> 0 | H112: =F112-D112 -> 0
B117: Off-site change by hedgerow type
C118: Off-site baseline | E118: Post-development off-site | G118: Off-site change
B119: Hedgerow type | C119: Off-site existing length | D119: Off-site existing value | E119: Off-site proposed length | F119: Off-site proposed value | G119: Off-site length change | H119: Off-site unit change
B120: Species-rich native hedgerow with trees - associated with bank or ditch | C120: ='G-2 Habitat groups'!S150 -> 0 | D120: ='G-2 Habitat groups'!T150 -> 0 | E120: ='G-2 Habitat groups'!AA150 -> 0 | F120: ='G-2 Habitat groups'!AB150 -> 0 | G120: =E120-C120 -> 0 | H120: =F120-D120 -> 0
B121: Species-rich native hedgerow with trees | C121: ='G-2 Habitat groups'!S151 -> 0 | D121: ='G-2 Habitat groups'!T151 -> 0 | E121: ='G-2 Habitat groups'!AA151 -> 0 | F121: ='G-2 Habitat groups'!AB151 -> 0 | G121: =E121-C121 -> 0 | H121: =F121-D121 -> 0
B122: Species-rich native hedgerow - associated with bank or ditch | C122: ='G-2 Habitat groups'!S152 -> 0 | D122: ='G-2 Habitat groups'!T152 -> 0 | E122: ='G-2 Habitat groups'!AA152 -> 0 | F122: ='G-2 Habitat groups'!AB152 -> 0 | G122: =E122-C122 -> 0 | H122: =F122-D122 -> 0
B123: Native hedgerow with trees - associated with bank or ditch | C123: ='G-2 Habitat groups'!S153 -> 0 | D123: ='G-2 Habitat groups'!T153 -> 0 | E123: ='G-2 Habitat groups'!AA153 -> 0 | F123: ='G-2 Habitat groups'!AB153 -> 0 | G123: =E123-C123 -> 0 | H123: =F123-D123 -> 0
B124: Species-rich native hedgerow | C124: ='G-2 Habitat groups'!S154 -> 0 | D124: ='G-2 Habitat groups'!T154 -> 0 | E124: ='G-2 Habitat groups'!AA154 -> 0 | F124: ='G-2 Habitat groups'!AB154 -> 0 | G124: =E124-C124 -> 0 | H124: =F124-D124 -> 0
B125: Native hedgerow - associated with bank or ditch | C125: ='G-2 Habitat groups'!S155 -> 0 | D125: ='G-2 Habitat groups'!T155 -> 0 | E125: ='G-2 Habitat groups'!AA155 -> 0 | F125: ='G-2 Habitat groups'!AB155 -> 0 | G125: =E125-C125 -> 0 | H125: =F125-D125 -> 0
...

Sheet Trading Summary Area Habitats
B2: Trading Summary
B3: Distinctiveness Group | C3: Trading Rule | G3: Trading Satisfied?
B5: Very High | C5: Bespoke compensation likely to be required 🛠 | G5: =IF(('A-1 On-Site Habitat Baseline'!AQ259+'D-1 Off-Site Habitat Baseline'!AU259)>0,"No ▲","Yes ✓") -> Yes ✓
B6: High | C6: Same habitat required = | G6: =IFERROR(IF(J41<0,"No ▲","Yes ✓"),"") -> No ▲
B7: Medium | C7: Same broad habitat or a higher distinctiveness habitat required (≥) | G7: =IF(J40+J12+J89<0,"No ▲","Yes ✓") -> No ▲
B8: Low | C8: Same distinctiveness or better habitat required ≥ | G8: =IF(J126<0,"No ▲","Yes ✓") -> Yes ✓
B11: Very High Distinctiveness | I11: Very High Distinctiveness Summary
B12: Habitat group | C12: Group | D12: On-site unit change | E12: Off-site unit change | F12: Project-wide unit change | G12: Unit losses | I12: Very High Distinctiveness Units available to offset lower distinctiveness deficit | J12: =SUMIF($F$13:$F$32,">0") -> 0
B13: ='G-2 Habitat groups'!AU5 -> Grassland - Lowland dry acid grassland | C13: ='G-2 Habitat groups'!AV5 -> Grassland | D13: ='G-2 Habitat groups'!BB5 -> 0 | E13: ='G-2 Habitat groups'!BD5 -> 0 | F13: ='G-2 Habitat groups'!BE5 -> 0 | G13: ='G-2 Habitat groups'!BF5 | I13: =IF($G$33<0,"Very high distinctiveness unit defecit - CHECK DATA","")
B14: ='G-2 Habitat groups'!AU6 -> Grassland - Lowland meadows | C14: ='G-2 Habitat groups'!AV6 -> Grassland | D14: ='G-2 Habitat groups'!BB6 -> 0 | E14: ='G-2 Habitat groups'!BD6 -> 0 | F14: ='G-2 Habitat groups'!BE6 -> 0 | G14: ='G-2 Habitat groups'!BF6
B15: ='G-2 Habitat groups'!AU7 -> Grassland - Upland hay meadows | C15: ='G-2 Habitat groups'!AV7 -> Grassland | D15: ='G-2 Habitat groups'!BB7 -> 0 | E15: ='G-2 Habitat groups'!BD7 -> 0 | F15: ='G-2 Habitat groups'!BE7 -> 0 | G15: ='G-2 Habitat groups'!BF7
B16: ='G-2 Habitat groups'!AU8 -> Heathland and shrub - Mountain heaths and willow scrub | C16: ='G-2 Habitat groups'!AV8 -> Heathland and shrub | D16: ='G-2 Habitat groups'!BB8 -> 0 | E16: ='G-2 Habitat groups'!BD8 -> 0 | F16: ='G-2 Habitat groups'!BE8 -> 0 | G16: ='G-2 Habitat groups'!BF8
B17: ='G-2 Habitat groups'!AU9 -> Lakes - Aquifer fed naturally fluctuating water bodies | C17: ='G-2 Habitat groups'!AV9 -> Lakes | D17: ='G-2 Habitat groups'!BB9 -> 0 | E17: ='G-2 Habitat groups'!BD9 -> 0 | F17: ='G-2 Habitat groups'!BE9 -> 0 | G17: ='G-2 Habitat groups'!BF9
B18: ='G-2 Habitat groups'!AU10 -> Sparsely vegetated land - Calaminarian grasslands | C18: ='G-2 Habitat groups'!AV10 -> Sparsely vegetated land | D18: ='G-2 Habitat groups'!BB10 -> 0 | E18: ='G-2 Habitat groups'!BD10 -> 0 | F18: ='G-2 Habitat groups'!BE10 -> 0 | G18: ='G-2 Habitat groups'!BF10
B19: ='G-2 Habitat groups'!AU11 -> Sparsely vegetated land - Limestone pavement | C19: ='G-2 Habitat groups'!AV11 -> Sparsely vegetated land | D19: ='G-2 Habitat groups'!BB11 -> 0 | E19: ='G-2 Habitat groups'!BD11 -> 0 | F19: ='G-2 Habitat groups'!BE11 -> 0 | G19: ='G-2 Habitat groups'!BF11
B20: ='G-2 Habitat groups'!AU12 -> Wetland - Blanket bog | C20: ='G-2 Habitat groups'!AV12 -> Wetland | D20: ='G-2 Habitat groups'!BB12 -> 0 | E20: ='G-2 Habitat groups'!BD12 -> 0 | F20: ='G-2 Habitat groups'!BE12 -> 0 | G20: ='G-2 Habitat groups'!BF12
B21: ='G-2 Habitat groups'!AU13 -> Wetland - Depressions on peat substrates (H7150) | C21: ='G-2 Habitat groups'!AV13 -> Wetland | D21: ='G-2 Habitat groups'!BB13 -> 0 | E21: ='G-2 Habitat groups'!BD13 -> 0 | F21: ='G-2 Habitat groups'!BE13 -> 0 | G21: ='G-2 Habitat groups'!BF13
B22: ='G-2 Habitat groups'!AU14 -> Wetland - Fens (upland and lowland) | C22: ='G-2 Habitat groups'!AV14 -> Wetland | D22: ='G-2 Habitat groups'!BB14 -> 0 | E22: ='G-2 Habitat groups'!BD14 -> 0 | F22: ='G-2 Habitat groups'!BE14 -> 0 | G22: ='G-2 Habitat groups'!BF14
B23: ='G-2 Habitat groups'!AU15 -> Wetland - Lowland raised bog | C23: ='G-2 Habitat groups'!AV15 -> Wetland | D23: ='G-2 Habitat groups'!BB15 -> 0 | E23: ='G-2 Habitat groups'!BD15 -> 0 | F23: ='G-2 Habitat groups'!BE15 -> 0 | G23: ='G-2 Habitat groups'!BF15
B24: ='G-2 Habitat groups'!AU16 -> Wetland - Oceanic valley mire[1] (D2.1) | C24: ='G-2 Habitat groups'!AV16 -> Wetland | D24: ='G-2 Habitat groups'!BB16 -> 0 | E24: ='G-2 Habitat groups'!BD16 -> 0 | F24: ='G-2 Habitat groups'!BE16 -> 0 | G24: ='G-2 Habitat groups'!BF16
B25: ='G-2 Habitat groups'!AU17 -> Wetland - Purple moor grass and rush pastures | C25: ='G-2 Habitat groups'!AV17 -> Wetland | D25: ='G-2 Habitat groups'!BB17 -> 0 | E25: ='G-2 Habitat groups'!BD17 -> 0 | F25: ='G-2 Habitat groups'!BE17 -> 0 | G25: ='G-2 Habitat groups'!BF17
... B32: ='G-2 Habitat groups'!AU24 -> Intertidal sediment - Littoral seagrass on peat, clay or chalk | C32: ='G-2 Habitat groups'!AV24 -> Intertidal sediment | D32: ='G-2 Habitat groups'!BB24 -> 0 | E32: ='G-2 Habitat groups'!BD24 -> 0 | F32: ='G-2 Habitat groups'!BE24 -> 0 | G32: ='G-2 Habitat groups'!BF24
D33: =SUM(D13:D32) -> 0 | E33: =SUM(E13:E32) -> 0 | F33: =SUM(F13:F32) -> 0 | G33: =SUM(G13:G32) -> 0
B39: High Distinctiveness | I39: High Distinctiveness Summary
B40: Habitat group | C40: Group | D40: On-site unit change | E40: Off-site unit change | F40: Project-wide unit change | G40: Losses not yet accounted for | I40: High Distinctiveness Units available to offset lower distinctiveness deficit | J40: =SUMIF($F$41:$F$81,">0") -> 0
B41: ='G-2 Habitat groups'!AU30 -> Grassland - Traditional orchards | C41: ='G-2 Habitat groups'!AV30 -> Grassland | D41: ='G-2 Habitat groups'!BB30 -> 0 | E41: ='G-2 Habitat groups'!BD30 -> 0 | F41: ='G-2 Habitat groups'!BE30 -> 0 | G41: ='G-2 Habitat groups'!BF30 | I41: Unit Deficit; Like for like not satisfied | J41: =G83 -> -4.7619
B42: ='G-2 Habitat groups'!AU31 -> Grassland - Floodplain wetland mosaic and CFGM | C42: ='G-2 Habitat groups'!AV31 -> Grassland | D42: ='G-2 Habitat groups'!BB31 -> 0 | E42: ='G-2 Habitat groups'!BD31 -> 0 | F42: ='G-2 Habitat groups'!BE31 -> 0 | G42: ='G-2 Habitat groups'!BF31
B43: ='G-2 Habitat groups'!AU32 -> Grassland - Lowland calcareous grassland | C43: ='G-2 Habitat groups'!AV32 -> Grassland | D43: ='G-2 Habitat groups'!BB32 -> 0 | E43: ='G-2 Habitat groups'!BD32 -> 0 | F43: ='G-2 Habitat groups'!BE32 -> 0 | G43: ='G-2 Habitat groups'!BF32
B44: ='G-2 Habitat groups'!AU33 -> Grassland - Tall herb communities (H6430) | C44: ='G-2 Habitat groups'!AV33 -> Grassland | D44: ='G-2 Habitat groups'!BB33 -> 0 | E44: ='G-2 Habitat groups'!BD33 -> 0 | F44: ='G-2 Habitat groups'!BE33 -> 0 | G44: ='G-2 Habitat groups'!BF33
B45: ='G-2 Habitat groups'!AU34 -> Grassland - Upland calcareous grassland | C45: ='G-2 Habitat groups'!AV34 -> Grassland | D45: ='G-2 Habitat groups'!BB34 -> 0 | E45: ='G-2 Habitat groups'!BD34 -> 0 | F45: ='G-2 Habitat groups'!BE34 -> 0 | G45: ='G-2 Habitat groups'!BF34
B46: ='G-2 Habitat groups'!AU35 -> Heathland and shrub - Lowland Heathland | C46: ='G-2 Habitat groups'!AV35 -> Heathland and shrub | D46: ='G-2 Habitat groups'!BB35 -> 0 | E46: ='G-2 Habitat groups'!BD35 -> 0 | F46: ='G-2 Habitat groups'!BE35 -> 0 | G46: ='G-2 Habitat groups'!BF35
B47: ='G-2 Habitat groups'!AU36 -> Heathland and shrub - Dunes with sea buckthorn (H2160) | C47: ='G-2 Habitat groups'!AV36 -> Heathland and shrub | D47: ='G-2 Habitat groups'!BB36 -> 0 | E47: ='G-2 Habitat groups'!BD36 -> 0 | F47: ='G-2 Habitat groups'!BE36 -> 0 | G47: ='G-2 Habitat groups'!BF36
B48: ='G-2 Habitat groups'!AU37 -> Heathland and shrub - Upland heathland | C48: ='G-2 Habitat groups'!AV37 -> Heathland and shrub | D48: ='G-2 Habitat groups'!BB37 -> 0 | E48: ='G-2 Habitat groups'!BD37 -> 0 | F48: ='G-2 Habitat groups'!BE37 -> 0 | G48: ='G-2 Habitat groups'!BF37
B49: ='G-2 Habitat groups'!AU39 -> Lakes - High alkalinity lakes | C49: ='G-2 Habitat groups'!AV39 -> Lakes | D49: ='G-2 Habitat groups'!BB39 -> 0 | E49: ='G-2 Habitat groups'!BD39 -> 0 | F49: ='G-2 Habitat groups'!BE39 -> 0 | G49: ='G-2 Habitat groups'!BF39
B50: ='G-2 Habitat groups'!AU40 -> Lakes - Low alkalinity lakes | C50: ='G-2 Habitat groups'!AV40 -> Lakes | D50: ='G-2 Habitat groups'!BB40 -> 0 | E50: ='G-2 Habitat groups'!BD40 -> 0 | F50: ='G-2 Habitat groups'!BE40 -> 0 | G50: ='G-2 Habitat groups'!BF40
B51: ='G-2 Habitat groups'!AU41 -> Lakes - Marl lakes | C51: ='G-2 Habitat groups'!AV41 -> Lakes | D51: ='G-2 Habitat groups'!BB41 -> 0 | E51: ='G-2 Habitat groups'!BD41 -> 0 | F51: ='G-2 Habitat groups'!BE41 -> 0 | G51: ='G-2 Habitat groups'!BF41
B52: ='G-2 Habitat groups'!AU42 -> Lakes - Moderate alkalinity lakes | C52: ='G-2 Habitat groups'!AV42 -> Lakes | D52: ='G-2 Habitat groups'!BB42 -> 0 | E52: ='G-2 Habitat groups'!BD42 -> 0 | F52: ='G-2 Habitat groups'!BE42 -> 0 | G52: ='G-2 Habitat groups'!BF42
B53: ='G-2 Habitat groups'!AU43 -> Lakes - Peat lakes | C53: ='G-2 Habitat groups'!AV43 -> Lakes | D53: ='G-2 Habitat groups'!BB43 -> 0 | E53: ='G-2 Habitat groups'!BD43 -> 0 | F53: ='G-2 Habitat groups'!BE43 -> 0 | G53: ='G-2 Habitat groups'!BF43
B54: ='G-2 Habitat groups'!AU44 -> Lakes - Ponds (priority habitat) | C54: ='G-2 Habitat groups'!AV44 -> Lakes | D54: ='G-2 Habitat groups'!BB44 -> 0 | E54: ='G-2 Habitat groups'!BD44 -> 0 | F54: ='G-2 Habitat groups'!BE44 -> 0 | G54: ='G-2 Habitat groups'!BF44
B55: ='G-2 Habitat groups'!AU45 -> Lakes - Temporary lakes ponds and pools (H3170) | C55: ='G-2 Habitat groups'!AV45 -> Lakes | D55: ='G-2 Habitat groups'!BB45 -> 0 | E55: ='G-2 Habitat groups'!BD45 -> 0 | F55: ='G-2 Habitat groups'!BE45 -> 0 | G55: ='G-2 Habitat groups'!BF45
B56: ='G-2 Habitat groups'!AU46 -> Sparsely vegetated land - Coastal sand dunes | C56: ='G-2 Habitat groups'!AV46 -> Sparsely vegetated land | D56: ='G-2 Habitat groups'!BB46 -> 0 | E56: ='G-2 Habitat groups'!BD46 -> 0 | F56: ='G-2 Habitat groups'!BE46 -> 0 | G56: ='G-2 Habitat groups'!BF46
B57: ='G-2 Habitat groups'!AU47 -> Sparsely vegetated land - Coastal vegetated shingle | C57: ='G-2 Habitat groups'!AV47 -> Sparsely vegetated land | D57: ='G-2 Habitat groups'!BB47 -> 0 | E57: ='G-2 Habitat groups'!BD47 -> 0 | F57: ='G-2 Habitat groups'!BE47 -> 0 | G57: ='G-2 Habitat groups'!BF47
B58: ='G-2 Habitat groups'!AU48 -> Sparsely vegetated land - Inland rock outcrop and scree habitats | C58: ='G-2 Habitat groups'!AV48 -> Sparsely vegetated land | D58: ='G-2 Habitat groups'!BB48 -> 0 | E58: ='G-2 Habitat groups'!BD48 -> 0 | F58: ='G-2 Habitat groups'!BE48 -> 0 | G58: ='G-2 Habitat groups'!BF48
B59: ='G-2 Habitat groups'!AU49 -> Sparsely vegetated land - Maritime cliff and slopes | C59: ='G-2 Habitat groups'!AV49 -> Sparsely vegetated land | D59: ='G-2 Habitat groups'!BB49 -> 0 | E59: ='G-2 Habitat groups'!BD49 -> 0 | F59: ='G-2 Habitat groups'!BE49 -> 0 | G59: ='G-2 Habitat groups'!BF49
B60: ='G-2 Habitat groups'!AU50 -> Urban - Open mosaic habitats on previously developed land | C60: ='G-2 Habitat groups'!AV50 -> Urban | D60: ='G-2 Habitat groups'!BB50 -> 0 | E60: ='G-2 Habitat groups'!BD50 -> 0 | F60: ='G-2 Habitat groups'!BE50 -> 0 | G60: ='G-2 Habitat groups'!BF50
... B64: ='G-2 Habitat groups'!AU54 -> Woodland and forest - Lowland mixed deciduous woodland | C64: ='G-2 Habitat groups'!AV54 -> Woodland and forest | D64: ='G-2 Habitat groups'!BB54 -> 0 | E64: ='G-2 Habitat groups'!BD54 -> 0 | F64: ='G-2 Habitat groups'!BE54 -> 0 | G64: ='G-2 Habitat groups'!BF54
B65: ='G-2 Habitat groups'!AU56 -> Woodland and forest - Native pine woodlands | C65: ='G-2 Habitat groups'!AV56 -> Woodland and forest | D65: ='G-2 Habitat groups'!BB56 -> 0 | E65: ='G-2 Habitat groups'!BD56 -> 0 | F65: ='G-2 Habitat groups'!BE56 -> 0 | G65: ='G-2 Habitat groups'!BF56
B66: ='G-2 Habitat groups'!AU57 -> Woodland and forest - Upland birchwoods | C66: ='G-2 Habitat groups'!AV57 -> Woodland and forest | D66: ='G-2 Habitat groups'!BB57 -> 0 | E66: ='G-2 Habitat groups'!BD57 -> 0 | F66: ='G-2 Habitat groups'!BE57 -> 0 | G66: ='G-2 Habitat groups'!BF57
B67: ='G-2 Habitat groups'!AU58 -> Woodland and forest - Upland mixed ashwoods | C67: ='G-2 Habitat groups'!AV58 -> Woodland and forest | D67: ='G-2 Habitat groups'!BB58 -> 0 | E67: ='G-2 Habitat groups'!BD58 -> 0 | F67: ='G-2 Habitat groups'!BE58 -> 0 | G67: ='G-2 Habitat groups'!BF58
B68: ='G-2 Habitat groups'!AU59 -> Woodland and forest - Upland oakwood | C68: ='G-2 Habitat groups'!AV59 -> Woodland and forest | D68: ='G-2 Habitat groups'!BB59 -> 0 | E68: ='G-2 Habitat groups'!BD59 -> 0 | F68: ='G-2 Habitat groups'!BE59 -> 0 | G68: ='G-2 Habitat groups'!BF59
B69: ='G-2 Habitat groups'!AU60 -> Woodland and forest - Wet woodland | C69: ='G-2 Habitat groups'!AV60 -> Woodland and forest | D69: ='G-2 Habitat groups'!BB60 -> 0 | E69: ='G-2 Habitat groups'!BD60 -> 0 | F69: ='G-2 Habitat groups'!BE60 -> 0 | G69: ='G-2 Habitat groups'!BF60
B70: ='G-2 Habitat groups'!AU61 -> Coastal lagoons - Coastal lagoons | C70: ='G-2 Habitat groups'!AV61 -> Coastal lagoons | D70: ='G-2 Habitat groups'!BB61 -> 0 | E70: ='G-2 Habitat groups'!BD61 -> 0 | F70: ='G-2 Habitat groups'!BE61 -> 0 | G70: ='G-2 Habitat groups'!BF61
B71: ='G-2 Habitat groups'!AU62 -> Rocky shore - High energy littoral rock | C71: ='G-2 Habitat groups'!AV62 -> Rocky shore | D71: ='G-2 Habitat groups'!BB62 -> 0 | E71: ='G-2 Habitat groups'!BD62 -> 0 | F71: ='G-2 Habitat groups'!BE62 -> 0 | G71: ='G-2 Habitat groups'!BF62
B72: ='G-2 Habitat groups'!AU63 -> Rocky shore - Moderate energy littoral rock | C72: ='G-2 Habitat groups'!AV63 -> Rocky shore | D72: ='G-2 Habitat groups'!BB63 -> 0 | E72: ='G-2 Habitat groups'!BD63 -> 0 | F72: ='G-2 Habitat groups'!BE63 -> 0 | G72: ='G-2 Habitat groups'!BF63
B73: ='G-2 Habitat groups'!AU64 -> Rocky shore - Low energy littoral rock | C73: ='G-2 Habitat groups'!AV64 -> Rocky shore | D73: ='G-2 Habitat groups'!BB64 -> 0 | E73: ='G-2 Habitat groups'!BD64 -> 0 | F73: ='G-2 Habitat groups'!BE64 -> 0 | G73: ='G-2 Habitat groups'!BF64
B74: ='G-2 Habitat groups'!AU65 -> Rocky shore - Features of littoral rock | C74: ='G-2 Habitat groups'!AV65 -> Rocky shore | D74: ='G-2 Habitat groups'!BB65 -> 0 | E74: ='G-2 Habitat groups'!BD65 -> 0 | F74: ='G-2 Habitat groups'!BE65 -> 0 | G74: ='G-2 Habitat groups'!BF65
B75: ='G-2 Habitat groups'!AU66 -> Intertidal sediment - Littoral mud | C75: ='G-2 Habitat groups'!AV66 -> Intertidal sediment | D75: ='G-2 Habitat groups'!BB66 -> 0 | E75: ='G-2 Habitat groups'!BD66 -> 0 | F75: ='G-2 Habitat groups'!BE66 -> 0 | G75: ='G-2 Habitat groups'!BF66
B76: ='G-2 Habitat groups'!AU67 -> Intertidal sediment - Littoral mixed sediments | C76: ='G-2 Habitat groups'!AV67 -> Intertidal sediment | D76: ='G-2 Habitat groups'!BB67 -> 0 | E76: ='G-2 Habitat groups'!BD67 -> 0 | F76: ='G-2 Habitat groups'!BE67 -> 0 | G76: ='G-2 Habitat groups'!BF67
... B81: ='G-2 Habitat groups'!AU72 -> Intertidal sediment - Littoral muddy sand | C81: ='G-2 Habitat groups'!AV72 -> Intertidal sediment | D81: ='G-2 Habitat groups'!BB72 -> 0 | E81: ='G-2 Habitat groups'!BD72 -> 0 | F81: ='G-2 Habitat groups'!BE72 -> 0 | G81: ='G-2 Habitat groups'!BF72
B82: Intertidal sediment - Littoral seagrass | C82: ='G-2 Habitat groups'!AV73 -> Intertidal sediment | D82: ='G-2 Habitat groups'!BB73 -> 0 | E82: ='G-2 Habitat groups'!BD73 -> 0 | F82: ='G-2 Habitat groups'!BE73 -> 0 | G82: ='G-2 Habitat groups'!BF73
D83: =SUM(D41:D81) -> -4.7619 | E83: =SUM(E41:E81) -> 0 | F83: =SUM(F41:F81) -> -4.7619 | G83: =SUM(G41:G81) -> -4.7619
B87: Medium Distinctiveness | I87: Medium Distinctiveness Summary
B88: Habitat group | C88: Group | D88: On-site unit change | E88: Off-site unit change | F88: Project wide unit change | G88: Cumulative broad habitat change | I88: Medium Distinctiveness Units available to offset Lower Distinctiveness Deficit | J88: =SUMIF(G89:G115,">0") -> 0.01544
B89: ='G-2 Habitat groups'!AU79 -> Cropland - Arable field margins cultivated annually | C89: ='G-2 Habitat groups'!AV79 -> Cropland | D89: ='G-2 Habitat groups'!BB79 -> 0 | E89: ='G-2 Habitat groups'!BD79 -> 0 | F89: ='G-2 Habitat groups'!BE79 -> 0 | G89: =SUM(F89:F92) -> 0 | I89: Medium Distinctiveness Broad Habitat Deficit to be offset by trading up | J89: =SUMIF(G89:G115,"<0") -> -0.34359322
B90: ='G-2 Habitat groups'!AU81 -> Cropland - Arable field margins game bird mix | C90: ='G-2 Habitat groups'!AV81 -> Cropland | D90: ='G-2 Habitat groups'!BB81 -> 0 | E90: ='G-2 Habitat groups'!BD81 -> 0 | F90: ='G-2 Habitat groups'!BE81 -> 0 | I90: Higher Distinctiveness Surplus Units minus Medium Distinctiveness Broad Habitat Deficit | J90: =J40+J12+J89 -> -0.34359322
B91: ='G-2 Habitat groups'!AU82 -> Cropland - Arable field margins pollen and nectar | C91: ='G-2 Habitat groups'!AV82 -> Cropland | D91: ='G-2 Habitat groups'!BB82 -> 0 | E91: ='G-2 Habitat groups'!BD82 -> 0 | F91: ='G-2 Habitat groups'!BE82 -> 0 | I91: Cumulative surplus of units | J91: =J90+J88 -> -0.32815322
B92: ='G-2 Habitat groups'!AU83 -> Cropland - Arable field margins tussocky | C92: ='G-2 Habitat groups'!AV83 -> Cropland | D92: ='G-2 Habitat groups'!BB83 -> 0 | E92: ='G-2 Habitat groups'!BD83 -> 0 | F92: ='G-2 Habitat groups'!BE83 -> 0
B93: ='G-2 Habitat groups'!AU84 -> Grassland - Other lowland acid grassland | C93: ='G-2 Habitat groups'!AV84 -> Grassland | D93: ='G-2 Habitat groups'!BB84 -> 0 | E93: ='G-2 Habitat groups'!BD84 -> 0 | F93: ='G-2 Habitat groups'!BE84 -> 0 | G93: =SUM(F93:F95) -> -0.34359322
B94: ='G-2 Habitat groups'!AU85 -> Grassland - Other neutral grassland | C94: ='G-2 Habitat groups'!AV85 -> Grassland | D94: ='G-2 Habitat groups'!BB85 -> -0.34359322 | E94: ='G-2 Habitat groups'!BD85 -> 0 | F94: ='G-2 Habitat groups'!BE85 -> -0.34359322
B95: ='G-2 Habitat groups'!AU86 -> Grassland - Upland acid grassland | C95: ='G-2 Habitat groups'!AV86 -> Grassland | D95: ='G-2 Habitat groups'!BB86 -> 0 | E95: ='G-2 Habitat groups'!BD86 -> 0 | F95: ='G-2 Habitat groups'!BE86 -> 0
B96: ='G-2 Habitat groups'!AU87 -> Heathland and shrub - Blackthorn scrub | C96: ='G-2 Habitat groups'!AV87 -> Heathland and shrub | D96: ='G-2 Habitat groups'!BB87 -> 0 | E96: ='G-2 Habitat groups'!BD87 -> 0 | F96: ='G-2 Habitat groups'!BE87 -> 0 | G96: =SUM(F96:F102) -> 0
B97: ='G-2 Habitat groups'!AU88 -> Heathland and shrub - Bramble scrub | C97: ='G-2 Habitat groups'!AV88 -> Heathland and shrub | D97: ='G-2 Habitat groups'!BB88 -> 0 | E97: ='G-2 Habitat groups'!BD88 -> 0 | F97: ='G-2 Habitat groups'!BE88 -> 0
B98: ='G-2 Habitat groups'!AU89 -> Heathland and shrub - Gorse scrub | C98: ='G-2 Habitat groups'!AV89 -> Heathland and shrub | D98: ='G-2 Habitat groups'!BB89 -> 0 | E98: ='G-2 Habitat groups'!BD89 -> 0 | F98: ='G-2 Habitat groups'!BE89 -> 0
B99: ='G-2 Habitat groups'!AU90 -> Heathland and shrub - Hawthorn scrub | C99: ='G-2 Habitat groups'!AV104 -> Heathland and shrub | D99: ='G-2 Habitat groups'!BB90 -> 0 | E99: ='G-2 Habitat groups'!BD90 -> 0 | F99: ='G-2 Habitat groups'!BE90 -> 0
B100: ='G-2 Habitat groups'!AU104 -> Heathland and shrub - Willow scrub | C100: ='G-2 Habitat groups'!AV91 -> Heathland and shrub | D100: ='G-2 Habitat groups'!BB104 -> 0 | E100: ='G-2 Habitat groups'!BD104 -> 0 | F100: ='G-2 Habitat groups'!BE104 -> 0
B101: ='G-2 Habitat groups'!AU91 -> Heathland and shrub - Hazel scrub | C101: ='G-2 Habitat groups'!AV91 -> Heathland and shrub | D101: ='G-2 Habitat groups'!BB91 -> 0 | E101: ='G-2 Habitat groups'!BD91 -> 0 | F101: ='G-2 Habitat groups'!BE91 -> 0
B102: ='G-2 Habitat groups'!AU92 -> Heathland and shrub - Mixed scrub | C102: ='G-2 Habitat groups'!AV92 -> Heathland and shrub | D102: ='G-2 Habitat groups'!BB92 -> 0 | E102: ='G-2 Habitat groups'!BD92 -> 0 | F102: ='G-2 Habitat groups'!BE92 -> 0
B103: ='G-2 Habitat groups'!AU93 -> Lakes - Ponds (non-priority habitat) | C103: ='G-2 Habitat groups'!AV93 -> Lakes | D103: ='G-2 Habitat groups'!BB93 -> 0.01544 | E103: ='G-2 Habitat groups'!BD93 -> 0 | F103: ='G-2 Habitat groups'!BE93 -> 0.01544 | G103: =SUM(F103:F104) -> 0.01544
B104: ='G-2 Habitat groups'!AU94 -> Lakes - Reservoirs | C104: ='G-2 Habitat groups'!AV94 -> Lakes | D104: ='G-2 Habitat groups'!BB94 -> 0 | E104: ='G-2 Habitat groups'!BD94 -> 0 | F104: ='G-2 Habitat groups'!BE94 -> 0
B105: ='G-2 Habitat groups'!AU95 -> Sparsely vegetated land - Other inland rock and scree | C105: ='G-2 Habitat groups'!AV95 -> Sparsely vegetated land | D105: ='G-2 Habitat groups'!BB95 -> 0 | E105: ='G-2 Habitat groups'!BD95 -> 0 | F105: ='G-2 Habitat groups'!BE95 -> 0 | G105: =F105 -> 0
B106: ='G-2 Habitat groups'!AU96 -> Urban - Cemeteries and churchyards | C106: ='G-2 Habitat groups'!AV96 -> Urban | D106: ='G-2 Habitat groups'!BB96 -> 0 | E106: ='G-2 Habitat groups'!BD96 -> 0 | F106: ='G-2 Habitat groups'!BE96 -> 0 | G106: =SUM(F106:F107) -> 0
B107: ='G-2 Habitat groups'!AU97 -> Urban - Biodiverse green roof | C107: ='G-2 Habitat groups'!AV97 -> Urban | D107: ='G-2 Habitat groups'!BB97 -> 0 | E107: ='G-2 Habitat groups'!BD97 -> 0 | F107: ='G-2 Habitat groups'!BE97 -> 0
B108: ='G-2 Habitat groups'!AU105 -> Individual trees - Urban tree | C108: ='G-2 Habitat groups'!AV105 -> Individual trees | D108: ='G-2 Habitat groups'!BB105 -> 0 | E108: ='G-2 Habitat groups'!BD105 -> 0 | F108: ='G-2 Habitat groups'!BE105 -> 0 | G108: =SUM(F108:F109) -> 0
B109: ='G-2 Habitat groups'!AU80 -> Individual trees - Rural tree | C109: ='G-2 Habitat groups'!AV80 -> Individual trees | D109: ='G-2 Habitat groups'!BB80 -> 0 | E109: ='G-2 Habitat groups'!BD80 -> 0 | F109: ='G-2 Habitat groups'!BE80 -> 0
B110: ='G-2 Habitat groups'!AU98 -> Woodland and forest - Other Scot's pine woodland | C110: ='G-2 Habitat groups'!AV98 -> Woodland and forest | D110: ='G-2 Habitat groups'!BB98 -> 0 | E110: ='G-2 Habitat groups'!BD98 -> 0 | F110: ='G-2 Habitat groups'!BE98 -> 0 | G110: =SUM(F110:F112) -> 0
B111: ='G-2 Habitat groups'!AU99 -> Woodland and forest - Other woodland; broadleaved | C111: ='G-2 Habitat groups'!AV99 -> Woodland and forest | D111: ='G-2 Habitat groups'!BB99 -> 0 | E111: ='G-2 Habitat groups'!BD99 -> 0 | F111: ='G-2 Habitat groups'!BE99 -> 0
B112: ='G-2 Habitat groups'!AU100 -> Woodland and forest - Other woodland; mixed | C112: ='G-2 Habitat groups'!AV100 -> Woodland and forest | D112: ='G-2 Habitat groups'!BB100 -> 0 | E112: ='G-2 Habitat groups'!BD100 -> 0 | F112: ='G-2 Habitat groups'!BE100 -> 0
B113: ='G-2 Habitat groups'!AU101 -> Intertidal sediment - Littoral coarse sediment | C113: ='G-2 Habitat groups'!AV101 -> Intertidal sediment | D113: ='G-2 Habitat groups'!BB101 -> 0 | E113: ='G-2 Habitat groups'!BD101 -> 0 | F113: ='G-2 Habitat groups'!BE101 -> 0 | G113: =SUM(F113:F115) -> 0
B114: ='G-2 Habitat groups'!AU102 -> Intertidal sediment - Littoral sand | C114: ='G-2 Habitat groups'!AV102 -> Intertidal sediment | D114: ='G-2 Habitat groups'!BB102 -> 0 | E114: ='G-2 Habitat groups'!BD102 -> 0 | F114: ='G-2 Habitat groups'!BE102 -> 0
B115: ='G-2 Habitat groups'!AU103 -> Intertidal hard structures - Artificial hard structures with integrated greening of grey infrastructure (IGGI) | C115: ='G-2 Habitat groups'!AV103 -> Intertidal hard structures | D115: ='G-2 Habitat groups'!BB103 -> 0 | E115: ='G-2 Habitat groups'!BD103 -> 0 | F115: ='G-2 Habitat groups'!BE103 -> 0
D116: =SUM(D89:D115) -> -0.32815322 | E116: =SUM(E89:E115) -> 0 | F116: =SUM(F89:F115) -> -0.32815322
B123: Low Distinctiveness
B124: Habitat group | C124: Group | D124: On-site unit change | E124: Off-site unit change | F124: Project wide unit change | I124: Low Distinctiveness Summary
B125: ='G-2 Habitat groups'!AU113 -> Cropland - Cereal crops | C125: ='G-2 Habitat groups'!AV113 -> Cropland | D125: ='G-2 Habitat groups'!BB113 -> 0 | E125: ='G-2 Habitat groups'!BD113 -> 0 | F125: ='G-2 Habitat groups'!BE113 -> 0 | I125: Low Distinctiveness net change in units | J125: =F163 -> 0.73442804
B126: ='G-2 Habitat groups'!AU114 -> Cropland - Horticulture | C126: ='G-2 Habitat groups'!AV114 -> Cropland | D126: ='G-2 Habitat groups'!BB114 -> 0 | E126: ='G-2 Habitat groups'!BD114 -> 0 | F126: ='G-2 Habitat groups'!BE114 -> 0 | I126: Cumulative surplus of units | J126: =J125+J91 -> 0.40627482
B127: ='G-2 Habitat groups'!AU115 -> Cropland - Intensive orchards | C127: ='G-2 Habitat groups'!AV115 -> Cropland | D127: ='G-2 Habitat groups'!BB115 -> 0 | E127: ='G-2 Habitat groups'!BD115 -> 0 | F127: ='G-2 Habitat groups'!BE115 -> 0
B128: ='G-2 Habitat groups'!AU116 -> Cropland - Non-cereal crops | C128: ='G-2 Habitat groups'!AV116 -> Cropland | D128: ='G-2 Habitat groups'!BB116 -> 0 | E128: ='G-2 Habitat groups'!BD116 -> 0 | F128: ='G-2 Habitat groups'!BE116 -> 0
B129: ='G-2 Habitat groups'!AU117 -> Cropland - Temporary grass and clover leys | C129: ='G-2 Habitat groups'!AV117 -> Cropland | D129: ='G-2 Habitat groups'!BB117 -> 0 | E129: ='G-2 Habitat groups'!BD117 -> 0 | F129: ='G-2 Habitat groups'!BE117 -> 0
B130: ='G-2 Habitat groups'!AU118 -> Cropland - Winter stubble | C130: ='G-2 Habitat groups'!AV118 -> Cropland | D130: ='G-2 Habitat groups'!BB118 -> 0 | E130: ='G-2 Habitat groups'!BD118 -> 0 | F130: ='G-2 Habitat groups'!BE118 -> 0
B131: ='G-2 Habitat groups'!AU119 -> Grassland - Modified grassland | C131: ='G-2 Habitat groups'!AV119 -> Grassland | D131: ='G-2 Habitat groups'!BB119 -> 0.67142404 | E131: ='G-2 Habitat groups'!BD119 -> 0 | F131: ='G-2 Habitat groups'!BE119 -> 0.67142404
...

Sheet Trading Summary Hedgerows
B2: Trading Summary
B3: Distinctiveness Group | C3: Trading Rule | G3: Trading Satisfied?
B5: Very High | C5: Same habitat required = | G5: =IFERROR(IF(H14<0,"No ▲","Yes ✓"),"") -> Yes ✓
B6: High | C6: Like for like or better | G6: =IF(H22+H13<0, "No ▲","Yes ✓") -> Yes ✓
B7: Medium | C7: Same distinctiveness or better habitat required | G7: =IF(H33<0, "No ▲","Yes ✓") -> Yes ✓
B8: Low/Very Low | C8: Same distinctiveness or better habitat required | G8: =IF(H44<0,"No ▲","Yes ✓") -> Yes ✓
B12: Very High Distinctiveness | G12: Very High Distinctiveness Summary
B13: Habitat group | C13: On-site unit change | D13: Off-site unit change | E13: Project-wide unit change | G13: Very High Distinctiveness Units available to offset lower distinctiveness deficit | H13: =SUMIF($E$14:$E$14,">0") -> 0
B14: ='G-2 Habitat groups'!A150 -> Species-rich native hedgerow with trees - associated with bank or ditch | C14: ='G-2 Habitat groups'!R150 -> 0 | D14: ='G-2 Habitat groups'!AD150 -> 0 | E14: ='G-2 Habitat groups'!AF150 -> 0 | G14: Unit Deficit; Like for like not satisfied | H14: =SUMIF(E14, "<0", E14) -> 0
C15: =SUM(C14:C14) -> 0 | D15: =SUM(D14:D14) -> 0 | E15: =SUM(E14:E14) -> 0
B20: High Distinctiveness | G20: High Distinctiveness Summary
B21: Habitat group | C21: On-site unit change | D21: Off-site unit change | E21: Project wide unit change | G21: High Distinctiveness Units available to offset lower distinctiveness deficit | H21: =SUMIF(E22:E24,">0") -> 0
B22: ='G-2 Habitat groups'!A151 -> Species-rich native hedgerow with trees | C22: ='G-2 Habitat groups'!R151 -> 0 | D22: ='G-2 Habitat groups'!AD151 -> 0 | E22: ='G-2 Habitat groups'!AF151 -> 0 | G22: High Distinctivness Deficit to be offset by trading up | H22: =SUMIF(E22:E24, "<0") -> 0
B23: ='G-2 Habitat groups'!A152 -> Species-rich native hedgerow - associated with bank or ditch | C23: ='G-2 Habitat groups'!R152 -> 0 | D23: ='G-2 Habitat groups'!AD152 -> 0 | E23: ='G-2 Habitat groups'!AF152 -> 0 | G23: Higher Distinctiveness surplus units minus any high distinctivness deficit | H23: =H13+H22 -> 0
B24: ='G-2 Habitat groups'!A153 -> Native hedgerow with trees - associated with bank or ditch | C24: ='G-2 Habitat groups'!R153 -> 0 | D24: ='G-2 Habitat groups'!AD153 -> 0 | E24: ='G-2 Habitat groups'!AF153 -> 0
B25: ='G-2 Habitat groups'!A158 -> Ecologically valuable line of trees - associated with bank or ditch | C25: ='G-2 Habitat groups'!BB87 -> 0 | D25: ='G-2 Habitat groups'!BD87 -> 0 | E25: ='G-2 Habitat groups'!BE87 -> 0 | G25: =SUM(E25:E25) -> 0
C26: =SUM(C22:C25) -> 0 | D26: =SUM(D22:D25) -> 0 | E26: =SUM(E22:E25) -> 0
B30: Medium Distinctiveness | G30: Medium Distinctiveness Summary
B31: Habitat group | C31: On-site unit change | D31: Off-site unit change | E31: Project wide unit change | G31: Units available from higher distinctiveness habitats | H31: =IF(H23>0, H23, 0)+H21 -> 0
B32: ='G-2 Habitat groups'!A154 -> Species-rich native hedgerow | C32: ='G-2 Habitat groups'!R154 -> 0 | D32: ='G-2 Habitat groups'!AD154 -> 0 | E32: ='G-2 Habitat groups'!AF154 -> 0 | G32: Medium Distinctiveness net change in units | H32: =E38 -> 0
B33: ='G-2 Habitat groups'!A155 -> Native hedgerow - associated with bank or ditch | C33: ='G-2 Habitat groups'!R155 -> 0 | D33: ='G-2 Habitat groups'!AD155 -> 0 | E33: ='G-2 Habitat groups'!AF155 -> 0 | G33: Cumulative availability of units | H33: =H32+H31 -> 0
B34: ='G-2 Habitat groups'!A156 -> Native hedgerow with trees | C34: ='G-2 Habitat groups'!R156 -> 0 | D34: ='G-2 Habitat groups'!AD156 -> 0 | E34: ='G-2 Habitat groups'!AF156 -> 0
B35: ='G-2 Habitat groups'!A157 -> Ecologically valuable line of trees | C35: ='G-2 Habitat groups'!R157 -> 0 | D35: ='G-2 Habitat groups'!AD157 -> 0 | E35: ='G-2 Habitat groups'!AF157 -> 0
B36: ='G-2 Habitat groups'!A158 -> Ecologically valuable line of trees - associated with bank or ditch | C36: ='G-2 Habitat groups'!R158 -> 0 | D36: ='G-2 Habitat groups'!AD158 -> 0 | E36: ='G-2 Habitat groups'!AF158 -> 0
B37: ='G-2 Habitat groups'!A158 -> Ecologically valuable line of trees - associated with bank or ditch | C37: ='G-2 Habitat groups'!BB30 -> 0 | D37: ='G-2 Habitat groups'!BD30 -> 0 | E37: ='G-2 Habitat groups'!BE30 -> 0 | G37: =SUM(E37:E37) -> 0
C38: =SUM(C32:C37) -> 0 | D38: =SUM(D32:D37) -> 0 | E38: =SUM(E32:E37) -> 0
B42: Low/Very Low Distinctiveness | G42: Low Distinctiveness Summary
B43: Habitat group | C43: On-site unit change | D43: Off-site unit change | E43: Project wide unit change | G43: Low Distinctiveness net change in units | H43: =E48 -> 0
B44: ='G-2 Habitat groups'!A159 -> Native hedgerow | C44: ='G-2 Habitat groups'!R159 -> 0 | D44: ='G-2 Habitat groups'!AD159 -> 0 | E44: ='G-2 Habitat groups'!AF159 -> 0 | G44: Cumulative availability of units | H44: =H43+H33 -> 0
B45: ='G-2 Habitat groups'!A160 -> Line of trees | C45: ='G-2 Habitat groups'!R160 -> 0 | D45: ='G-2 Habitat groups'!AD160 -> 0 | E45: ='G-2 Habitat groups'!AF160 -> 0
B46: ='G-2 Habitat groups'!A161 -> Line of trees - associated with bank or ditch | C46: ='G-2 Habitat groups'!R161 -> 0 | D46: ='G-2 Habitat groups'!AD161 -> 0 | E46: ='G-2 Habitat groups'!AF161 -> 0
B47: ='G-2 Habitat groups'!A162 -> Non-native and ornamental hedgerow | C47: ='G-2 Habitat groups'!R162 -> 0 | D47: ='G-2 Habitat groups'!AD162 -> 0 | E47: ='G-2 Habitat groups'!AF162 -> 0
C48: =SUM(C44:C47) -> 0 | D48: =SUM(D44:D47) -> 0 | E48: =SUM(E44:E47) -> 0

Sheet Trading Summary WaterC's
B2: Trading Summary
B3: Distinctiveness Group | C3: Trading Rule | G3: Trading Satisfied?
B5: Very High | C5: Bespoke compensation likely to be required 🛠 | G5: =IFERROR(IF(E14<0,"No ▲","Yes ✓"),"") -> Yes ✓
B6: High | C6: Same habitat required = | G6: =IF(H22<0, "No ▲","Yes ✓") -> Yes ✓
B7: Medium | C7: Same habitat required = | G7: =IF(H30<0, "No ▲","Yes ✓") -> Yes ✓
B8: Low | C8: Better distinctiveness habitat required | G8: =IF(H42<0,"No ▲","Yes ✓") -> Yes ✓
B11: Very High Distinctiveness | G11: Very High Distinctiveness Summary
B12: Habitat group | C12: On-site unit change | D12: Off-site unit change | E12: Project-wide unit change | G12: Very High Distinctiveness Units available to offset lower distinctiveness deficit | H12: =SUMIF($E$13:$E$13,">0") -> 0
B13: ='G-2 Habitat groups'!A172 -> Priority habitat | C13: ='G-2 Habitat groups'!R172 -> 0 | D13: ='G-2 Habitat groups'!AD172 -> 0 | E13: ='G-2 Habitat groups'!AF172 -> 0
C14: =SUM(C13:C13) -> 0 | D14: =SUM(D13:D13) -> 0 | E14: =SUM(E13:E13) -> 0
B20: High Distinctiveness | G20: High Distinctiveness Summary
B21: Habitat group | C21: On-site unit change | D21: Off-site unit change | E21: Project-wide unit change | G21: High Distinctiveness Units available to offset lower distinctiveness deficit | H21: =IF(E23>0, E23, 0) -> 0
B22: ='G-2 Habitat groups'!A173 -> Other rivers and streams | C22: ='G-2 Habitat groups'!R173 -> 0 | D22: ='G-2 Habitat groups'!AD173 -> 0 | E22: ='G-2 Habitat groups'!AF173 -> 0 | G22: Unit Deficit; Like for like not satisfied | H22: =IF(E23<0, E23, 0) -> 0
C23: =SUM(C22:C22) -> 0 | D23: =SUM(D22:D22) -> 0 | E23: =SUM(E22:E22) -> 0
B28: Medium Distinctiveness | G28: Medium Distinctiveness Summary
B29: Habitat group | C29: On-site unit change | D29: Off-site unit change | E29: Project wide unit change | G29: Medium Distinctiveness Units available to offset Lower Distinctiveness Deficit | H29: =SUMIF(E30:E31, ">0") -> 0
B30: ='G-2 Habitat groups'!A174 -> Ditches | C30: ='G-2 Habitat groups'!R174 -> 0 | D30: ='G-2 Habitat groups'!AD174 -> 0 | E30: ='G-2 Habitat groups'!AF174 -> 0 | G30: Unit Deficit; Like for like not satisfied | H30: =SUMIF(E30:E31, "<0", E30:E31) -> 0
B31: ='G-2 Habitat groups'!A175 -> Canals | C31: ='G-2 Habitat groups'!R175 -> 0 | D31: ='G-2 Habitat groups'!AD175 -> 0 | E31: ='G-2 Habitat groups'!AF175 -> 0
C32: =SUM(C30:C31) -> 0 | D32: =SUM(D30:D31) -> 0 | E32: =SUM(E30:E31) -> 0
B40: Low Distinctiveness | G40: Low Distinctiveness Summary
B41: Habitat group | C41: On-site unit change | D41: Off-site unit change | E41: Project wide unit change | G41: Low Distinctiveness net change in units | H41: =E43 -> 0
B42: ='G-2 Habitat groups'!A176 -> Culvert | C42: ='G-2 Habitat groups'!R176 -> 0 | D42: ='G-2 Habitat groups'!AD176 -> 0 | E42: ='G-2 Habitat groups'!AF176 -> 0 | G42: Cumulative availability of units | H42: =H41+(H29+H21+H12) -> 0
C43: =SUM(C42:C42) -> 0 | D43: =D42 -> 0 | E43: =SUM(E42:E42) -> 0

Sheet Off-site gain site summary
B3: Summary of sites providing area habitat unit gains | N3: Summary of sites providing hedgerow unit gains | W3: Summary of sites providing watercourse unit gains
B5: Gain site reference | C5: Off-site units baseline | D5: Off-site units retained | F5: Off-site units enhanced | H5: Off-site unit creation | J5: Off-site unit change per gain site (pre-SRM) | K5: SRM | L5: Off-site unit change per gain site (post-SRM) | N5: Gain site reference | O5: Off-site units baseline | P5: Off-site units retained | Q5: Off-site units enhanced | R5: Off-site unit creation | S5: Off-site unit change per gain site (pre-SRM) | T5: SRM | U5: Off-site unit change per gain site (post-SRM) | W5: Gain site reference | X5: Off-site units baseline | Y5: Off-site units retained | Z5: Off-site units enhanced | AA5: Off-site units Created | AB5: Off-site unit change per gain site (pre-SRM) | AC5: SRM | AD5: Off-site unit change per gain site (post-SRM)
A7: ='D-1 Off-Site Habitat Baseline'!AF11 -> 0 | B7: {=_xlfn.UNIQUE(_xlfn._xlws.FILTER(A7:A747,A7:A747<>0))} -> #VALUE! | C7: =SUMIF('D-1 Off-Site Habitat Baseline'!AF11:AF14,B7,'D-1 Off-Site Habitat Baseline'!T11:T14) -> 0 | D7: =SUMIF('D-1 Off-Site Habitat Baseline'!$AF$11:$AF$258,'Off-site gain site summary'!$B$7,'D-1 Off-Site Habitat Baseline'!$X$11:$X$258) -> 0 | F7: =SUMIF('D-3 Off-Site Habitat Enhancment'!$AU$12:$AU$258,'Off-site gain site summary'!B7,'D-3 Off-Site Habitat Enhancment'!$AQ$12:$AQ$258) -> 0 | H7: =SUMIF('D-2 Off-Site Habitat Creation'!$AF$11:$AF$256,'Off-site gain site summary'!B7,'D-2 Off-Site Habitat Creation'!$AB$11:$AB$256) -> 0 | J7: =(H7+F7+D7)-(C7) -> 0 | K7: =IFERROR(_xlfn.XLOOKUP(B7,'D-2 Off-Site Habitat Creation'!$AF$11:$AF$256,'D-2 Off-Site Habitat Creation'!$Z$11:$Z$256), IFERROR(_xlfn.XLOOKUP(B7,'D-1 Off-Site Habitat Baseline'!AF11:AF258,'D-1 Off-Site Habitat Baseline'!S11:S258), " ")) | L7: =IF(J7>0,IFERROR(J7*K7, "0"), J7) -> 0 | M7: ='E-1 Off-Site Hedge Baseline'!AB10 -> 0 | N7: {=_xlfn.UNIQUE(_xlfn._xlws.FILTER(M7:M745,M7:M745<>0))} -> #VALUE! | O7: =SUMIF('E-1 Off-Site Hedge Baseline'!AB10:AB257,'Off-site gain site summary'!N7,'E-1 Off-Site Hedge Baseline'!Q10:Q257) -> 0 | P7: =SUMIF('E-1 Off-Site Hedge Baseline'!$AB$10:$AB$257,'Off-site gain site summary'!$N7,'E-1 Off-Site Hedge Baseline'!$U$10:$U$257) -> 0 | Q7: =SUMIF('E-3 Off-Site Hedge Enhancement'!$AO$12:$AO$257,'Off-site gain site summary'!$N7,'E-3 Off-Site Hedge Enhancement'!$AK$12:$AK$257) -> 0 | R7: =SUMIF('E-2 Off-Site Hedge Creation'!$AD$12:$AD$259,'Off-site gain site summary'!$N7,'E-2 Off-Site Hedge Creation'!$Z$12:$Z$259) -> 0 | S7: =(R7+Q7+P7)-O7 -> 0 | T7: =IFERROR(_xlfn.XLOOKUP(N7,'E-2 Off-Site Hedge Creation'!AD12:AD259,'E-2 Off-Site Hedge Creation'!N12:N259), IFERROR(_xlfn.XLOOKUP(N7,'E-1 Off-Site Hedge Baseline'!AB10:AB257,'E-1 Off-Site Hedge Baseline'!P10:P257), " ")) | U7: =IF(S7>0,IFERROR(S7*T7, "0"), S7) -> 0 | V7: ='F-1 Off-Site WaterC'' Baseline'!AG10 -> 0 | W7: {=_xlfn.UNIQUE(_xlfn._xlws.FILTER(V7:V748, V7:V748<>0))} -> #VALUE! | X7: =SUMIF('F-1 Off-Site WaterC'' Baseline'!$AG$10:$AG$257,'Off-site gain site summary'!$W7,'F-1 Off-Site WaterC'' Baseline'!$U$10:$U$257) -> 0 | Y7: =SUMIF('F-1 Off-Site WaterC'' Baseline'!$AG$10:$AG$257,'Off-site gain site summary'!$W7,'F-1 Off-Site WaterC'' Baseline'!$Y$10:$Y$257) -> 0 | Z7: =SUMIF('F-3 Off-Site WaterC Enhancement'!$AT$12:$AT$257,'Off-site gain site summary'!$W7,'F-3 Off-Site WaterC Enhancement'!$AP$12:$AP$257) -> 0 | AA7: =SUMIF('F-2 Off-Site WaterC'' Creation'!$AG$12:$AG$259,'Off-site gain site summary'!$W7,'F-2 Off-Site WaterC'' Creation'!$AC$12:$AC$259) -> 0 | AB7: =(Z7+AA7+Y7)-X7 -> 0 | AC7: =IFERROR(_xlfn.XLOOKUP(W7,'F-2 Off-Site WaterC'' Creation'!AG12:AG258,'F-2 Off-Site WaterC'' Creation'!AA12:AA259), IFERROR(_xlfn.XLOOKUP(W7,'F-1 Off-Site WaterC'' Baseline'!AG10:AG257,'F-1 Off-Site WaterC'' Baseline'!T10:T257)," ")) | AD7: =IF(AB7>0,IFERROR(AB7*AC7, "0"), AB7) -> 0
A8: ='D-1 Off-Site Habitat Baseline'!AF12 -> 0 | C8: =SUMIF('D-1 Off-Site Habitat Baseline'!AF12:AF15,B8,'D-1 Off-Site Habitat Baseline'!T12:T15) -> 0 | D8: =SUMIF('D-1 Off-Site Habitat Baseline'!$AF$11:$AF$258,'Off-site gain site summary'!$B$7,'D-1 Off-Site Habitat Baseline'!$X$11:$X$258) -> 0 | F8: =SUMIF('D-3 Off-Site Habitat Enhancment'!$AU$12:$AU$258,'Off-site gain site summary'!B8,'D-3 Off-Site Habitat Enhancment'!$AQ$12:$AQ$258) -> 0 | H8: =SUMIF('D-2 Off-Site Habitat Creation'!$AF$11:$AF$256,'Off-site gain site summary'!B8,'D-2 Off-Site Habitat Creation'!$AB$11:$AB$256) -> 0 | J8: =(H8+F8+D8)-(C8) -> 0 | K8: =IFERROR(_xlfn.XLOOKUP(B8,'D-2 Off-Site Habitat Creation'!$AF$11:$AF$256,'D-2 Off-Site Habitat Creation'!$Z$11:$Z$256), IFERROR(_xlfn.XLOOKUP(B8,'D-1 Off-Site Habitat Baseline'!AF12:AF259,'D-1 Off-Site Habitat Baseline'!S12:S259), " ")) | L8: =IF(J8>0,IFERROR(J8*K8, "0"), J8) -> 0 | M8: ='E-1 Off-Site Hedge Baseline'!AB11 -> 0 | O8: =SUMIF('E-1 Off-Site Hedge Baseline'!AB11:AB258,'Off-site gain site summary'!N8,'E-1 Off-Site Hedge Baseline'!Q11:Q258) -> 0 | P8: =SUMIF('E-1 Off-Site Hedge Baseline'!$AB$10:$AB$257,'Off-site gain site summary'!$N8,'E-1 Off-Site Hedge Baseline'!$U$10:$U$257) -> 0 | Q8: =SUMIF('E-3 Off-Site Hedge Enhancement'!$AO$12:$AO$257,'Off-site gain site summary'!$N8,'E-3 Off-Site Hedge Enhancement'!$AK$12:$AK$257) -> 0 | R8: =SUMIF('E-2 Off-Site Hedge Creation'!$AD$12:$AD$259,'Off-site gain site summary'!$N8,'E-2 Off-Site Hedge Creation'!$Z$12:$Z$259) -> 0 | S8: =(R8+Q8+P8)-O8 -> 0 | T8: =IFERROR(_xlfn.XLOOKUP(N8,'E-2 Off-Site Hedge Creation'!AD13:AD260,'E-2 Off-Site Hedge Creation'!N13:N260), IFERROR(_xlfn.XLOOKUP(N8,'E-1 Off-Site Hedge Baseline'!AB11:AB258,'E-1 Off-Site Hedge Baseline'!P11:P258), " ")) | U8: =IF(S8>0,IFERROR(S8*T8, "0"), S8) -> 0 | V8: ='F-1 Off-Site WaterC'' Baseline'!AG11 -> 0 | X8: =SUMIF('F-1 Off-Site WaterC'' Baseline'!$AG$10:$AG$257,'Off-site gain site summary'!$W8,'F-1 Off-Site WaterC'' Baseline'!$U$10:$U$257) -> 0 | Y8: =SUMIF('F-1 Off-Site WaterC'' Baseline'!$AG$10:$AG$257,'Off-site gain site summary'!$W8,'F-1 Off-Site WaterC'' Baseline'!$Y$10:$Y$257) -> 0 | Z8: =SUMIF('F-3 Off-Site WaterC Enhancement'!$AT$12:$AT$257,'Off-site gain site summary'!$W8,'F-3 Off-Site WaterC Enhancement'!$AP$12:$AP$257) -> 0 | AA8: =SUMIF('F-2 Off-Site WaterC'' Creation'!$AG$12:$AG$259,'Off-site gain site summary'!$W8,'F-2 Off-Site WaterC'' Creation'!$AC$12:$AC$259) -> 0 | AB8: =(Z8+AA8+Y8)-X8 -> 0 | AC8: =IFERROR(_xlfn.XLOOKUP(W8,'F-2 Off-Site WaterC'' Creation'!AG13:AG259,'F-2 Off-Site WaterC'' Creation'!AA13:AA260), IFERROR(_xlfn.XLOOKUP(W8,'F-1 Off-Site WaterC'' Baseline'!AG11:AG258,'F-1 Off-Site WaterC'' Baseline'!T11:T258)," ")) | AD8: =IF(AB8>0,IFERROR(AB8*AC8, "0"), AB8) -> 0
A9: ='D-1 Off-Site Habitat Baseline'!AF13 -> 0 | C9: =SUMIF('D-1 Off-Site Habitat Baseline'!AF13:AF16,B9,'D-1 Off-Site Habitat Baseline'!T13:T16) -> 0 | D9: =SUMIF('D-1 Off-Site Habitat Baseline'!$AF$11:$AF$258,'Off-site gain site summary'!$B$7,'D-1 Off-Site Habitat Baseline'!$X$11:$X$258) -> 0 | F9: =SUMIF('D-3 Off-Site Habitat Enhancment'!$AU$12:$AU$258,'Off-site gain site summary'!B9,'D-3 Off-Site Habitat Enhancment'!$AQ$12:$AQ$258) -> 0 | H9: =SUMIF('D-2 Off-Site Habitat Creation'!$AF$11:$AF$256,'Off-site gain site summary'!B9,'D-2 Off-Site Habitat Creation'!$AB$11:$AB$256) -> 0 | J9: =(H9+F9+D9)-(C9) -> 0 | K9: =IFERROR(_xlfn.XLOOKUP(B9,'D-2 Off-Site Habitat Creation'!$AF$11:$AF$256,'D-2 Off-Site Habitat Creation'!$Z$11:$Z$256), IFERROR(_xlfn.XLOOKUP(B9,'D-1 Off-Site Habitat Baseline'!AF13:AF260,'D-1 Off-Site Habitat Baseline'!S13:S260), " ")) | L9: =IF(J9>0,IFERROR(J9*K9, "0"), J9) -> 0 | M9: ='E-1 Off-Site Hedge Baseline'!AB12 -> 0 | O9: =SUMIF('E-1 Off-Site Hedge Baseline'!AB12:AB259,'Off-site gain site summary'!N9,'E-1 Off-Site Hedge Baseline'!Q12:Q259) -> 0 | P9: =SUMIF('E-1 Off-Site Hedge Baseline'!$AB$10:$AB$257,'Off-site gain site summary'!$N9,'E-1 Off-Site Hedge Baseline'!$U$10:$U$257) -> 0 | Q9: =SUMIF('E-3 Off-Site Hedge Enhancement'!$AO$12:$AO$257,'Off-site gain site summary'!$N9,'E-3 Off-Site Hedge Enhancement'!$AK$12:$AK$257) -> 0 | R9: =SUMIF('E-2 Off-Site Hedge Creation'!$AD$12:$AD$259,'Off-site gain site summary'!$N9,'E-2 Off-Site Hedge Creation'!$Z$12:$Z$259) -> 0 | S9: =(R9+Q9+P9)-O9 -> 0 | T9: =IFERROR(_xlfn.XLOOKUP(N9,'E-2 Off-Site Hedge Creation'!AD14:AD261,'E-2 Off-Site Hedge Creation'!N14:N261), IFERROR(_xlfn.XLOOKUP(N9,'E-1 Off-Site Hedge Baseline'!AB12:AB259,'E-1 Off-Site Hedge Baseline'!P12:P259), " ")) | U9: =IF(S9>0,IFERROR(S9*T9, "0"), S9) -> 0 | V9: ='F-1 Off-Site WaterC'' Baseline'!AG12 -> 0 | X9: =SUMIF('F-1 Off-Site WaterC'' Baseline'!$AG$10:$AG$257,'Off-site gain site summary'!$W9,'F-1 Off-Site WaterC'' Baseline'!$U$10:$U$257) -> 0 | Y9: =SUMIF('F-1 Off-Site WaterC'' Baseline'!$AG$10:$AG$257,'Off-site gain site summary'!$W9,'F-1 Off-Site WaterC'' Baseline'!$Y$10:$Y$257) -> 0 | Z9: =SUMIF('F-3 Off-Site WaterC Enhancement'!$AT$12:$AT$257,'Off-site gain site summary'!$W9,'F-3 Off-Site WaterC Enhancement'!$AP$12:$AP$257) -> 0 | AA9: =SUMIF('F-2 Off-Site WaterC'' Creation'!$AG$12:$AG$259,'Off-site gain site summary'!$W9,'F-2 Off-Site WaterC'' Creation'!$AC$12:$AC$259) -> 0 | AB9: =(Z9+AA9+Y9)-X9 -> 0 | AC9: =IFERROR(_xlfn.XLOOKUP(W9,'F-2 Off-Site WaterC'' Creation'!AG14:AG260,'F-2 Off-Site WaterC'' Creation'!AA14:AA261), IFERROR(_xlfn.XLOOKUP(W9,'F-1 Off-Site WaterC'' Baseline'!AG12:AG259,'F-1 Off-Site WaterC'' Baseline'!T12:T259)," ")) | AD9: =IF(AB9>0,IFERROR(AB9*AC9, "0"), AB9) -> 0
A10: ='D-1 Off-Site Habitat Baseline'!AF14 -> 0 | C10: =SUMIF('D-1 Off-Site Habitat Baseline'!AF14:AF17,B10,'D-1 Off-Site Habitat Baseline'!T14:T17) -> 0 | D10: =SUMIF('D-1 Off-Site Habitat Baseline'!$AF$11:$AF$258,'Off-site gain site summary'!$B$7,'D-1 Off-Site Habitat Baseline'!$X$11:$X$258) -> 0 | F10: =SUMIF('D-3 Off-Site Habitat Enhancment'!$AU$12:$AU$258,'Off-site gain site summary'!B10,'D-3 Off-Site Habitat Enhancment'!$AQ$12:$AQ$258) -> 0 | H10: =SUMIF('D-2 Off-Site Habitat Creation'!$AF$11:$AF$256,'Off-site gain site summary'!B10,'D-2 Off-Site Habitat Creation'!$AB$11:$AB$256) -> 0 | J10: =(H10+F10+D10)-(C10) -> 0 | K10: =IFERROR(_xlfn.XLOOKUP(B10,'D-2 Off-Site Habitat Creation'!$AF$11:$AF$256,'D-2 Off-Site Habitat Creation'!$Z$11:$Z$256), IFERROR(_xlfn.XLOOKUP(B10,'D-1 Off-Site Habitat Baseline'!AF14:AF261,'D-1 Off-Site Habitat Baseline'!S14:S261), " ")) | L10: =IF(J10>0,IFERROR(J10*K10, "0"), J10) -> 0 | M10: ='E-1 Off-Site Hedge Baseline'!AB13 -> 0 | O10: =SUMIF('E-1 Off-Site Hedge Baseline'!AB13:AB260,'Off-site gain site summary'!N10,'E-1 Off-Site Hedge Baseline'!Q13:Q260) -> 0 | P10: =SUMIF('E-1 Off-Site Hedge Baseline'!$AB$10:$AB$257,'Off-site gain site summary'!$N10,'E-1 Off-Site Hedge Baseline'!$U$10:$U$257) -> 0 | Q10: =SUMIF('E-3 Off-Site Hedge Enhancement'!$AO$12:$AO$257,'Off-site gain site summary'!$N10,'E-3 Off-Site Hedge Enhancement'!$AK$12:$AK$257) -> 0 | R10: =SUMIF('E-2 Off-Site Hedge Creation'!$AD$12:$AD$259,'Off-site gain site summary'!$N10,'E-2 Off-Site Hedge Creation'!$Z$12:$Z$259) -> 0 | S10: =(R10+Q10+P10)-O10 -> 0 | T10: =IFERROR(_xlfn.XLOOKUP(N10,'E-2 Off-Site Hedge Creation'!AD15:AD262,'E-2 Off-Site Hedge Creation'!N15:N262), IFERROR(_xlfn.XLOOKUP(N10,'E-1 Off-Site Hedge Baseline'!AB13:AB260,'E-1 Off-Site Hedge Baseline'!P13:P260), " ")) | U10: =IF(S10>0,IFERROR(S10*T10, "0"), S10) -> 0 | V10: ='F-1 Off-Site WaterC'' Baseline'!AG13 -> 0 | X10: =SUMIF('F-1 Off-Site WaterC'' Baseline'!$AG$10:$AG$257,'Off-site gain site summary'!$W10,'F-1 Off-Site WaterC'' Baseline'!$U$10:$U$257) -> 0 | Y10: =SUMIF('F-1 Off-Site WaterC'' Baseline'!$AG$10:$AG$257,'Off-site gain site summary'!$W10,'F-1 Off-Site WaterC'' Baseline'!$Y$10:$Y$257) -> 0 | Z10: =SUMIF('F-3 Off-Site WaterC Enhancement'!$AT$12:$AT$257,'Off-site gain site summary'!$W10,'F-3 Off-Site WaterC Enhancement'!$AP$12:$AP$257) -> 0 | AA10: =SUMIF('F-2 Off-Site WaterC'' Creation'!$AG$12:$AG$259,'Off-site gain site summary'!$W10,'F-2 Off-Site WaterC'' Creation'!$AC$12:$AC$259) -> 0 | AB10: =(Z10+AA10+Y10)-X10 -> 0 | AC10: =IFERROR(_xlfn.XLOOKUP(W10,'F-2 Off-Site WaterC'' Creation'!AG15:AG261,'F-2 Off-Site WaterC'' Creation'!AA15:AA262), IFERROR(_xlfn.XLOOKUP(W10,'F-1 Off-Site WaterC'' Baseline'!AG13:AG260,'F-1 Off-Site WaterC'' Baseline'!T13:T260)," ")) | AD10: =IF(AB10>0,IFERROR(AB10*AC10, "0"), AB10) -> 0
A11: ='D-1 Off-Site Habitat Baseline'!AF15 -> 0 | C11: =SUMIF('D-1 Off-Site Habitat Baseline'!AF15:AF18,B11,'D-1 Off-Site Habitat Baseline'!T15:T18) -> 0 | D11: =SUMIF('D-1 Off-Site Habitat Baseline'!$AF$11:$AF$258,'Off-site gain site summary'!$B$7,'D-1 Off-Site Habitat Baseline'!$X$11:$X$258) -> 0 | F11: =SUMIF('D-3 Off-Site Habitat Enhancment'!$AU$12:$AU$258,'Off-site gain site summary'!B11,'D-3 Off-Site Habitat Enhancment'!$AQ$12:$AQ$258) -> 0 | H11: =SUMIF('D-2 Off-Site Habitat Creation'!$AF$11:$AF$256,'Off-site gain site summary'!B11,'D-2 Off-Site Habitat Creation'!$AB$11:$AB$256) -> 0 | J11: =(H11+F11+D11)-(C11) -> 0 | K11: =IFERROR(_xlfn.XLOOKUP(B11,'D-2 Off-Site Habitat Creation'!$AF$11:$AF$256,'D-2 Off-Site Habitat Creation'!$Z$11:$Z$256), IFERROR(_xlfn.XLOOKUP(B11,'D-1 Off-Site Habitat Baseline'!AF15:AF262,'D-1 Off-Site Habitat Baseline'!S15:S262), " ")) | L11: =IF(J11>0,IFERROR(J11*K11, "0"), J11) -> 0 | M11: ='E-1 Off-Site Hedge Baseline'!AB14 -> 0 | O11: =SUMIF('E-1 Off-Site Hedge Baseline'!AB14:AB261,'Off-site gain site summary'!N11,'E-1 Off-Site Hedge Baseline'!Q14:Q261) -> 0 | P11: =SUMIF('E-1 Off-Site Hedge Baseline'!$AB$10:$AB$257,'Off-site gain site summary'!$N11,'E-1 Off-Site Hedge Baseline'!$U$10:$U$257) -> 0 | Q11: =SUMIF('E-3 Off-Site Hedge Enhancement'!$AO$12:$AO$257,'Off-site gain site summary'!$N11,'E-3 Off-Site Hedge Enhancement'!$AK$12:$AK$257) -> 0 | R11: =SUMIF('E-2 Off-Site Hedge Creation'!$AD$12:$AD$259,'Off-site gain site summary'!$N11,'E-2 Off-Site Hedge Creation'!$Z$12:$Z$259) -> 0 | S11: =(R11+Q11+P11)-O11 -> 0 | T11: =IFERROR(_xlfn.XLOOKUP(N11,'E-2 Off-Site Hedge Creation'!AD16:AD263,'E-2 Off-Site Hedge Creation'!N16:N263), IFERROR(_xlfn.XLOOKUP(N11,'E-1 Off-Site Hedge Baseline'!AB14:AB261,'E-1 Off-Site Hedge Baseline'!P14:P261), " ")) | U11: =IF(S11>0,IFERROR(S11*T11, "0"), S11) -> 0 | V11: ='F-1 Off-Site WaterC'' Baseline'!AG14 -> 0 | X11: =SUMIF('F-1 Off-Site WaterC'' Baseline'!$AG$10:$AG$257,'Off-site gain site summary'!$W11,'F-1 Off-Site WaterC'' Baseline'!$U$10:$U$257) -> 0 | Y11: =SUMIF('F-1 Off-Site WaterC'' Baseline'!$AG$10:$AG$257,'Off-site gain site summary'!$W11,'F-1 Off-Site WaterC'' Baseline'!$Y$10:$Y$257) -> 0 | Z11: =SUMIF('F-3 Off-Site WaterC Enhancement'!$AT$12:$AT$257,'Off-site gain site summary'!$W11,'F-3 Off-Site WaterC Enhancement'!$AP$12:$AP$257) -> 0 | AA11: =SUMIF('F-2 Off-Site WaterC'' Creation'!$AG$12:$AG$259,'Off-site gain site summary'!$W11,'F-2 Off-Site WaterC'' Creation'!$AC$12:$AC$259) -> 0 | AB11: =(Z11+AA11+Y11)-X11 -> 0 | AC11: =IFERROR(_xlfn.XLOOKUP(W11,'F-2 Off-Site WaterC'' Creation'!AG16:AG262,'F-2 Off-Site WaterC'' Creation'!AA16:AA263), IFERROR(_xlfn.XLOOKUP(W11,'F-1 Off-Site WaterC'' Baseline'!AG14:AG261,'F-1 Off-Site WaterC'' Baseline'!T14:T261)," ")) | AD11: =IF(AB11>0,IFERROR(AB11*AC11, "0"), AB11) -> 0
A12: ='D-1 Off-Site Habitat Baseline'!AF16 -> 0 | C12: =SUMIF('D-1 Off-Site Habitat Baseline'!AF16:AF19,B12,'D-1 Off-Site Habitat Baseline'!T16:T19) -> 0 | D12: =SUMIF('D-1 Off-Site Habitat Baseline'!$AF$11:$AF$258,'Off-site gain site summary'!$B$7,'D-1 Off-Site Habitat Baseline'!$X$11:$X$258) -> 0 | F12: =SUMIF('D-3 Off-Site Habitat Enhancment'!$AU$12:$AU$258,'Off-site gain site summary'!B12,'D-3 Off-Site Habitat Enhancment'!$AQ$12:$AQ$258) -> 0 | H12: =SUMIF('D-2 Off-Site Habitat Creation'!$AF$11:$AF$256,'Off-site gain site summary'!B12,'D-2 Off-Site Habitat Creation'!$AB$11:$AB$256) -> 0 | J12: =(H12+F12+D12)-(C12) -> 0 | K12: =IFERROR(_xlfn.XLOOKUP(B12,'D-2 Off-Site Habitat Creation'!$AF$11:$AF$256,'D-2 Off-Site Habitat Creation'!$Z$11:$Z$256), IFERROR(_xlfn.XLOOKUP(B12,'D-1 Off-Site Habitat Baseline'!AF16:AF263,'D-1 Off-Site Habitat Baseline'!S16:S263), " ")) | L12: =IF(J12>0,IFERROR(J12*K12, "0"), J12) -> 0 | M12: ='E-1 Off-Site Hedge Baseline'!AB15 -> 0 | O12: =SUMIF('E-1 Off-Site Hedge Baseline'!AB15:AB262,'Off-site gain site summary'!N12,'E-1 Off-Site Hedge Baseline'!Q15:Q262) -> 0 | P12: =SUMIF('E-1 Off-Site Hedge Baseline'!$AB$10:$AB$257,'Off-site gain site summary'!$N12,'E-1 Off-Site Hedge Baseline'!$U$10:$U$257) -> 0 | Q12: =SUMIF('E-3 Off-Site Hedge Enhancement'!$AO$12:$AO$257,'Off-site gain site summary'!$N12,'E-3 Off-Site Hedge Enhancement'!$AK$12:$AK$257) -> 0 | R12: =SUMIF('E-2 Off-Site Hedge Creation'!$AD$12:$AD$259,'Off-site gain site summary'!$N12,'E-2 Off-Site Hedge Creation'!$Z$12:$Z$259) -> 0 | S12: =(R12+Q12+P12)-O12 -> 0 | T12: =IFERROR(_xlfn.XLOOKUP(N12,'E-2 Off-Site Hedge Creation'!AD17:AD264,'E-2 Off-Site Hedge Creation'!N17:N264), IFERROR(_xlfn.XLOOKUP(N12,'E-1 Off-Site Hedge Baseline'!AB15:AB262,'E-1 Off-Site Hedge Baseline'!P15:P262), " ")) | U12: =IF(S12>0,IFERROR(S12*T12, "0"), S12) -> 0 | V12: ='F-1 Off-Site WaterC'' Baseline'!AG15 -> 0 | X12: =SUMIF('F-1 Off-Site WaterC'' Baseline'!$AG$10:$AG$257,'Off-site gain site summary'!$W12,'F-1 Off-Site WaterC'' Baseline'!$U$10:$U$257) -> 0 | Y12: =SUMIF('F-1 Off-Site WaterC'' Baseline'!$AG$10:$AG$257,'Off-site gain site summary'!$W12,'F-1 Off-Site WaterC'' Baseline'!$Y$10:$Y$257) -> 0 | Z12: =SUMIF('F-3 Off-Site WaterC Enhancement'!$AT$12:$AT$257,'Off-site gain site summary'!$W12,'F-3 Off-Site WaterC Enhancement'!$AP$12:$AP$257) -> 0 | AA12: =SUMIF('F-2 Off-Site WaterC'' Creation'!$AG$12:$AG$259,'Off-site gain site summary'!$W12,'F-2 Off-Site WaterC'' Creation'!$AC$12:$AC$259) -> 0 | AB12: =(Z12+AA12+Y12)-X12 -> 0 | AC12: =IFERROR(_xlfn.XLOOKUP(W12,'F-2 Off-Site WaterC'' Creation'!AG17:AG263,'F-2 Off-Site WaterC'' Creation'!AA17:AA264), IFERROR(_xlfn.XLOOKUP(W12,'F-1 Off-Site WaterC'' Baseline'!AG15:AG262,'F-1 Off-Site WaterC'' Baseline'!T15:T262)," ")) | AD12: =IF(AB12>0,IFERROR(AB12*AC12, "0"), AB12) -> 0
A13: ='D-1 Off-Site Habitat Baseline'!AF17 -> 0 | C13: =SUMIF('D-1 Off-Site Habitat Baseline'!AF17:AF20,B13,'D-1 Off-Site Habitat Baseline'!T17:T20) -> 0 | D13: =SUMIF('D-1 Off-Site Habitat Baseline'!$AF$11:$AF$258,'Off-site gain site summary'!$B$7,'D-1 Off-Site Habitat Baseline'!$X$11:$X$258) -> 0 | F13: =SUMIF('D-3 Off-Site Habitat Enhancment'!$AU$12:$AU$258,'Off-site gain site summary'!B13,'D-3 Off-Site Habitat Enhancment'!$AQ$12:$AQ$258) -> 0 | H13: =SUMIF('D-2 Off-Site Habitat Creation'!$AF$11:$AF$256,'Off-site gain site summary'!B13,'D-2 Off-Site Habitat Creation'!$AB$11:$AB$256) -> 0 | J13: =(H13+F13+D13)-(C13) -> 0 | K13: =IFERROR(_xlfn.XLOOKUP(B13,'D-2 Off-Site Habitat Creation'!$AF$11:$AF$256,'D-2 Off-Site Habitat Creation'!$Z$11:$Z$256), IFERROR(_xlfn.XLOOKUP(B13,'D-1 Off-Site Habitat Baseline'!AF17:AF264,'D-1 Off-Site Habitat Baseline'!S17:S264), " ")) | L13: =IF(J13>0,IFERROR(J13*K13, "0"), J13) -> 0 | M13: ='E-1 Off-Site Hedge Baseline'!AB16 -> 0 | O13: =SUMIF('E-1 Off-Site Hedge Baseline'!AB16:AB263,'Off-site gain site summary'!N13,'E-1 Off-Site Hedge Baseline'!Q16:Q263) -> 0 | P13: =SUMIF('E-1 Off-Site Hedge Baseline'!$AB$10:$AB$257,'Off-site gain site summary'!$N13,'E-1 Off-Site Hedge Baseline'!$U$10:$U$257) -> 0 | Q13: =SUMIF('E-3 Off-Site Hedge Enhancement'!$AO$12:$AO$257,'Off-site gain site summary'!$N13,'E-3 Off-Site Hedge Enhancement'!$AK$12:$AK$257) -> 0 | R13: =SUMIF('E-2 Off-Site Hedge Creation'!$AD$12:$AD$259,'Off-site gain site summary'!$N13,'E-2 Off-Site Hedge Creation'!$Z$12:$Z$259) -> 0 | S13: =(R13+Q13+P13)-O13 -> 0 | T13: =IFERROR(_xlfn.XLOOKUP(N13,'E-2 Off-Site Hedge Creation'!AD18:AD265,'E-2 Off-Site Hedge Creation'!N18:N265), IFERROR(_xlfn.XLOOKUP(N13,'E-1 Off-Site Hedge Baseline'!AB16:AB263,'E-1 Off-Site Hedge Baseline'!P16:P263), " ")) | U13: =IF(S13>0,IFERROR(S13*T13, "0"), S13) -> 0 | V13: ='F-1 Off-Site WaterC'' Baseline'!AG16 -> 0 | X13: =SUMIF('F-1 Off-Site WaterC'' Baseline'!$AG$10:$AG$257,'Off-site gain site summary'!$W13,'F-1 Off-Site WaterC'' Baseline'!$U$10:$U$257) -> 0 | Y13: =SUMIF('F-1 Off-Site WaterC'' Baseline'!$AG$10:$AG$257,'Off-site gain site summary'!$W13,'F-1 Off-Site WaterC'' Baseline'!$Y$10:$Y$257) -> 0 | Z13: =SUMIF('F-3 Off-Site WaterC Enhancement'!$AT$12:$AT$257,'Off-site gain site summary'!$W13,'F-3 Off-Site WaterC Enhancement'!$AP$12:$AP$257) -> 0 | AA13: =SUMIF('F-2 Off-Site WaterC'' Creation'!$AG$12:$AG$259,'Off-site gain site summary'!$W13,'F-2 Off-Site WaterC'' Creation'!$AC$12:$AC$259) -> 0 | AB13: =(Z13+AA13+Y13)-X13 -> 0 | AC13: =IFERROR(_xlfn.XLOOKUP(W13,'F-2 Off-Site WaterC'' Creation'!AG18:AG264,'F-2 Off-Site WaterC'' Creation'!AA18:AA265), IFERROR(_xlfn.XLOOKUP(W13,'F-1 Off-Site WaterC'' Baseline'!AG16:AG263,'F-1 Off-Site WaterC'' Baseline'!T16:T263)," ")) | AD13: =IF(AB13>0,IFERROR(AB13*AC13, "0"), AB13) -> 0
A14: ='D-1 Off-Site Habitat Baseline'!AF18 -> 0 | C14: =SUMIF('D-1 Off-Site Habitat Baseline'!AF18:AF21,B14,'D-1 Off-Site Habitat Baseline'!T18:T21) -> 0 | D14: =SUMIF('D-1 Off-Site Habitat Baseline'!$AF$11:$AF$258,'Off-site gain site summary'!$B$7,'D-1 Off-Site Habitat Baseline'!$X$11:$X$258) -> 0 | F14: =SUMIF('D-3 Off-Site Habitat Enhancment'!$AU$12:$AU$258,'Off-site gain site summary'!B14,'D-3 Off-Site Habitat Enhancment'!$AQ$12:$AQ$258) -> 0 | H14: =SUMIF('D-2 Off-Site Habitat Creation'!$AF$11:$AF$256,'Off-site gain site summary'!B14,'D-2 Off-Site Habitat Creation'!$AB$11:$AB$256) -> 0 | J14: =(H14+F14+D14)-(C14) -> 0 | K14: =IFERROR(_xlfn.XLOOKUP(B14,'D-2 Off-Site Habitat Creation'!$AF$11:$AF$256,'D-2 Off-Site Habitat Creation'!$Z$11:$Z$256), IFERROR(_xlfn.XLOOKUP(B14,'D-1 Off-Site Habitat Baseline'!AF18:AF265,'D-1 Off-Site Habitat Baseline'!S18:S265), " ")) | L14: =IF(J14>0,IFERROR(J14*K14, "0"), J14) -> 0 | M14: ='E-1 Off-Site Hedge Baseline'!AB17 -> 0 | O14: =SUMIF('E-1 Off-Site Hedge Baseline'!AB17:AB264,'Off-site gain site summary'!N14,'E-1 Off-Site Hedge Baseline'!Q17:Q264) -> 0 | P14: =SUMIF('E-1 Off-Site Hedge Baseline'!$AB$10:$AB$257,'Off-site gain site summary'!$N14,'E-1 Off-Site Hedge Baseline'!$U$10:$U$257) -> 0 | Q14: =SUMIF('E-3 Off-Site Hedge Enhancement'!$AO$12:$AO$257,'Off-site gain site summary'!$N14,'E-3 Off-Site Hedge Enhancement'!$AK$12:$AK$257) -> 0 | R14: =SUMIF('E-2 Off-Site Hedge Creation'!$AD$12:$AD$259,'Off-site gain site summary'!$N14,'E-2 Off-Site Hedge Creation'!$Z$12:$Z$259) -> 0 | S14: =(R14+Q14+P14)-O14 -> 0 | T14: =IFERROR(_xlfn.XLOOKUP(N14,'E-2 Off-Site Hedge Creation'!AD19:AD266,'E-2 Off-Site Hedge Creation'!N19:N266), IFERROR(_xlfn.XLOOKUP(N14,'E-1 Off-Site Hedge Baseline'!AB17:AB264,'E-1 Off-Site Hedge Baseline'!P17:P264), " ")) | U14: =IF(S14>0,IFERROR(S14*T14, "0"), S14) -> 0 | V14: ='F-1 Off-Site WaterC'' Baseline'!AG17 -> 0 | X14: =SUMIF('F-1 Off-Site WaterC'' Baseline'!$AG$10:$AG$257,'Off-site gain site summary'!$W14,'F-1 Off-Site WaterC'' Baseline'!$U$10:$U$257) -> 0 | Y14: =SUMIF('F-1 Off-Site WaterC'' Baseline'!$AG$10:$AG$257,'Off-site gain site summary'!$W14,'F-1 Off-Site WaterC'' Baseline'!$Y$10:$Y$257) -> 0 | Z14: =SUMIF('F-3 Off-Site WaterC Enhancement'!$AT$12:$AT$257,'Off-site gain site summary'!$W14,'F-3 Off-Site WaterC Enhancement'!$AP$12:$AP$257) -> 0 | AA14: =SUMIF('F-2 Off-Site WaterC'' Creation'!$AG$12:$AG$259,'Off-site gain site summary'!$W14,'F-2 Off-Site WaterC'' Creation'!$AC$12:$AC$259) -> 0 | AB14: =(Z14+AA14+Y14)-X14 -> 0 | AC14: =IFERROR(_xlfn.XLOOKUP(W14,'F-2 Off-Site WaterC'' Creation'!AG19:AG265,'F-2 Off-Site WaterC'' Creation'!AA19:AA266), IFERROR(_xlfn.XLOOKUP(W14,'F-1 Off-Site WaterC'' Baseline'!AG17:AG264,'F-1 Off-Site WaterC'' Baseline'!T17:T264)," ")) | AD14: =IF(AB14>0,IFERROR(AB14*AC14, "0"), AB14) -> 0
A15: ='D-1 Off-Site Habitat Baseline'!AF19 -> 0 | C15: =SUMIF('D-1 Off-Site Habitat Baseline'!AF19:AF22,B15,'D-1 Off-Site Habitat Baseline'!T19:T22) -> 0 | D15: =SUMIF('D-1 Off-Site Habitat Baseline'!$AF$11:$AF$258,'Off-site gain site summary'!$B$7,'D-1 Off-Site Habitat Baseline'!$X$11:$X$258) -> 0 | F15: =SUMIF('D-3 Off-Site Habitat Enhancment'!$AU$12:$AU$258,'Off-site gain site summary'!B15,'D-3 Off-Site Habitat Enhancment'!$AQ$12:$AQ$258) -> 0 | H15: =SUMIF('D-2 Off-Site Habitat Creation'!$AF$11:$AF$256,'Off-site gain site summary'!B15,'D-2 Off-Site Habitat Creation'!$AB$11:$AB$256) -> 0 | J15: =(H15+F15+D15)-(C15) -> 0 | K15: =IFERROR(_xlfn.XLOOKUP(B15,'D-2 Off-Site Habitat Creation'!$AF$11:$AF$256,'D-2 Off-Site Habitat Creation'!$Z$11:$Z$256), IFERROR(_xlfn.XLOOKUP(B15,'D-1 Off-Site Habitat Baseline'!AF19:AF266,'D-1 Off-Site Habitat Baseline'!S19:S266), " ")) | L15: =IF(J15>0,IFERROR(J15*K15, "0"), J15) -> 0 | M15: ='E-1 Off-Site Hedge Baseline'!AB18 -> 0 | O15: =SUMIF('E-1 Off-Site Hedge Baseline'!AB18:AB265,'Off-site gain site summary'!N15,'E-1 Off-Site Hedge Baseline'!Q18:Q265) -> 0 | P15: =SUMIF('E-1 Off-Site Hedge Baseline'!$AB$10:$AB$257,'Off-site gain site summary'!$N15,'E-1 Off-Site Hedge Baseline'!$U$10:$U$257) -> 0 | Q15: =SUMIF('E-3 Off-Site Hedge Enhancement'!$AO$12:$AO$257,'Off-site gain site summary'!$N15,'E-3 Off-Site Hedge Enhancement'!$AK$12:$AK$257) -> 0 | R15: =SUMIF('E-2 Off-Site Hedge Creation'!$AD$12:$AD$259,'Off-site gain site summary'!$N15,'E-2 Off-Site Hedge Creation'!$Z$12:$Z$259) -> 0 | S15: =(R15+Q15+P15)-O15 -> 0 | T15: =IFERROR(_xlfn.XLOOKUP(N15,'E-2 Off-Site Hedge Creation'!AD20:AD267,'E-2 Off-Site Hedge Creation'!N20:N267), IFERROR(_xlfn.XLOOKUP(N15,'E-1 Off-Site Hedge Baseline'!AB18:AB265,'E-1 Off-Site Hedge Baseline'!P18:P265), " ")) | U15: =IF(S15>0,IFERROR(S15*T15, "0"), S15) -> 0 | V15: ='F-1 Off-Site WaterC'' Baseline'!AG18 -> 0 | X15: =SUMIF('F-1 Off-Site WaterC'' Baseline'!$AG$10:$AG$257,'Off-site gain site summary'!$W15,'F-1 Off-Site WaterC'' Baseline'!$U$10:$U$257) -> 0 | Y15: =SUMIF('F-1 Off-Site WaterC'' Baseline'!$AG$10:$AG$257,'Off-site gain site summary'!$W15,'F-1 Off-Site WaterC'' Baseline'!$Y$10:$Y$257) -> 0 | Z15: =SUMIF('F-3 Off-Site WaterC Enhancement'!$AT$12:$AT$257,'Off-site gain site summary'!$W15,'F-3 Off-Site WaterC Enhancement'!$AP$12:$AP$257) -> 0 | AA15: =SUMIF('F-2 Off-Site WaterC'' Creation'!$AG$12:$AG$259,'Off-site gain site summary'!$W15,'F-2 Off-Site WaterC'' Creation'!$AC$12:$AC$259) -> 0 | AB15: =(Z15+AA15+Y15)-X15 -> 0 | AC15: =IFERROR(_xlfn.XLOOKUP(W15,'F-2 Off-Site WaterC'' Creation'!AG20:AG266,'F-2 Off-Site WaterC'' Creation'!AA20:AA267), IFERROR(_xlfn.XLOOKUP(W15,'F-1 Off-Site WaterC'' Baseline'!AG18:AG265,'F-1 Off-Site WaterC'' Baseline'!T18:T265)," ")) | AD15: =IF(AB15>0,IFERROR(AB15*AC15, "0"), AB15) -> 0
A16: ='D-1 Off-Site Habitat Baseline'!AF20 -> 0 | C16: =SUMIF('D-1 Off-Site Habitat Baseline'!AF20:AF23,B16,'D-1 Off-Site Habitat Baseline'!T20:T23) -> 0 | D16: =SUMIF('D-1 Off-Site Habitat Baseline'!$AF$11:$AF$258,'Off-site gain site summary'!$B$7,'D-1 Off-Site Habitat Baseline'!$X$11:$X$258) -> 0 | F16: =SUMIF('D-3 Off-Site Habitat Enhancment'!$AU$12:$AU$258,'Off-site gain site summary'!B16,'D-3 Off-Site Habitat Enhancment'!$AQ$12:$AQ$258) -> 0 | H16: =SUMIF('D-2 Off-Site Habitat Creation'!$AF$11:$AF$256,'Off-site gain site summary'!B16,'D-2 Off-Site Habitat Creation'!$AB$11:$AB$256) -> 0 | J16: =(H16+F16+D16)-(C16) -> 0 | K16: =IFERROR(_xlfn.XLOOKUP(B16,'D-2 Off-Site Habitat Creation'!$AF$11:$AF$256,'D-2 Off-Site Habitat Creation'!$Z$11:$Z$256), IFERROR(_xlfn.XLOOKUP(B16,'D-1 Off-Site Habitat Baseline'!AF20:AF267,'D-1 Off-Site Habitat Baseline'!S20:S267), " ")) | L16: =IF(J16>0,IFERROR(J16*K16, "0"), J16) -> 0 | M16: ='E-1 Off-Site Hedge Baseline'!AB19 -> 0 | O16: =SUMIF('E-1 Off-Site Hedge Baseline'!AB19:AB266,'Off-site gain site summary'!N16,'E-1 Off-Site Hedge Baseline'!Q19:Q266) -> 0 | P16: =SUMIF('E-1 Off-Site Hedge Baseline'!$AB$10:$AB$257,'Off-site gain site summary'!$N16,'E-1 Off-Site Hedge Baseline'!$U$10:$U$257) -> 0 | Q16: =SUMIF('E-3 Off-Site Hedge Enhancement'!$AO$12:$AO$257,'Off-site gain site summary'!$N16,'E-3 Off-Site Hedge Enhancement'!$AK$12:$AK$257) -> 0 | R16: =SUMIF('E-2 Off-Site Hedge Creation'!$AD$12:$AD$259,'Off-site gain site summary'!$N16,'E-2 Off-Site Hedge Creation'!$Z$12:$Z$259) -> 0 | S16: =(R16+Q16+P16)-O16 -> 0 | T16: =IFERROR(_xlfn.XLOOKUP(N16,'E-2 Off-Site Hedge Creation'!AD21:AD268,'E-2 Off-Site Hedge Creation'!N21:N268), IFERROR(_xlfn.XLOOKUP(N16,'E-1 Off-Site Hedge Baseline'!AB19:AB266,'E-1 Off-Site Hedge Baseline'!P19:P266), " ")) | U16: =IF(S16>0,IFERROR(S16*T16, "0"), S16) -> 0 | V16: ='F-1 Off-Site WaterC'' Baseline'!AG19 -> 0 | X16: =SUMIF('F-1 Off-Site WaterC'' Baseline'!$AG$10:$AG$257,'Off-site gain site summary'!$W16,'F-1 Off-Site WaterC'' Baseline'!$U$10:$U$257) -> 0 | Y16: =SUMIF('F-1 Off-Site WaterC'' Baseline'!$AG$10:$AG$257,'Off-site gain site summary'!$W16,'F-1 Off-Site WaterC'' Baseline'!$Y$10:$Y$257) -> 0 | Z16: =SUMIF('F-3 Off-Site WaterC Enhancement'!$AT$12:$AT$257,'Off-site gain site summary'!$W16,'F-3 Off-Site WaterC Enhancement'!$AP$12:$AP$257) -> 0 | AA16: =SUMIF('F-2 Off-Site WaterC'' Creation'!$AG$12:$AG$259,'Off-site gain site summary'!$W16,'F-2 Off-Site WaterC'' Creation'!$AC$12:$AC$259) -> 0 | AB16: =(Z16+AA16+Y16)-X16 -> 0 | AC16: =IFERROR(_xlfn.XLOOKUP(W16,'F-2 Off-Site WaterC'' Creation'!AG21:AG267,'F-2 Off-Site WaterC'' Creation'!AA21:AA268), IFERROR(_xlfn.XLOOKUP(W16,'F-1 Off-Site WaterC'' Baseline'!AG19:AG266,'F-1 Off-Site WaterC'' Baseline'!T19:T266)," ")) | AD16: =IF(AB16>0,IFERROR(AB16*AC16, "0"), AB16) -> 0
A17: ='D-1 Off-Site Habitat Baseline'!AF21 -> 0 | C17: =SUMIF('D-1 Off-Site Habitat Baseline'!AF21:AF24,B17,'D-1 Off-Site Habitat Baseline'!T21:T24) -> 0 | D17: =SUMIF('D-1 Off-Site Habitat Baseline'!$AF$11:$AF$258,'Off-site gain site summary'!$B$7,'D-1 Off-Site Habitat Baseline'!$X$11:$X$258) -> 0 | F17: =SUMIF('D-3 Off-Site Habitat Enhancment'!$AU$12:$AU$258,'Off-site gain site summary'!B17,'D-3 Off-Site Habitat Enhancment'!$AQ$12:$AQ$258) -> 0 | H17: =SUMIF('D-2 Off-Site Habitat Creation'!$AF$11:$AF$256,'Off-site gain site summary'!B17,'D-2 Off-Site Habitat Creation'!$AB$11:$AB$256) -> 0 | J17: =(H17+F17+D17)-(C17) -> 0 | K17: =IFERROR(_xlfn.XLOOKUP(B17,'D-2 Off-Site Habitat Creation'!$AF$11:$AF$256,'D-2 Off-Site Habitat Creation'!$Z$11:$Z$256), IFERROR(_xlfn.XLOOKUP(B17,'D-1 Off-Site Habitat Baseline'!AF21:AF268,'D-1 Off-Site Habitat Baseline'!S21:S268), " ")) | L17: =IF(J17>0,IFERROR(J17*K17, "0"), J17) -> 0 | M17: ='E-1 Off-Site Hedge Baseline'!AB20 -> 0 | O17: =SUMIF('E-1 Off-Site Hedge Baseline'!AB20:AB267,'Off-site gain site summary'!N17,'E-1 Off-Site Hedge Baseline'!Q20:Q267) -> 0 | P17: =SUMIF('E-1 Off-Site Hedge Baseline'!$AB$10:$AB$257,'Off-site gain site summary'!$N17,'E-1 Off-Site Hedge Baseline'!$U$10:$U$257) -> 0 | Q17: =SUMIF('E-3 Off-Site Hedge Enhancement'!$AO$12:$AO$257,'Off-site gain site summary'!$N17,'E-3 Off-Site Hedge Enhancement'!$AK$12:$AK$257) -> 0 | R17: =SUMIF('E-2 Off-Site Hedge Creation'!$AD$12:$AD$259,'Off-site gain site summary'!$N17,'E-2 Off-Site Hedge Creation'!$Z$12:$Z$259) -> 0 | S17: =(R17+Q17+P17)-O17 -> 0 | T17: =IFERROR(_xlfn.XLOOKUP(N17,'E-2 Off-Site Hedge Creation'!AD22:AD269,'E-2 Off-Site Hedge Creation'!N22:N269), IFERROR(_xlfn.XLOOKUP(N17,'E-1 Off-Site Hedge Baseline'!AB20:AB267,'E-1 Off-Site Hedge Baseline'!P20:P267), " ")) | U17: =IF(S17>0,IFERROR(S17*T17, "0"), S17) -> 0 | V17: ='F-1 Off-Site WaterC'' Baseline'!AG20 -> 0 | X17: =SUMIF('F-1 Off-Site WaterC'' Baseline'!$AG$10:$AG$257,'Off-site gain site summary'!$W17,'F-1 Off-Site WaterC'' Baseline'!$U$10:$U$257) -> 0 | Y17: =SUMIF('F-1 Off-Site WaterC'' Baseline'!$AG$10:$AG$257,'Off-site gain site summary'!$W17,'F-1 Off-Site WaterC'' Baseline'!$Y$10:$Y$257) -> 0 | Z17: =SUMIF('F-3 Off-Site WaterC Enhancement'!$AT$12:$AT$257,'Off-site gain site summary'!$W17,'F-3 Off-Site WaterC Enhancement'!$AP$12:$AP$257) -> 0 | AA17: =SUMIF('F-2 Off-Site WaterC'' Creation'!$AG$12:$AG$259,'Off-site gain site summary'!$W17,'F-2 Off-Site WaterC'' Creation'!$AC$12:$AC$259) -> 0 | AB17: =(Z17+AA17+Y17)-X17 -> 0 | AC17: =IFERROR(_xlfn.XLOOKUP(W17,'F-2 Off-Site WaterC'' Creation'!AG22:AG268,'F-2 Off-Site WaterC'' Creation'!AA22:AA269), IFERROR(_xlfn.XLOOKUP(W17,'F-1 Off-Site WaterC'' Baseline'!AG20:AG267,'F-1 Off-Site WaterC'' Baseline'!T20:T267)," ")) | AD17: =IF(AB17>0,IFERROR(AB17*AC17, "0"), AB17) -> 0
A18: ='D-1 Off-Site Habitat Baseline'!AF22 -> 0 | C18: =SUMIF('D-1 Off-Site Habitat Baseline'!AF22:AF25,B18,'D-1 Off-Site Habitat Baseline'!T22:T25) -> 0 | D18: =SUMIF('D-1 Off-Site Habitat Baseline'!$AF$11:$AF$258,'Off-site gain site summary'!$B$7,'D-1 Off-Site Habitat Baseline'!$X$11:$X$258) -> 0 | F18: =SUMIF('D-3 Off-Site Habitat Enhancment'!$AU$12:$AU$258,'Off-site gain site summary'!B18,'D-3 Off-Site Habitat Enhancment'!$AQ$12:$AQ$258) -> 0 | H18: =SUMIF('D-2 Off-Site Habitat Creation'!$AF$11:$AF$256,'Off-site gain site summary'!B18,'D-2 Off-Site Habitat Creation'!$AB$11:$AB$256) -> 0 | J18: =(H18+F18+D18)-(C18) -> 0 | K18: =IFERROR(_xlfn.XLOOKUP(B18,'D-2 Off-Site Habitat Creation'!$AF$11:$AF$256,'D-2 Off-Site Habitat Creation'!$Z$11:$Z$256), IFERROR(_xlfn.XLOOKUP(B18,'D-1 Off-Site Habitat Baseline'!AF22:AF269,'D-1 Off-Site Habitat Baseline'!S22:S269), " ")) | L18: =IF(J18>0,IFERROR(J18*K18, "0"), J18) -> 0 | M18: ='E-1 Off-Site Hedge Baseline'!AB21 -> 0 | O18: =SUMIF('E-1 Off-Site Hedge Baseline'!AB21:AB268,'Off-site gain site summary'!N18,'E-1 Off-Site Hedge Baseline'!Q21:Q268) -> 0 | P18: =SUMIF('E-1 Off-Site Hedge Baseline'!$AB$10:$AB$257,'Off-site gain site summary'!$N18,'E-1 Off-Site Hedge Baseline'!$U$10:$U$257) -> 0 | Q18: =SUMIF('E-3 Off-Site Hedge Enhancement'!$AO$12:$AO$257,'Off-site gain site summary'!$N18,'E-3 Off-Site Hedge Enhancement'!$AK$12:$AK$257) -> 0 | R18: =SUMIF('E-2 Off-Site Hedge Creation'!$AD$12:$AD$259,'Off-site gain site summary'!$N18,'E-2 Off-Site Hedge Creation'!$Z$12:$Z$259) -> 0 | S18: =(R18+Q18+P18)-O18 -> 0 | T18: =IFERROR(_xlfn.XLOOKUP(N18,'E-2 Off-Site Hedge Creation'!AD23:AD270,'E-2 Off-Site Hedge Creation'!N23:N270), IFERROR(_xlfn.XLOOKUP(N18,'E-1 Off-Site Hedge Baseline'!AB21:AB268,'E-1 Off-Site Hedge Baseline'!P21:P268), " ")) | U18: =IF(S18>0,IFERROR(S18*T18, "0"), S18) -> 0 | V18: ='F-1 Off-Site WaterC'' Baseline'!AG21 -> 0 | X18: =SUMIF('F-1 Off-Site WaterC'' Baseline'!$AG$10:$AG$257,'Off-site gain site summary'!$W18,'F-1 Off-Site WaterC'' Baseline'!$U$10:$U$257) -> 0 | Y18: =SUMIF('F-1 Off-Site WaterC'' Baseline'!$AG$10:$AG$257,'Off-site gain site summary'!$W18,'F-1 Off-Site WaterC'' Baseline'!$Y$10:$Y$257) -> 0 | Z18: =SUMIF('F-3 Off-Site WaterC Enhancement'!$AT$12:$AT$257,'Off-site gain site summary'!$W18,'F-3 Off-Site WaterC Enhancement'!$AP$12:$AP$257) -> 0 | AA18: =SUMIF('F-2 Off-Site WaterC'' Creation'!$AG$12:$AG$259,'Off-site gain site summary'!$W18,'F-2 Off-Site WaterC'' Creation'!$AC$12:$AC$259) -> 0 | AB18: =(Z18+AA18+Y18)-X18 -> 0 | AC18: =IFERROR(_xlfn.XLOOKUP(W18,'F-2 Off-Site WaterC'' Creation'!AG23:AG269,'F-2 Off-Site WaterC'' Creation'!AA23:AA270), IFERROR(_xlfn.XLOOKUP(W18,'F-1 Off-Site WaterC'' Baseline'!AG21:AG268,'F-1 Off-Site WaterC'' Baseline'!T21:T268)," ")) | AD18: =IF(AB18>0,IFERROR(AB18*AC18, "0"), AB18) -> 0
A19: ='D-1 Off-Site Habitat Baseline'!AF23 -> 0 | C19: =SUMIF('D-1 Off-Site Habitat Baseline'!AF23:AF26,B19,'D-1 Off-Site Habitat Baseline'!T23:T26) -> 0 | D19: =SUMIF('D-1 Off-Site Habitat Baseline'!$AF$11:$AF$258,'Off-site gain site summary'!$B$7,'D-1 Off-Site Habitat Baseline'!$X$11:$X$258) -> 0 | F19: =SUMIF('D-3 Off-Site Habitat Enhancment'!$AU$12:$AU$258,'Off-site gain site summary'!B19,'D-3 Off-Site Habitat Enhancment'!$AQ$12:$AQ$258) -> 0 | H19: =SUMIF('D-2 Off-Site Habitat Creation'!$AF$11:$AF$256,'Off-site gain site summary'!B19,'D-2 Off-Site Habitat Creation'!$AB$11:$AB$256) -> 0 | J19: =(H19+F19+D19)-(C19) -> 0 | K19: =IFERROR(_xlfn.XLOOKUP(B19,'D-2 Off-Site Habitat Creation'!$AF$11:$AF$256,'D-2 Off-Site Habitat Creation'!$Z$11:$Z$256), IFERROR(_xlfn.XLOOKUP(B19,'D-1 Off-Site Habitat Baseline'!AF23:AF270,'D-1 Off-Site Habitat Baseline'!S23:S270), " ")) | L19: =IF(J19>0,IFERROR(J19*K19, "0"), J19) -> 0 | M19: ='E-1 Off-Site Hedge Baseline'!AB22 -> 0 | O19: =SUMIF('E-1 Off-Site Hedge Baseline'!AB22:AB269,'Off-site gain site summary'!N19,'E-1 Off-Site Hedge Baseline'!Q22:Q269) -> 0 | P19: =SUMIF('E-1 Off-Site Hedge Baseline'!$AB$10:$AB$257,'Off-site gain site summary'!$N19,'E-1 Off-Site Hedge Baseline'!$U$10:$U$257) -> 0 | Q19: =SUMIF('E-3 Off-Site Hedge Enhancement'!$AO$12:$AO$257,'Off-site gain site summary'!$N19,'E-3 Off-Site Hedge Enhancement'!$AK$12:$AK$257) -> 0 | R19: =SUMIF('E-2 Off-Site Hedge Creation'!$AD$12:$AD$259,'Off-site gain site summary'!$N19,'E-2 Off-Site Hedge Creation'!$Z$12:$Z$259) -> 0 | S19: =(R19+Q19+P19)-O19 -> 0 | T19: =IFERROR(_xlfn.XLOOKUP(N19,'E-2 Off-Site Hedge Creation'!AD24:AD271,'E-2 Off-Site Hedge Creation'!N24:N271), IFERROR(_xlfn.XLOOKUP(N19,'E-1 Off-Site Hedge Baseline'!AB22:AB269,'E-1 Off-Site Hedge Baseline'!P22:P269), " ")) | U19: =IF(S19>0,IFERROR(S19*T19, "0"), S19) -> 0 | V19: ='F-1 Off-Site WaterC'' Baseline'!AG22 -> 0 | X19: =SUMIF('F-1 Off-Site WaterC'' Baseline'!$AG$10:$AG$257,'Off-site gain site summary'!$W19,'F-1 Off-Site WaterC'' Baseline'!$U$10:$U$257) -> 0 | Y19: =SUMIF('F-1 Off-Site WaterC'' Baseline'!$AG$10:$AG$257,'Off-site gain site summary'!$W19,'F-1 Off-Site WaterC'' Baseline'!$Y$10:$Y$257) -> 0 | Z19: =SUMIF('F-3 Off-Site WaterC Enhancement'!$AT$12:$AT$257,'Off-site gain site summary'!$W19,'F-3 Off-Site WaterC Enhancement'!$AP$12:$AP$257) -> 0 | AA19: =SUMIF('F-2 Off-Site WaterC'' Creation'!$AG$12:$AG$259,'Off-site gain site summary'!$W19,'F-2 Off-Site WaterC'' Creation'!$AC$12:$AC$259) -> 0 | AB19: =(Z19+AA19+Y19)-X19 -> 0 | AC19: =IFERROR(_xlfn.XLOOKUP(W19,'F-2 Off-Site WaterC'' Creation'!AG24:AG270,'F-2 Off-Site WaterC'' Creation'!AA24:AA271), IFERROR(_xlfn.XLOOKUP(W19,'F-1 Off-Site WaterC'' Baseline'!AG22:AG269,'F-1 Off-Site WaterC'' Baseline'!T22:T269)," ")) | AD19: =IF(AB19>0,IFERROR(AB19*AC19, "0"), AB19) -> 0
... A107: ='D-1 Off-Site Habitat Baseline'!AF111 -> 0 | C107: =SUMIF('D-1 Off-Site Habitat Baseline'!AF111:AF114,B107,'D-1 Off-Site Habitat Baseline'!T111:T114) -> 0 | D107: =SUMIF('D-1 Off-Site Habitat Baseline'!$AF$11:$AF$258,'Off-site gain site summary'!$B$7,'D-1 Off-Site Habitat Baseline'!$X$11:$X$258) -> 0 | F107: =SUMIF('D-3 Off-Site Habitat Enhancment'!$AU$12:$AU$258,'Off-site gain site summary'!B107,'D-3 Off-Site Habitat Enhancment'!$AQ$12:$AQ$258) -> 0 | H107: =SUMIF('D-2 Off-Site Habitat Creation'!$AF$11:$AF$256,'Off-site gain site summary'!B107,'D-2 Off-Site Habitat Creation'!$AB$11:$AB$256) -> 0 | J107: =(H107+F107+D107)-(C107) -> 0 | K107: =IFERROR(_xlfn.XLOOKUP(B107,'D-2 Off-Site Habitat Creation'!$AF$11:$AF$256,'D-2 Off-Site Habitat Creation'!$Z$11:$Z$256), IFERROR(_xlfn.XLOOKUP(B107,'D-1 Off-Site Habitat Baseline'!AF111:AF358,'D-1 Off-Site Habitat Baseline'!S111:S358), " ")) | L107: =IF(J107>0,IFERROR(J107*K107, "0"), J107) -> 0 | M107: ='E-1 Off-Site Hedge Baseline'!AB110 -> 0 | O107: =SUMIF('E-1 Off-Site Hedge Baseline'!AB110:AB357,'Off-site gain site summary'!N107,'E-1 Off-Site Hedge Baseline'!Q110:Q357) -> 0 | P107: =SUMIF('E-1 Off-Site Hedge Baseline'!$AB$10:$AB$257,'Off-site gain site summary'!$N107,'E-1 Off-Site Hedge Baseline'!$U$10:$U$257) -> 0 | Q107: =SUMIF('E-3 Off-Site Hedge Enhancement'!$AO$12:$AO$257,'Off-site gain site summary'!$N107,'E-3 Off-Site Hedge Enhancement'!$AK$12:$AK$257) -> 0 | R107: =SUMIF('E-2 Off-Site Hedge Creation'!$AD$12:$AD$259,'Off-site gain site summary'!$N107,'E-2 Off-Site Hedge Creation'!$Z$12:$Z$259) -> 0 | S107: =(R107+Q107+P107)-O107 -> 0 | T107: =IFERROR(_xlfn.XLOOKUP(N107,'E-2 Off-Site Hedge Creation'!AD112:AD359,'E-2 Off-Site Hedge Creation'!N112:N359), IFERROR(_xlfn.XLOOKUP(N107,'E-1 Off-Site Hedge Baseline'!AB110:AB357,'E-1 Off-Site Hedge Baseline'!P110:P357), " ")) | U107: =IF(S107>0,IFERROR(S107*T107, "0"), S107) -> 0 | V107: ='F-1 Off-Site WaterC'' Baseline'!AG110 -> 0 | X107: =SUMIF('F-1 Off-Site WaterC'' Baseline'!$AG$10:$AG$257,'Off-site gain site summary'!$W107,'F-1 Off-Site WaterC'' Baseline'!$U$10:$U$257) -> 0 | Y107: =SUMIF('F-1 Off-Site WaterC'' Baseline'!$AG$10:$AG$257,'Off-site gain site summary'!$W107,'F-1 Off-Site WaterC'' Baseline'!$Y$10:$Y$257) -> 0 | Z107: =SUMIF('F-3 Off-Site WaterC Enhancement'!$AT$12:$AT$257,'Off-site gain site summary'!$W107,'F-3 Off-Site WaterC Enhancement'!$AP$12:$AP$257) -> 0 | AA107: =SUMIF('F-2 Off-Site WaterC'' Creation'!$AG$12:$AG$259,'Off-site gain site summary'!$W107,'F-2 Off-Site WaterC'' Creation'!$AC$12:$AC$259) -> 0 | AB107: =(Z107+AA107+Y107)-X107 -> 0 | AC107: =IFERROR(_xlfn.XLOOKUP(W107,'F-2 Off-Site WaterC'' Creation'!AG112:AG358,'F-2 Off-Site WaterC'' Creation'!AA112:AA359), IFERROR(_xlfn.XLOOKUP(W107,'F-1 Off-Site WaterC'' Baseline'!AG110:AG357,'F-1 Off-Site WaterC'' Baseline'!T110:T357)," ")) | AD107: =IF(AB107>0,IFERROR(AB107*AC107, "0"), AB107) -> 0
A108: ='D-1 Off-Site Habitat Baseline'!AF112 -> 0 | M108: ='E-1 Off-Site Hedge Baseline'!AB111 -> 0 | V108: ='F-1 Off-Site WaterC'' Baseline'!AG111 -> 0
A109: ='D-1 Off-Site Habitat Baseline'!AF113 -> 0 | M109: ='E-1 Off-Site Hedge Baseline'!AB112 -> 0 | V109: ='F-1 Off-Site WaterC'' Baseline'!AG112 -> 0
A110: ='D-1 Off-Site Habitat Baseline'!AF114 -> 0 | M110: ='E-1 Off-Site Hedge Baseline'!AB113 -> 0 | V110: ='F-1 Off-Site WaterC'' Baseline'!AG113 -> 0
A111: ='D-1 Off-Site Habitat Baseline'!AF115 -> 0 | M111: ='E-1 Off-Site Hedge Baseline'!AB114 -> 0 | V111: ='F-1 Off-Site WaterC'' Baseline'!AG114 -> 0
A112: ='D-1 Off-Site Habitat Baseline'!AF116 -> 0 | M112: ='E-1 Off-Site Hedge Baseline'!AB115 -> 0 | V112: ='F-1 Off-Site WaterC'' Baseline'!AG115 -> 0
A113: ='D-1 Off-Site Habitat Baseline'!AF117 -> 0 | M113: ='E-1 Off-Site Hedge Baseline'!AB116 -> 0 | V113: ='F-1 Off-Site WaterC'' Baseline'!AG116 -> 0
A114: ='D-1 Off-Site Habitat Baseline'!AF118 -> 0 | M114: ='E-1 Off-Site Hedge Baseline'!AB117 -> 0 | V114: ='F-1 Off-Site WaterC'' Baseline'!AG117 -> 0
A115: ='D-1 Off-Site Habitat Baseline'!AF119 -> 0 | M115: ='E-1 Off-Site Hedge Baseline'!AB118 -> 0 | V115: ='F-1 Off-Site WaterC'' Baseline'!AG118 -> 0
A116: ='D-1 Off-Site Habitat Baseline'!AF120 -> 0 | M116: ='E-1 Off-Site Hedge Baseline'!AB119 -> 0 | V116: ='F-1 Off-Site WaterC'' Baseline'!AG119 -> 0
A117: ='D-1 Off-Site Habitat Baseline'!AF121 -> 0 | M117: ='E-1 Off-Site Hedge Baseline'!AB120 -> 0 | V117: ='F-1 Off-Site WaterC'' Baseline'!AG120 -> 0
A118: ='D-1 Off-Site Habitat Baseline'!AF122 -> 0 | M118: ='E-1 Off-Site Hedge Baseline'!AB121 -> 0 | V118: ='F-1 Off-Site WaterC'' Baseline'!AG121 -> 0
A119: ='D-1 Off-Site Habitat Baseline'!AF123 -> 0 | M119: ='E-1 Off-Site Hedge Baseline'!AB122 -> 0 | V119: ='F-1 Off-Site WaterC'' Baseline'!AG122 -> 0
... A254: ='D-1 Off-Site Habitat Baseline'!AF258 -> 0 | M254: ='E-1 Off-Site Hedge Baseline'!AB257 -> 0 | V254: ='F-1 Off-Site WaterC'' Baseline'!AG257 -> 0
A255: ='D-2 Off-Site Habitat Creation'!AF11 -> 0 | M255: ='E-2 Off-Site Hedge Creation'!AD12 -> 0 | V255: ='F-2 Off-Site WaterC'' Creation'!AG12 -> 0
A256: ='D-2 Off-Site Habitat Creation'!AF12 -> 0 | M256: ='E-2 Off-Site Hedge Creation'!AD13 -> 0 | V256: ='F-2 Off-Site WaterC'' Creation'!AG13 -> 0
A257: ='D-2 Off-Site Habitat Creation'!AF13 -> 0 | M257: ='E-2 Off-Site Hedge Creation'!AD14 -> 0 | V257: ='F-2 Off-Site WaterC'' Creation'!AG14 -> 0
A258: ='D-2 Off-Site Habitat Creation'!AF14 -> 0 | M258: ='E-2 Off-Site Hedge Creation'!AD15 -> 0 | V258: ='F-2 Off-Site WaterC'' Creation'!AG15 -> 0
A259: ='D-2 Off-Site Habitat Creation'!AF15 -> 0 | M259: ='E-2 Off-Site Hedge Creation'!AD16 -> 0 | V259: ='F-2 Off-Site WaterC'' Creation'!AG16 -> 0
A260: ='D-2 Off-Site Habitat Creation'!AF16 -> 0 | M260: ='E-2 Off-Site Hedge Creation'!AD17 -> 0 | V260: ='F-2 Off-Site WaterC'' Creation'!AG17 -> 0
A261: ='D-2 Off-Site Habitat Creation'!AF17 -> 0 | M261: ='E-2 Off-Site Hedge Creation'!AD18 -> 0 | V261: ='F-2 Off-Site WaterC'' Creation'!AG18 -> 0
A262: ='D-2 Off-Site Habitat Creation'!AF18 -> 0 | M262: ='E-2 Off-Site Hedge Creation'!AD19 -> 0 | V262: ='F-2 Off-Site WaterC'' Creation'!AG19 -> 0
A263: ='D-2 Off-Site Habitat Creation'!AF19 -> 0 | M263: ='E-2 Off-Site Hedge Creation'!AD20 -> 0 | V263: ='F-2 Off-Site WaterC'' Creation'!AG20 -> 0
A264: ='D-2 Off-Site Habitat Creation'!AF20 -> 0 | M264: ='E-2 Off-Site Hedge Creation'!AD21 -> 0 | V264: ='F-2 Off-Site WaterC'' Creation'!AG21 -> 0
A265: ='D-2 Off-Site Habitat Creation'!AF21 -> 0 | M265: ='E-2 Off-Site Hedge Creation'!AD22 -> 0 | V265: ='F-2 Off-Site WaterC'' Creation'!AG22 -> 0
A266: ='D-2 Off-Site Habitat Creation'!AF22 -> 0 | M266: ='E-2 Off-Site Hedge Creation'!AD23 -> 0 | V266: ='F-2 Off-Site WaterC'' Creation'!AG23 -> 0
... A499: ='D-2 Off-Site Habitat Creation'!AF255 -> 0 | M499: ='E-2 Off-Site Hedge Creation'!AD256 -> 0 | V499: ='F-2 Off-Site WaterC'' Creation'!AG256 -> 0
A500: ='D-2 Off-Site Habitat Creation'!AF256 -> 0 | M500: ='E-3 Off-Site Hedge Enhancement'!AO12 -> 0 | V500: ='F-2 Off-Site WaterC'' Creation'!AG257 -> 0
A501: ='D-3 Off-Site Habitat Enhancment'!AU12 -> 0 | M501: ='E-3 Off-Site Hedge Enhancement'!AO13 -> 0 | V501: ='F-2 Off-Site WaterC'' Creation'!AG258 -> 0
A502: ='D-3 Off-Site Habitat Enhancment'!AU13 -> 0 | M502: ='E-3 Off-Site Hedge Enhancement'!AO14 -> 0 | V502: ='F-2 Off-Site WaterC'' Creation'!AG259 -> 0
A503: ='D-3 Off-Site Habitat Enhancment'!AU14 -> 0 | M503: ='E-3 Off-Site Hedge Enhancement'!AO15 -> 0 | V503: ='F-3 Off-Site WaterC Enhancement'!AT12 -> 0
A504: ='D-3 Off-Site Habitat Enhancment'!AU15 -> 0 | M504: ='E-3 Off-Site Hedge Enhancement'!AO16 -> 0 | V504: ='F-3 Off-Site WaterC Enhancement'!AT13 -> 0
A505: ='D-3 Off-Site Habitat Enhancment'!AU16 -> 0 | M505: ='E-3 Off-Site Hedge Enhancement'!AO17 -> 0 | V505: ='F-3 Off-Site WaterC Enhancement'!AT14 -> 0
A506: ='D-3 Off-Site Habitat Enhancment'!AU17 -> 0 | M506: ='E-3 Off-Site Hedge Enhancement'!AO18 -> 0 | V506: ='F-3 Off-Site WaterC Enhancement'!AT15 -> 0
A507: ='D-3 Off-Site Habitat Enhancment'!AU18 -> 0 | M507: ='E-3 Off-Site Hedge Enhancement'!AO19 -> 0 | V507: ='F-3 Off-Site WaterC Enhancement'!AT16 -> 0
A508: ='D-3 Off-Site Habitat Enhancment'!AU19 -> 0 | M508: ='E-3 Off-Site Hedge Enhancement'!AO20 -> 0 | V508: ='F-3 Off-Site WaterC Enhancement'!AT17 -> 0
A509: ='D-3 Off-Site Habitat Enhancment'!AU20 -> 0 | M509: ='E-3 Off-Site Hedge Enhancement'!AO21 -> 0 | V509: ='F-3 Off-Site WaterC Enhancement'!AT18 -> 0
A510: ='D-3 Off-Site Habitat Enhancment'!AU21 -> 0 | M510: ='E-3 Off-Site Hedge Enhancement'!AO22 -> 0 | V510: ='F-3 Off-Site WaterC Enhancement'!AT19 -> 0
A511: ='D-3 Off-Site Habitat Enhancment'!AU22 -> 0 | M511: ='E-3 Off-Site Hedge Enhancement'!AO23 -> 0 | V511: ='F-3 Off-Site WaterC Enhancement'!AT20 -> 0
A512: ='D-3 Off-Site Habitat Enhancment'!AU23 -> 0 | M512: ='E-3 Off-Site Hedge Enhancement'!AO24 -> 0 | V512: ='F-3 Off-Site WaterC Enhancement'!AT21 -> 0
A513: ='D-3 Off-Site Habitat Enhancment'!AU24 -> 0 | M513: ='E-3 Off-Site Hedge Enhancement'!AO25 -> 0 | V513: ='F-3 Off-Site WaterC Enhancement'!AT22 -> 0
A514: ='D-3 Off-Site Habitat Enhancment'!AU25 -> 0 | M514: ='E-3 Off-Site Hedge Enhancement'!AO26 -> 0 | V514: ='F-3 Off-Site WaterC Enhancement'!AT23 -> 0
... A745: ='D-3 Off-Site Habitat Enhancment'!AU256 -> 0 | M745: ='E-3 Off-Site Hedge Enhancement'!AO257 -> 0 | V745: ='F-3 Off-Site WaterC Enhancement'!AT254 -> 0
A746: ='D-3 Off-Site Habitat Enhancment'!AU257 -> 0 | V746: ='F-3 Off-Site WaterC Enhancement'!AT255 -> 0
A747: ='D-3 Off-Site Habitat Enhancment'!AU258 -> 0 | V747: ='F-3 Off-Site WaterC Enhancement'!AT256 -> 0
V748: ='F-3 Off-Site WaterC Enhancement'!AT257 -> 0

Sheet A-1 On-Site Habitat Baseline
D2: =CONCATENATE("Project Name:", " ", Start!F12, " ", "Map Reference:", " ", Start!F55) -> Project Name: Broadfield Park Slopes (‘The Slopes’), The Esplanade, Rochdale, OL16 1AQ Map Reference: | I2: Area habitat summary | Q2: {=IF(OR(K11:K258 = "Fairly Good", K11:K258 = "Fairly Poor"),"A 'Fairly' Category has been used - check evidence to ensure this is appropriate ⚠", "")}
D3: =MID(CELL("filename",C1),FIND("]",CELL("filename",C1))+1,256) -> A-1 On-Site Habitat Baseline | I3: Total Net Unit Change | L3: ='Headline Results'!H47 -> -4.3556252 | AC3: HIDDEN - NOT SHOWN BY BUTTON | AD3: HIDDEN - NOT SHOWN BY BUTTON | AE3: HIDDEN - NOT SHOWN BY BUTTON | AF3: HIDDEN - NOT SHOWN BY BUTTON | AG3: HIDDEN - NOT SHOWN BY BUTTON | AH3: HIDDEN - NOT SHOWN BY BUTTON | AI3: HIDDEN - NOT SHOWN BY BUTTON | AJ3: HIDDEN - NOT SHOWN BY BUTTON | AK3: HIDDEN - NOT SHOWN BY BUTTON | AL3: HIDDEN - NOT SHOWN BY BUTTON | AM3: HIDDEN - NOT SHOWN BY BUTTON | AN3: HIDDEN - NOT SHOWN BY BUTTON
I4: Total Net % Change | L4: ='Headline Results'!H51 -> -0.50089299 | AF4: Hide | AG4: Hide | AH4: Hide | AI4: Hide | AJ4: Hide | AK4: Hide | AL4: Hide | AM4: Hide | AN4: Hide
I5: Trading Rules Satisfied | L5: {=IF(OR('Trading Summary Area Habitats'!G5:G8="No ▲"), "No - check trading summaries ▲", "Yes ✓")} -> No - check trading summaries ▲
I6: {=IF(OR(E11:E258="watercourse footprint"),"Please ensure the watercourse details for any watercourse footprints recorded are included in the watercourse tabs ⚠","")}
E9: Existing area habitats | I9: Distinctiveness | K9: Condition | M9: Strategic significance | P9: Required Action to Meet Trading Rules | Q9: Ecological baseline | S9: Retention category biodiversity value | Y9: Bespoke compensation agreed for unacceptable losses | Z9: Comments | AC9: Hide | AD9: Hide | AF9: retention cat checks | AK9: list of lines for enhanced and succession | AQ9: Bespoke Compensation agreed?
B10: Condition Group | D10: Ref | E10: Broad Habitat | F10: Habitat Type | G10: Habitat type | H10: Area (hectares) | I10: Distinctiveness | J10: Score | K10: Condition | L10: Score | M10: Strategic significance | N10: Strategic significance | O10: Strategic Significance multiplier | Q10: Total habitat units | S10: Area retained | T10: Area enhanced | U10: Baseline units retained | V10: Baseline units enhanced | W10: Area habitat lost | X10: Units lost | Z10: User comments | AA10: Consenting body comments | AB10: GIS reference number | AC10: Area of Unacceptable Losses | AD10: Units Unacceptable Losses | AF10: Retained | AG10: Enhanced | AH10: Succession | AI10: line number | AK10: Retained | AL10: Enhanced | AM10: Succession
A11: =IFERROR(INDEX('G-1 All Habitats'!$AG$3:$AG$17,MATCH(E11,'G-1 All Habitats'!$AF$3:$AF$17,0)),"") -> Grassland | B11: =IFERROR(INDEX('G-8 Condition Look up'!$I$4:$I$135,MATCH(G11,'G-8 Condition Look up'!$A$4:$A$135,0)),"") -> Cond4 | D11: 1 | E11: Grassland | F11: Other neutral grassland | G11: =IFERROR(INDEX('G-1 All Habitats'!$B$3:$B$134,MATCH(F11,'G-1 All Habitats'!$A$3:$A$134,0)),"") -> Grassland - Other neutral grassland | H11: 0.121 | I11: =IF(G11="","",VLOOKUP(G11,'G-1 All Habitats'!$B$2:$M$134,10,FALSE)) -> Medium | J11: =IFERROR(VLOOKUP(I11,'G-1 All Habitats'!$V$3:$W$7,2,FALSE),"") -> 4 | K11: Good | L11: =IFERROR(INDEX('G-8 Condition Look up'!$A$3:$H$135,MATCH(G11,'G-8 Condition Look up'!$A$3:$A$135,0),MATCH(K11,'G-8 Condition Look up'!$A$3:$H$3,0)),"") -> 3 | M11: Area/compensation not in local strategy/ no local strategy | N11: =IF(M11="","",IF(VLOOKUP(M11,'G-3 Multipliers'!$L$3:$N$6,2,FALSE)=0,"Spatial Data Missing",VLOOKUP(M11,'G-3 Multipliers'!$L$3:$N$6,2,FALSE))) -> Low Strategic Significance | O11: =IF(M11="","",IF(VLOOKUP(M11,'G-3 Multipliers'!$L$3:$N$6,3,FALSE)=0,"Spatial Data Missing ▲",VLOOKUP(M11,'G-3 Multipliers'!$L$3:$N$6,3,FALSE))) -> 1 | P11: =IFERROR(VLOOKUP(G11,'G-1 All Habitats'!$B$2:$M$134,12,FALSE),"") -> Same broad habitat or a higher distinctiveness habitat required (≥) | Q11: =IFERROR(IF(P11="","",IF(AND(P11='G-1 All Habitats'!$X$3,T11>0),U11+V11,IF(AND(P11='G-1 All Habitats'!$X$3,S11>0),U11+V11,IF(AND(P11='G-1 All Habitats'!$X$3,AC11>0),"Any Loss Unacceptable ⚠",IF(AND(P11='G-1 All Habitats'!$X$3,W11>0),"Any Loss Unacceptable ⚠",H11*J11*L11*O11))))),"Check Data ▲") -> 1.452 | U11: =IFERROR(S11*J11*L11*O11,"") -> 0 | V11: =IFERROR(T11*J11*L11*O11,"") -> 0 | W11: =IF(E11="","",IF(H11<S11+T11,"Error in Areas ▲",IF(P11<>'G-1 All Habitats'!$X$3,H11-S11-T11,IF(AND(P11='G-1 All Habitats'!$X$3,Y11="Yes"),"Unacceptable Loss ⚠",IF(AND(P11='G-1 All Habitats'!$X$3,Y11="No"),AC11,IF(AND(P11='G-1 All Habitats'!$X$3,Y11=""),AC11,IF(AND(P11='G-1 All Habitats'!$X$3,AC11="None",AC11),IF(AND(P11='G-1 All Habitats'!$X$3,AC11>0),H11-S11-T11)))))))) -> 0.121 | X11: =IFERROR(IF(H11="","",IF(H11-S11-T11=0<0,"Error in Areas ▲",IF(S11+T11>H11,"Error in Areas ▲",IF(AND(P11='G-1 All Habitats'!$X$3,Y11="Yes"),"Alternative Compensation ✓",IF(W11=0,0,IF(P11='G-1 All Habitats'!$X$3,"Any Loss Unacceptable ▲",Q11-U11-V11)))))),"Check Data ▲") -> 1.452 | AC11: =IF(P11="","",IF(P11='G-1 All Habitats'!$X$3,H11-S11-T11,"None")) -> None | AD11: =IF(P11="","", IF(P11='G-1 All Habitats'!$X$3, AC11*J11*L11*O11,"None")) -> None | AF11: =IF(G11="","",IF(S11>0,TRUE,FALSE)) -> FALSE | AG11: =IF(H11="","",IF(T11>0,TRUE,FALSE)) -> FALSE | AH11: =IF(I11="","",IF(#REF!>0,TRUE,FALSE)) -> #REF! | AI11: 1 | AK11: {=IFERROR(INDEX($AI$11:$AI$259, MATCH(0, IF(TRUE=$AF$11:$AF$259, COUNTIF($AK$10:$AK10, $AI$11:$AI$259), ""), 0)),"")} -> 2 | AL11: {=IFERROR(INDEX($AI$11:$AI$259, MATCH(0, IF(TRUE=$AG$11:$AG$259, COUNTIF($AL$10:$AL10, $AI$11:$AI$259), ""), 0)),"")} | AM11: {=IFERROR(INDEX($AI$11:$AI$259, MATCH(0, IF(TRUE=$AH$11:$AH$259, COUNTIF($AM$10:$AM10, $AI$11:$AI$259), ""), 0)),"")} | AQ11: =IF(X11="Unacceptable Loss",1,0) -> 0
A12: =IFERROR(INDEX('G-1 All Habitats'!$AG$3:$AG$17,MATCH(E12,'G-1 All Habitats'!$AF$3:$AF$17,0)),"") -> Woodland_and_forest | B12: =IFERROR(INDEX('G-8 Condition Look up'!$I$4:$I$135,MATCH(G12,'G-8 Condition Look up'!$A$4:$A$135,0)),"") -> Cond5 | D12: 2 | E12: Woodland and forest | F12: Felled | G12: =IFERROR(INDEX('G-1 All Habitats'!$B$3:$B$134,MATCH(F12,'G-1 All Habitats'!$A$3:$A$134,0)),"") -> Woodland and forest - Felled | H12: 0.3644 | I12: =IF(G12="","",VLOOKUP(G12,'G-1 All Habitats'!$B$2:$M$134,10,FALSE)) -> High | J12: =IFERROR(VLOOKUP(I12,'G-1 All Habitats'!$V$3:$W$7,2,FALSE),"") -> 6 | K12: Good | L12: =IFERROR(INDEX('G-8 Condition Look up'!$A$3:$H$135,MATCH(G12,'G-8 Condition Look up'!$A$3:$A$135,0),MATCH(K12,'G-8 Condition Look up'!$A$3:$H$3,0)),"") -> 3 | M12: Location ecologically desirable but not in local strategy | N12: =IF(M12="","",IF(VLOOKUP(M12,'G-3 Multipliers'!$L$3:$N$6,2,FALSE)=0,"Spatial Data Missing",VLOOKUP(M12,'G-3 Multipliers'!$L$3:$N$6,2,FALSE))) -> Medium strategic significance | O12: =IF(M12="","",IF(VLOOKUP(M12,'G-3 Multipliers'!$L$3:$N$6,3,FALSE)=0,"Spatial Data Missing ▲",VLOOKUP(M12,'G-3 Multipliers'!$L$3:$N$6,3,FALSE))) -> 1.1 | P12: =IFERROR(VLOOKUP(G12,'G-1 All Habitats'!$B$2:$M$134,12,FALSE),"") -> Same habitat required = | Q12: =IFERROR(IF(P12="","",IF(AND(P12='G-1 All Habitats'!$X$3,T12>0),U12+V12,IF(AND(P12='G-1 All Habitats'!$X$3,S12>0),U12+V12,IF(AND(P12='G-1 All Habitats'!$X$3,AC12>0),"Any Loss Unacceptable ⚠",IF(AND(P12='G-1 All Habitats'!$X$3,W12>0),"Any Loss Unacceptable ⚠",H12*J12*L12*O12))))),"Check Data ▲") -> 7.21512 | S12: 0.1239 | U12: =IFERROR(S12*J12*L12*O12,"") -> 2.45322 | V12: =IFERROR(T12*J12*L12*O12,"") -> 0 | W12: =IF(E12="","",IF(H12<S12+T12,"Error in Areas ▲",IF(P12<>'G-1 All Habitats'!$X$3,H12-S12-T12,IF(AND(P12='G-1 All Habitats'!$X$3,Y12="Yes"),"Unacceptable Loss ⚠",IF(AND(P12='G-1 All Habitats'!$X$3,Y12="No"),AC12,IF(AND(P12='G-1 All Habitats'!$X$3,Y12=""),AC12,IF(AND(P12='G-1 All Habitats'!$X$3,AC12="None",AC12),IF(AND(P12='G-1 All Habitats'!$X$3,AC12>0),H12-S12-T12)))))))) -> 0.2405 | X12: =IFERROR(IF(H12="","",IF(H12-S12-T12=0<0,"Error in Areas ▲",IF(S12+T12>H12,"Error in Areas ▲",IF(AND(P12='G-1 All Habitats'!$X$3,Y12="Yes"),"Alternative Compensation ✓",IF(W12=0,0,IF(P12='G-1 All Habitats'!$X$3,"Any Loss Unacceptable ▲",Q12-U12-V12)))))),"Check Data ▲") -> 4.7619 | AC12: =IF(P12="","",IF(P12='G-1 All Habitats'!$X$3,H12-S12-T12,"None")) -> None | AD12: =IF(P12="","", IF(P12='G-1 All Habitats'!$X$3, AC12*J12*L12*O12,"None")) -> None | AF12: =IF(G12="","",IF(S12>0,TRUE,FALSE)) -> TRUE | AG12: =IF(H12="","",IF(T12>0,TRUE,FALSE)) -> FALSE | AH12: =IF(I12="","",IF(#REF!>0,TRUE,FALSE)) -> #REF! | AI12: 2 | AK12: {=IFERROR(INDEX($AI$11:$AI$259, MATCH(0, IF(TRUE=$AF$11:$AF$259, COUNTIF($AK$10:$AK11, $AI$11:$AI$259), ""), 0)),"")} -> 5 | AL12: {=IFERROR(INDEX($AI$11:$AI$259, MATCH(0, IF(TRUE=$AG$11:$AG$259, COUNTIF($AL$10:$AL11, $AI$11:$AI$259), ""), 0)),"")} | AM12: {=IFERROR(INDEX($AI$11:$AI$259, MATCH(0, IF(TRUE=$AH$11:$AH$259, COUNTIF($AM$10:$AM11, $AI$11:$AI$259), ""), 0)),"")} | AQ12: =IF(X12="Unacceptable Loss",1,0) -> 0
A13: =IFERROR(INDEX('G-1 All Habitats'!$AG$3:$AG$17,MATCH(E13,'G-1 All Habitats'!$AF$3:$AF$17,0)),"") -> Urban | B13: =IFERROR(INDEX('G-8 Condition Look up'!$I$4:$I$135,MATCH(G13,'G-8 Condition Look up'!$A$4:$A$135,0)),"") -> Cond1 | D13: 3 | E13: Urban | F13: Vegetated garden | G13: =IFERROR(INDEX('G-1 All Habitats'!$B$3:$B$134,MATCH(F13,'G-1 All Habitats'!$A$3:$A$134,0)),"") -> Urban - Vegetated garden | H13: 0.0098 | I13: =IF(G13="","",VLOOKUP(G13,'G-1 All Habitats'!$B$2:$M$134,10,FALSE)) -> Low | J13: =IFERROR(VLOOKUP(I13,'G-1 All Habitats'!$V$3:$W$7,2,FALSE),"") -> 2 | K13: Condition Assessment N/A | L13: =IFERROR(INDEX('G-8 Condition Look up'!$A$3:$H$135,MATCH(G13,'G-8 Condition Look up'!$A$3:$A$135,0),MATCH(K13,'G-8 Condition Look up'!$A$3:$H$3,0)),"") -> 1 | M13: Area/compensation not in local strategy/ no local strategy | N13: =IF(M13="","",IF(VLOOKUP(M13,'G-3 Multipliers'!$L$3:$N$6,2,FALSE)=0,"Spatial Data Missing",VLOOKUP(M13,'G-3 Multipliers'!$L$3:$N$6,2,FALSE))) -> Low Strategic Significance | O13: =IF(M13="","",IF(VLOOKUP(M13,'G-3 Multipliers'!$L$3:$N$6,3,FALSE)=0,"Spatial Data Missing ▲",VLOOKUP(M13,'G-3 Multipliers'!$L$3:$N$6,3,FALSE))) -> 1 | P13: =IFERROR(VLOOKUP(G13,'G-1 All Habitats'!$B$2:$M$134,12,FALSE),"") -> Same distinctiveness or better habitat required ≥ | Q13: =IFERROR(IF(P13="","",IF(AND(P13='G-1 All Habitats'!$X$3,T13>0),U13+V13,IF(AND(P13='G-1 All Habitats'!$X$3,S13>0),U13+V13,IF(AND(P13='G-1 All Habitats'!$X$3,AC13>0),"Any Loss Unacceptable ⚠",IF(AND(P13='G-1 All Habitats'!$X$3,W13>0),"Any Loss Unacceptable ⚠",H13*J13*L13*O13))))),"Check Data ▲") -> 0.0196 | U13: =IFERROR(S13*J13*L13*O13,"") -> 0 | V13: =IFERROR(T13*J13*L13*O13,"") -> 0 | W13: =IF(E13="","",IF(H13<S13+T13,"Error in Areas ▲",IF(P13<>'G-1 All Habitats'!$X$3,H13-S13-T13,IF(AND(P13='G-1 All Habitats'!$X$3,Y13="Yes"),"Unacceptable Loss ⚠",IF(AND(P13='G-1 All Habitats'!$X$3,Y13="No"),AC13,IF(AND(P13='G-1 All Habitats'!$X$3,Y13=""),AC13,IF(AND(P13='G-1 All Habitats'!$X$3,AC13="None",AC13),IF(AND(P13='G-1 All Habitats'!$X$3,AC13>0),H13-S13-T13)))))))) -> 0.0098 | X13: =IFERROR(IF(H13="","",IF(H13-S13-T13=0<0,"Error in Areas ▲",IF(S13+T13>H13,"Error in Areas ▲",IF(AND(P13='G-1 All Habitats'!$X$3,Y13="Yes"),"Alternative Compensation ✓",IF(W13=0,0,IF(P13='G-1 All Habitats'!$X$3,"Any Loss Unacceptable ▲",Q13-U13-V13)))))),"Check Data ▲") -> 0.0196 | AC13: =IF(P13="","",IF(P13='G-1 All Habitats'!$X$3,H13-S13-T13,"None")) -> None | AD13: =IF(P13="","", IF(P13='G-1 All Habitats'!$X$3, AC13*J13*L13*O13,"None")) -> None | AF13: =IF(G13="","",IF(S13>0,TRUE,FALSE)) -> FALSE | AG13: =IF(H13="","",IF(T13>0,TRUE,FALSE)) -> FALSE | AH13: =IF(I13="","",IF(#REF!>0,TRUE,FALSE)) -> #REF! | AI13: 3 | AK13: {=IFERROR(INDEX($AI$11:$AI$259, MATCH(0, IF(TRUE=$AF$11:$AF$259, COUNTIF($AK$10:$AK12, $AI$11:$AI$259), ""), 0)),"")} | AL13: {=IFERROR(INDEX($AI$11:$AI$259, MATCH(0, IF(TRUE=$AG$11:$AG$259, COUNTIF($AL$10:$AL12, $AI$11:$AI$259), ""), 0)),"")} | AM13: {=IFERROR(INDEX($AI$11:$AI$259, MATCH(0, IF(TRUE=$AH$11:$AH$259, COUNTIF($AM$10:$AM12, $AI$11:$AI$259), ""), 0)),"")} | AQ13: =IF(X13="Unacceptable Loss",1,0) -> 0
A14: =IFERROR(INDEX('G-1 All Habitats'!$AG$3:$AG$17,MATCH(E14,'G-1 All Habitats'!$AF$3:$AF$17,0)),"") -> Urban | B14: =IFERROR(INDEX('G-8 Condition Look up'!$I$4:$I$135,MATCH(G14,'G-8 Condition Look up'!$A$4:$A$135,0)),"") -> Cond2 | D14: 4 | E14: Urban | F14: Developed land; sealed surface | G14: =IFERROR(INDEX('G-1 All Habitats'!$B$3:$B$134,MATCH(F14,'G-1 All Habitats'!$A$3:$A$134,0)),"") -> Urban - Developed land; sealed surface | H14: 0.0388 | I14: =IF(G14="","",VLOOKUP(G14,'G-1 All Habitats'!$B$2:$M$134,10,FALSE)) -> V.Low | J14: =IFERROR(VLOOKUP(I14,'G-1 All Habitats'!$V$3:$W$7,2,FALSE),"") -> 0 | K14: N/A - Other | L14: =IFERROR(INDEX('G-8 Condition Look up'!$A$3:$H$135,MATCH(G14,'G-8 Condition Look up'!$A$3:$A$135,0),MATCH(K14,'G-8 Condition Look up'!$A$3:$H$3,0)),"") -> 0 | M14: Area/compensation not in local strategy/ no local strategy | N14: =IF(M14="","",IF(VLOOKUP(M14,'G-3 Multipliers'!$L$3:$N$6,2,FALSE)=0,"Spatial Data Missing",VLOOKUP(M14,'G-3 Multipliers'!$L$3:$N$6,2,FALSE))) -> Low Strategic Significance | O14: =IF(M14="","",IF(VLOOKUP(M14,'G-3 Multipliers'!$L$3:$N$6,3,FALSE)=0,"Spatial Data Missing ▲",VLOOKUP(M14,'G-3 Multipliers'!$L$3:$N$6,3,FALSE))) -> 1 | P14: =IFERROR(VLOOKUP(G14,'G-1 All Habitats'!$B$2:$M$134,12,FALSE),"") -> Compensation Not Required | Q14: =IFERROR(IF(P14="","",IF(AND(P14='G-1 All Habitats'!$X$3,T14>0),U14+V14,IF(AND(P14='G-1 All Habitats'!$X$3,S14>0),U14+V14,IF(AND(P14='G-1 All Habitats'!$X$3,AC14>0),"Any Loss Unacceptable ⚠",IF(AND(P14='G-1 All Habitats'!$X$3,W14>0),"Any Loss Unacceptable ⚠",H14*J14*L14*O14))))),"Check Data ▲") -> 0 | U14: =IFERROR(S14*J14*L14*O14,"") -> 0 | V14: =IFERROR(T14*J14*L14*O14,"") -> 0 | W14: =IF(E14="","",IF(H14<S14+T14,"Error in Areas ▲",IF(P14<>'G-1 All Habitats'!$X$3,H14-S14-T14,IF(AND(P14='G-1 All Habitats'!$X$3,Y14="Yes"),"Unacceptable Loss ⚠",IF(AND(P14='G-1 All Habitats'!$X$3,Y14="No"),AC14,IF(AND(P14='G-1 All Habitats'!$X$3,Y14=""),AC14,IF(AND(P14='G-1 All Habitats'!$X$3,AC14="None",AC14),IF(AND(P14='G-1 All Habitats'!$X$3,AC14>0),H14-S14-T14)))))))) -> 0.0388 | X14: =IFERROR(IF(H14="","",IF(H14-S14-T14=0<0,"Error in Areas ▲",IF(S14+T14>H14,"Error in Areas ▲",IF(AND(P14='G-1 All Habitats'!$X$3,Y14="Yes"),"Alternative Compensation ✓",IF(W14=0,0,IF(P14='G-1 All Habitats'!$X$3,"Any Loss Unacceptable ▲",Q14-U14-V14)))))),"Check Data ▲") -> 0 | AC14: =IF(P14="","",IF(P14='G-1 All Habitats'!$X$3,H14-S14-T14,"None")) -> None | AD14: =IF(P14="","", IF(P14='G-1 All Habitats'!$X$3, AC14*J14*L14*O14,"None")) -> None | AF14: =IF(G14="","",IF(S14>0,TRUE,FALSE)) -> FALSE | AG14: =IF(H14="","",IF(T14>0,TRUE,FALSE)) -> FALSE | AH14: =IF(I14="","",IF(#REF!>0,TRUE,FALSE)) -> #REF! | AI14: 4 | AK14: {=IFERROR(INDEX($AI$11:$AI$259, MATCH(0, IF(TRUE=$AF$11:$AF$259, COUNTIF($AK$10:$AK13, $AI$11:$AI$259), ""), 0)),"")} | AL14: {=IFERROR(INDEX($AI$11:$AI$259, MATCH(0, IF(TRUE=$AG$11:$AG$259, COUNTIF($AL$10:$AL13, $AI$11:$AI$259), ""), 0)),"")} | AM14: {=IFERROR(INDEX($AI$11:$AI$259, MATCH(0, IF(TRUE=$AH$11:$AH$259, COUNTIF($AM$10:$AM13, $AI$11:$AI$259), ""), 0)),"")} | AQ14: =IF(X14="Unacceptable Loss",1,0) -> 0
A15: =IFERROR(INDEX('G-1 All Habitats'!$AG$3:$AG$17,MATCH(E15,'G-1 All Habitats'!$AF$3:$AF$17,0)),"") -> Lakes | B15: =IFERROR(INDEX('G-8 Condition Look up'!$I$4:$I$135,MATCH(G15,'G-8 Condition Look up'!$A$4:$A$135,0)),"") -> Cond4 | D15: 5 | E15: Lakes | F15: Ornamental lake or pond | G15: =IFERROR(INDEX('G-1 All Habitats'!$B$3:$B$134,MATCH(F15,'G-1 All Habitats'!$A$3:$A$134,0)),"") -> Lakes - Ornamental lake or pond | H15: 0.0045 | I15: =IF(G15="","",VLOOKUP(G15,'G-1 All Habitats'!$B$2:$M$134,10,FALSE)) -> Low | J15: =IFERROR(VLOOKUP(I15,'G-1 All Habitats'!$V$3:$W$7,2,FALSE),"") -> 2 | K15: Poor | L15: =IFERROR(INDEX('G-8 Condition Look up'!$A$3:$H$135,MATCH(G15,'G-8 Condition Look up'!$A$3:$A$135,0),MATCH(K15,'G-8 Condition Look up'!$A$3:$H$3,0)),"") -> 1 | M15: Area/compensation not in local strategy/ no local strategy | N15: =IF(M15="","",IF(VLOOKUP(M15,'G-3 Multipliers'!$L$3:$N$6,2,FALSE)=0,"Spatial Data Missing",VLOOKUP(M15,'G-3 Multipliers'!$L$3:$N$6,2,FALSE))) -> Low Strategic Significance | O15: =IF(M15="","",IF(VLOOKUP(M15,'G-3 Multipliers'!$L$3:$N$6,3,FALSE)=0,"Spatial Data Missing ▲",VLOOKUP(M15,'G-3 Multipliers'!$L$3:$N$6,3,FALSE))) -> 1 | P15: =IFERROR(VLOOKUP(G15,'G-1 All Habitats'!$B$2:$M$134,12,FALSE),"") -> Same distinctiveness or better habitat required ≥ | Q15: =IFERROR(IF(P15="","",IF(AND(P15='G-1 All Habitats'!$X$3,T15>0),U15+V15,IF(AND(P15='G-1 All Habitats'!$X$3,S15>0),U15+V15,IF(AND(P15='G-1 All Habitats'!$X$3,AC15>0),"Any Loss Unacceptable ⚠",IF(AND(P15='G-1 All Habitats'!$X$3,W15>0),"Any Loss Unacceptable ⚠",H15*J15*L15*O15))))),"Check Data ▲") -> 0.009 | S15: 0.0045 | U15: =IFERROR(S15*J15*L15*O15,"") -> 0.009 | V15: =IFERROR(T15*J15*L15*O15,"") -> 0 | W15: =IF(E15="","",IF(H15<S15+T15,"Error in Areas ▲",IF(P15<>'G-1 All Habitats'!$X$3,H15-S15-T15,IF(AND(P15='G-1 All Habitats'!$X$3,Y15="Yes"),"Unacceptable Loss ⚠",IF(AND(P15='G-1 All Habitats'!$X$3,Y15="No"),AC15,IF(AND(P15='G-1 All Habitats'!$X$3,Y15=""),AC15,IF(AND(P15='G-1 All Habitats'!$X$3,AC15="None",AC15),IF(AND(P15='G-1 All Habitats'!$X$3,AC15>0),H15-S15-T15)))))))) -> 0 | X15: =IFERROR(IF(H15="","",IF(H15-S15-T15=0<0,"Error in Areas ▲",IF(S15+T15>H15,"Error in Areas ▲",IF(AND(P15='G-1 All Habitats'!$X$3,Y15="Yes"),"Alternative Compensation ✓",IF(W15=0,0,IF(P15='G-1 All Habitats'!$X$3,"Any Loss Unacceptable ▲",Q15-U15-V15)))))),"Check Data ▲") -> 0 | AC15: =IF(P15="","",IF(P15='G-1 All Habitats'!$X$3,H15-S15-T15,"None")) -> None | AD15: =IF(P15="","", IF(P15='G-1 All Habitats'!$X$3, AC15*J15*L15*O15,"None")) -> None | AF15: =IF(G15="","",IF(S15>0,TRUE,FALSE)) -> TRUE | AG15: =IF(H15="","",IF(T15>0,TRUE,FALSE)) -> FALSE | AH15: =IF(I15="","",IF(#REF!>0,TRUE,FALSE)) -> #REF! | AI15: 5 | AK15: {=IFERROR(INDEX($AI$11:$AI$259, MATCH(0, IF(TRUE=$AF$11:$AF$259, COUNTIF($AK$10:$AK14, $AI$11:$AI$259), ""), 0)),"")} | AL15: {=IFERROR(INDEX($AI$11:$AI$259, MATCH(0, IF(TRUE=$AG$11:$AG$259, COUNTIF($AL$10:$AL14, $AI$11:$AI$259), ""), 0)),"")} | AM15: {=IFERROR(INDEX($AI$11:$AI$259, MATCH(0, IF(TRUE=$AH$11:$AH$259, COUNTIF($AM$10:$AM14, $AI$11:$AI$259), ""), 0)),"")} | AQ15: =IF(X15="Unacceptable Loss",1,0) -> 0
A16: =IFERROR(INDEX('G-1 All Habitats'!$AG$3:$AG$17,MATCH(E16,'G-1 All Habitats'!$AF$3:$AF$17,0)),"") | B16: =IFERROR(INDEX('G-8 Condition Look up'!$I$4:$I$135,MATCH(G16,'G-8 Condition Look up'!$A$4:$A$135,0)),"") | D16: 6 | G16: =IFERROR(INDEX('G-1 All Habitats'!$B$3:$B$134,MATCH(F16,'G-1 All Habitats'!$A$3:$A$134,0)),"") | I16: =IF(G16="","",VLOOKUP(G16,'G-1 All Habitats'!$B$2:$M$134,10,FALSE)) | J16: =IFERROR(VLOOKUP(I16,'G-1 All Habitats'!$V$3:$W$7,2,FALSE),"") | L16: =IFERROR(INDEX('G-8 Condition Look up'!$A$3:$H$135,MATCH(G16,'G-8 Condition Look up'!$A$3:$A$135,0),MATCH(K16,'G-8 Condition Look up'!$A$3:$H$3,0)),"") | N16: =IF(M16="","",IF(VLOOKUP(M16,'G-3 Multipliers'!$L$3:$N$6,2,FALSE)=0,"Spatial Data Missing",VLOOKUP(M16,'G-3 Multipliers'!$L$3:$N$6,2,FALSE))) | O16: =IF(M16="","",IF(VLOOKUP(M16,'G-3 Multipliers'!$L$3:$N$6,3,FALSE)=0,"Spatial Data Missing ▲",VLOOKUP(M16,'G-3 Multipliers'!$L$3:$N$6,3,FALSE))) | P16: =IFERROR(VLOOKUP(G16,'G-1 All Habitats'!$B$2:$M$134,12,FALSE),"") | Q16: =IFERROR(IF(P16="","",IF(AND(P16='G-1 All Habitats'!$X$3,T16>0),U16+V16,IF(AND(P16='G-1 All Habitats'!$X$3,S16>0),U16+V16,IF(AND(P16='G-1 All Habitats'!$X$3,AC16>0),"Any Loss Unacceptable ⚠",IF(AND(P16='G-1 All Habitats'!$X$3,W16>0),"Any Loss Unacceptable ⚠",H16*J16*L16*O16))))),"Check Data ▲") | U16: =IFERROR(S16*J16*L16*O16,"") | V16: =IFERROR(T16*J16*L16*O16,"") | W16: =IF(E16="","",IF(H16<S16+T16,"Error in Areas ▲",IF(P16<>'G-1 All Habitats'!$X$3,H16-S16-T16,IF(AND(P16='G-1 All Habitats'!$X$3,Y16="Yes"),"Unacceptable Loss ⚠",IF(AND(P16='G-1 All Habitats'!$X$3,Y16="No"),AC16,IF(AND(P16='G-1 All Habitats'!$X$3,Y16=""),AC16,IF(AND(P16='G-1 All Habitats'!$X$3,AC16="None",AC16),IF(AND(P16='G-1 All Habitats'!$X$3,AC16>0),H16-S16-T16)))))))) | X16: =IFERROR(IF(H16="","",IF(H16-S16-T16=0<0,"Error in Areas ▲",IF(S16+T16>H16,"Error in Areas ▲",IF(AND(P16='G-1 All Habitats'!$X$3,Y16="Yes"),"Alternative Compensation ✓",IF(W16=0,0,IF(P16='G-1 All Habitats'!$X$3,"Any Loss Unacceptable ▲",Q16-U16-V16)))))),"Check Data ▲") | AC16: =IF(P16="","",IF(P16='G-1 All Habitats'!$X$3,H16-S16-T16,"None")) | AD16: =IF(P16="","", IF(P16='G-1 All Habitats'!$X$3, AC16*J16*L16*O16,"None")) | AF16: =IF(G16="","",IF(S16>0,TRUE,FALSE)) | AG16: =IF(H16="","",IF(T16>0,TRUE,FALSE)) | AH16: =IF(I16="","",IF(#REF!>0,TRUE,FALSE)) | AI16: 6 | AK16: {=IFERROR(INDEX($AI$11:$AI$259, MATCH(0, IF(TRUE=$AF$11:$AF$259, COUNTIF($AK$10:$AK15, $AI$11:$AI$259), ""), 0)),"")} | AL16: {=IFERROR(INDEX($AI$11:$AI$259, MATCH(0, IF(TRUE=$AG$11:$AG$259, COUNTIF($AL$10:$AL15, $AI$11:$AI$259), ""), 0)),"")} | AM16: {=IFERROR(INDEX($AI$11:$AI$259, MATCH(0, IF(TRUE=$AH$11:$AH$259, COUNTIF($AM$10:$AM15, $AI$11:$AI$259), ""), 0)),"")} | AQ16: =IF(X16="Unacceptable Loss",1,0) -> 0
A17: =IFERROR(INDEX('G-1 All Habitats'!$AG$3:$AG$17,MATCH(E17,'G-1 All Habitats'!$AF$3:$AF$17,0)),"") | B17: =IFERROR(INDEX('G-8 Condition Look up'!$I$4:$I$135,MATCH(G17,'G-8 Condition Look up'!$A$4:$A$135,0)),"") | D17: 7 | G17: =IFERROR(INDEX('G-1 All Habitats'!$B$3:$B$134,MATCH(F17,'G-1 All Habitats'!$A$3:$A$134,0)),"") | I17: =IF(G17="","",VLOOKUP(G17,'G-1 All Habitats'!$B$2:$M$134,10,FALSE)) | J17: =IFERROR(VLOOKUP(I17,'G-1 All Habitats'!$V$3:$W$7,2,FALSE),"") | L17: =IFERROR(INDEX('G-8 Condition Look up'!$A$3:$H$135,MATCH(G17,'G-8 Condition Look up'!$A$3:$A$135,0),MATCH(K17,'G-8 Condition Look up'!$A$3:$H$3,0)),"") | N17: =IF(M17="","",IF(VLOOKUP(M17,'G-3 Multipliers'!$L$3:$N$6,2,FALSE)=0,"Spatial Data Missing",VLOOKUP(M17,'G-3 Multipliers'!$L$3:$N$6,2,FALSE))) | O17: =IF(M17="","",IF(VLOOKUP(M17,'G-3 Multipliers'!$L$3:$N$6,3,FALSE)=0,"Spatial Data Missing ▲",VLOOKUP(M17,'G-3 Multipliers'!$L$3:$N$6,3,FALSE))) | P17: =IFERROR(VLOOKUP(G17,'G-1 All Habitats'!$B$2:$M$134,12,FALSE),"") | Q17: =IFERROR(IF(P17="","",IF(AND(P17='G-1 All Habitats'!$X$3,T17>0),U17+V17,IF(AND(P17='G-1 All Habitats'!$X$3,S17>0),U17+V17,IF(AND(P17='G-1 All Habitats'!$X$3,AC17>0),"Any Loss Unacceptable ⚠",IF(AND(P17='G-1 All Habitats'!$X$3,W17>0),"Any Loss Unacceptable ⚠",H17*J17*L17*O17))))),"Check Data ▲") | U17: =IFERROR(S17*J17*L17*O17,"") | V17: =IFERROR(T17*J17*L17*O17,"") | W17: =IF(E17="","",IF(H17<S17+T17,"Error in Areas ▲",IF(P17<>'G-1 All Habitats'!$X$3,H17-S17-T17,IF(AND(P17='G-1 All Habitats'!$X$3,Y17="Yes"),"Unacceptable Loss ⚠",IF(AND(P17='G-1 All Habitats'!$X$3,Y17="No"),AC17,IF(AND(P17='G-1 All Habitats'!$X$3,Y17=""),AC17,IF(AND(P17='G-1 All Habitats'!$X$3,AC17="None",AC17),IF(AND(P17='G-1 All Habitats'!$X$3,AC17>0),H17-S17-T17)))))))) | X17: =IFERROR(IF(H17="","",IF(H17-S17-T17=0<0,"Error in Areas ▲",IF(S17+T17>H17,"Error in Areas ▲",IF(AND(P17='G-1 All Habitats'!$X$3,Y17="Yes"),"Alternative Compensation ✓",IF(W17=0,0,IF(P17='G-1 All Habitats'!$X$3,"Any Loss Unacceptable ▲",Q17-U17-V17)))))),"Check Data ▲") | AC17: =IF(P17="","",IF(P17='G-1 All Habitats'!$X$3,H17-S17-T17,"None")) | AD17: =IF(P17="","", IF(P17='G-1 All Habitats'!$X$3, AC17*J17*L17*O17,"None")) | AF17: =IF(G17="","",IF(S17>0,TRUE,FALSE)) | AG17: =IF(H17="","",IF(T17>0,TRUE,FALSE)) | AH17: =IF(I17="","",IF(#REF!>0,TRUE,FALSE)) | AI17: 7 | AK17: {=IFERROR(INDEX($AI$11:$AI$259, MATCH(0, IF(TRUE=$AF$11:$AF$259, COUNTIF($AK$10:$AK16, $AI$11:$AI$259), ""), 0)),"")} | AL17: {=IFERROR(INDEX($AI$11:$AI$259, MATCH(0, IF(TRUE=$AG$11:$AG$259, COUNTIF($AL$10:$AL16, $AI$11:$AI$259), ""), 0)),"")} | AM17: {=IFERROR(INDEX($AI$11:$AI$259, MATCH(0, IF(TRUE=$AH$11:$AH$259, COUNTIF($AM$10:$AM16, $AI$11:$AI$259), ""), 0)),"")} | AQ17: =IF(X17="Unacceptable Loss",1,0) -> 0
A18: =IFERROR(INDEX('G-1 All Habitats'!$AG$3:$AG$17,MATCH(E18,'G-1 All Habitats'!$AF$3:$AF$17,0)),"") | B18: =IFERROR(INDEX('G-8 Condition Look up'!$I$4:$I$135,MATCH(G18,'G-8 Condition Look up'!$A$4:$A$135,0)),"") | D18: 8 | G18: =IFERROR(INDEX('G-1 All Habitats'!$B$3:$B$134,MATCH(F18,'G-1 All Habitats'!$A$3:$A$134,0)),"") | I18: =IF(G18="","",VLOOKUP(G18,'G-1 All Habitats'!$B$2:$M$134,10,FALSE)) | J18: =IFERROR(VLOOKUP(I18,'G-1 All Habitats'!$V$3:$W$7,2,FALSE),"") | L18: =IFERROR(INDEX('G-8 Condition Look up'!$A$3:$H$135,MATCH(G18,'G-8 Condition Look up'!$A$3:$A$135,0),MATCH(K18,'G-8 Condition Look up'!$A$3:$H$3,0)),"") | N18: =IF(M18="","",IF(VLOOKUP(M18,'G-3 Multipliers'!$L$3:$N$6,2,FALSE)=0,"Spatial Data Missing",VLOOKUP(M18,'G-3 Multipliers'!$L$3:$N$6,2,FALSE))) | O18: =IF(M18="","",IF(VLOOKUP(M18,'G-3 Multipliers'!$L$3:$N$6,3,FALSE)=0,"Spatial Data Missing ▲",VLOOKUP(M18,'G-3 Multipliers'!$L$3:$N$6,3,FALSE))) | P18: =IFERROR(VLOOKUP(G18,'G-1 All Habitats'!$B$2:$M$134,12,FALSE),"") | Q18: =IFERROR(IF(P18="","",IF(AND(P18='G-1 All Habitats'!$X$3,T18>0),U18+V18,IF(AND(P18='G-1 All Habitats'!$X$3,S18>0),U18+V18,IF(AND(P18='G-1 All Habitats'!$X$3,AC18>0),"Any Loss Unacceptable ⚠",IF(AND(P18='G-1 All Habitats'!$X$3,W18>0),"Any Loss Unacceptable ⚠",H18*J18*L18*O18))))),"Check Data ▲") | U18: =IFERROR(S18*J18*L18*O18,"") | V18: =IFERROR(T18*J18*L18*O18,"") | W18: =IF(E18="","",IF(H18<S18+T18,"Error in Areas ▲",IF(P18<>'G-1 All Habitats'!$X$3,H18-S18-T18,IF(AND(P18='G-1 All Habitats'!$X$3,Y18="Yes"),"Unacceptable Loss ⚠",IF(AND(P18='G-1 All Habitats'!$X$3,Y18="No"),AC18,IF(AND(P18='G-1 All Habitats'!$X$3,Y18=""),AC18,IF(AND(P18='G-1 All Habitats'!$X$3,AC18="None",AC18),IF(AND(P18='G-1 All Habitats'!$X$3,AC18>0),H18-S18-T18)))))))) | X18: =IFERROR(IF(H18="","",IF(H18-S18-T18=0<0,"Error in Areas ▲",IF(S18+T18>H18,"Error in Areas ▲",IF(AND(P18='G-1 All Habitats'!$X$3,Y18="Yes"),"Alternative Compensation ✓",IF(W18=0,0,IF(P18='G-1 All Habitats'!$X$3,"Any Loss Unacceptable ▲",Q18-U18-V18)))))),"Check Data ▲") | AC18: =IF(P18="","",IF(P18='G-1 All Habitats'!$X$3,H18-S18-T18,"None")) | AD18: =IF(P18="","", IF(P18='G-1 All Habitats'!$X$3, AC18*J18*L18*O18,"None")) | AF18: =IF(G18="","",IF(S18>0,TRUE,FALSE)) | AG18: =IF(H18="","",IF(T18>0,TRUE,FALSE)) | AH18: =IF(I18="","",IF(#REF!>0,TRUE,FALSE)) | AI18: 8 | AK18: {=IFERROR(INDEX($AI$11:$AI$259, MATCH(0, IF(TRUE=$AF$11:$AF$259, COUNTIF($AK$10:$AK17, $AI$11:$AI$259), ""), 0)),"")} | AL18: {=IFERROR(INDEX($AI$11:$AI$259, MATCH(0, IF(TRUE=$AG$11:$AG$259, COUNTIF($AL$10:$AL17, $AI$11:$AI$259), ""), 0)),"")} | AM18: {=IFERROR(INDEX($AI$11:$AI$259, MATCH(0, IF(TRUE=$AH$11:$AH$259, COUNTIF($AM$10:$AM17, $AI$11:$AI$259), ""), 0)),"")} | AQ18: =IF(X18="Unacceptable Loss",1,0) -> 0
A19: =IFERROR(INDEX('G-1 All Habitats'!$AG$3:$AG$17,MATCH(E19,'G-1 All Habitats'!$AF$3:$AF$17,0)),"") | B19: =IFERROR(INDEX('G-8 Condition Look up'!$I$4:$I$135,MATCH(G19,'G-8 Condition Look up'!$A$4:$A$135,0)),"") | D19: 9 | G19: =IFERROR(INDEX('G-1 All Habitats'!$B$3:$B$134,MATCH(F19,'G-1 All Habitats'!$A$3:$A$134,0)),"") | I19: =IF(G19="","",VLOOKUP(G19,'G-1 All Habitats'!$B$2:$M$134,10,FALSE)) | J19: =IFERROR(VLOOKUP(I19,'G-1 All Habitats'!$V$3:$W$7,2,FALSE),"") | L19: =IFERROR(INDEX('G-8 Condition Look up'!$A$3:$H$135,MATCH(G19,'G-8 Condition Look up'!$A$3:$A$135,0),MATCH(K19,'G-8 Condition Look up'!$A$3:$H$3,0)),"") | N19: =IF(M19="","",IF(VLOOKUP(M19,'G-3 Multipliers'!$L$3:$N$6,2,FALSE)=0,"Spatial Data Missing",VLOOKUP(M19,'G-3 Multipliers'!$L$3:$N$6,2,FALSE))) | O19: =IF(M19="","",IF(VLOOKUP(M19,'G-3 Multipliers'!$L$3:$N$6,3,FALSE)=0,"Spatial Data Missing ▲",VLOOKUP(M19,'G-3 Multipliers'!$L$3:$N$6,3,FALSE))) | P19: =IFERROR(VLOOKUP(G19,'G-1 All Habitats'!$B$2:$M$134,12,FALSE),"") | Q19: =IFERROR(IF(P19="","",IF(AND(P19='G-1 All Habitats'!$X$3,T19>0),U19+V19,IF(AND(P19='G-1 All Habitats'!$X$3,S19>0),U19+V19,IF(AND(P19='G-1 All Habitats'!$X$3,AC19>0),"Any Loss Unacceptable ⚠",IF(AND(P19='G-1 All Habitats'!$X$3,W19>0),"Any Loss Unacceptable ⚠",H19*J19*L19*O19))))),"Check Data ▲") | U19: =IFERROR(S19*J19*L19*O19,"") | V19: =IFERROR(T19*J19*L19*O19,"") | W19: =IF(E19="","",IF(H19<S19+T19,"Error in Areas ▲",IF(P19<>'G-1 All Habitats'!$X$3,H19-S19-T19,IF(AND(P19='G-1 All Habitats'!$X$3,Y19="Yes"),"Unacceptable Loss ⚠",IF(AND(P19='G-1 All Habitats'!$X$3,Y19="No"),AC19,IF(AND(P19='G-1 All Habitats'!$X$3,Y19=""),AC19,IF(AND(P19='G-1 All Habitats'!$X$3,AC19="None",AC19),IF(AND(P19='G-1 All Habitats'!$X$3,AC19>0),H19-S19-T19)))))))) | X19: =IFERROR(IF(H19="","",IF(H19-S19-T19=0<0,"Error in Areas ▲",IF(S19+T19>H19,"Error in Areas ▲",IF(AND(P19='G-1 All Habitats'!$X$3,Y19="Yes"),"Alternative Compensation ✓",IF(W19=0,0,IF(P19='G-1 All Habitats'!$X$3,"Any Loss Unacceptable ▲",Q19-U19-V19)))))),"Check Data ▲") | AC19: =IF(P19="","",IF(P19='G-1 All Habitats'!$X$3,H19-S19-T19,"None")) | AD19: =IF(P19="","", IF(P19='G-1 All Habitats'!$X$3, AC19*J19*L19*O19,"None")) | AF19: =IF(G19="","",IF(S19>0,TRUE,FALSE)) | AG19: =IF(H19="","",IF(T19>0,TRUE,FALSE)) | AH19: =IF(I19="","",IF(#REF!>0,TRUE,FALSE)) | AI19: 9 | AK19: {=IFERROR(INDEX($AI$11:$AI$259, MATCH(0, IF(TRUE=$AF$11:$AF$259, COUNTIF($AK$10:$AK18, $AI$11:$AI$259), ""), 0)),"")} | AL19: {=IFERROR(INDEX($AI$11:$AI$259, MATCH(0, IF(TRUE=$AG$11:$AG$259, COUNTIF($AL$10:$AL18, $AI$11:$AI$259), ""), 0)),"")} | AM19: {=IFERROR(INDEX($AI$11:$AI$259, MATCH(0, IF(TRUE=$AH$11:$AH$259, COUNTIF($AM$10:$AM18, $AI$11:$AI$259), ""), 0)),"")} | AQ19: =IF(X19="Unacceptable Loss",1,0) -> 0
A20: =IFERROR(INDEX('G-1 All Habitats'!$AG$3:$AG$17,MATCH(E20,'G-1 All Habitats'!$AF$3:$AF$17,0)),"") | B20: =IFERROR(INDEX('G-8 Condition Look up'!$I$4:$I$135,MATCH(G20,'G-8 Condition Look up'!$A$4:$A$135,0)),"") | D20: 10 | G20: =IFERROR(INDEX('G-1 All Habitats'!$B$3:$B$134,MATCH(F20,'G-1 All Habitats'!$A$3:$A$134,0)),"") | I20: =IF(G20="","",VLOOKUP(G20,'G-1 All Habitats'!$B$2:$M$134,10,FALSE)) | J20: =IFERROR(VLOOKUP(I20,'G-1 All Habitats'!$V$3:$W$7,2,FALSE),"") | L20: =IFERROR(INDEX('G-8 Condition Look up'!$A$3:$H$135,MATCH(G20,'G-8 Condition Look up'!$A$3:$A$135,0),MATCH(K20,'G-8 Condition Look up'!$A$3:$H$3,0)),"") | N20: =IF(M20="","",IF(VLOOKUP(M20,'G-3 Multipliers'!$L$3:$N$6,2,FALSE)=0,"Spatial Data Missing",VLOOKUP(M20,'G-3 Multipliers'!$L$3:$N$6,2,FALSE))) | O20: =IF(M20="","",IF(VLOOKUP(M20,'G-3 Multipliers'!$L$3:$N$6,3,FALSE)=0,"Spatial Data Missing ▲",VLOOKUP(M20,'G-3 Multipliers'!$L$3:$N$6,3,FALSE))) | P20: =IFERROR(VLOOKUP(G20,'G-1 All Habitats'!$B$2:$M$134,12,FALSE),"") | Q20: =IFERROR(IF(P20="","",IF(AND(P20='G-1 All Habitats'!$X$3,T20>0),U20+V20,IF(AND(P20='G-1 All Habitats'!$X$3,S20>0),U20+V20,IF(AND(P20='G-1 All Habitats'!$X$3,AC20>0),"Any Loss Unacceptable ⚠",IF(AND(P20='G-1 All Habitats'!$X$3,W20>0),"Any Loss Unacceptable ⚠",H20*J20*L20*O20))))),"Check Data ▲") | U20: =IFERROR(S20*J20*L20*O20,"") | V20: =IFERROR(T20*J20*L20*O20,"") | W20: =IF(E20="","",IF(H20<S20+T20,"Error in Areas ▲",IF(P20<>'G-1 All Habitats'!$X$3,H20-S20-T20,IF(AND(P20='G-1 All Habitats'!$X$3,Y20="Yes"),"Unacceptable Loss ⚠",IF(AND(P20='G-1 All Habitats'!$X$3,Y20="No"),AC20,IF(AND(P20='G-1 All Habitats'!$X$3,Y20=""),AC20,IF(AND(P20='G-1 All Habitats'!$X$3,AC20="None",AC20),IF(AND(P20='G-1 All Habitats'!$X$3,AC20>0),H20-S20-T20)))))))) | X20: =IFERROR(IF(H20="","",IF(H20-S20-T20=0<0,"Error in Areas ▲",IF(S20+T20>H20,"Error in Areas ▲",IF(AND(P20='G-1 All Habitats'!$X$3,Y20="Yes"),"Alternative Compensation ✓",IF(W20=0,0,IF(P20='G-1 All Habitats'!$X$3,"Any Loss Unacceptable ▲",Q20-U20-V20)))))),"Check Data ▲") | AC20: =IF(P20="","",IF(P20='G-1 All Habitats'!$X$3,H20-S20-T20,"None")) | AD20: =IF(P20="","", IF(P20='G-1 All Habitats'!$X$3, AC20*J20*L20*O20,"None")) | AF20: =IF(G20="","",IF(S20>0,TRUE,FALSE)) | AG20: =IF(H20="","",IF(T20>0,TRUE,FALSE)) | AH20: =IF(I20="","",IF(#REF!>0,TRUE,FALSE)) | AI20: 10 | AK20: {=IFERROR(INDEX($AI$11:$AI$259, MATCH(0, IF(TRUE=$AF$11:$AF$259, COUNTIF($AK$10:$AK19, $AI$11:$AI$259), ""), 0)),"")} | AL20: {=IFERROR(INDEX($AI$11:$AI$259, MATCH(0, IF(TRUE=$AG$11:$AG$259, COUNTIF($AL$10:$AL19, $AI$11:$AI$259), ""), 0)),"")} | AM20: {=IFERROR(INDEX($AI$11:$AI$259, MATCH(0, IF(TRUE=$AH$11:$AH$259, COUNTIF($AM$10:$AM19, $AI$11:$AI$259), ""), 0)),"")} | AQ20: =IF(X20="Unacceptable Loss",1,0) -> 0
A21: =IFERROR(INDEX('G-1 All Habitats'!$AG$3:$AG$17,MATCH(E21,'G-1 All Habitats'!$AF$3:$AF$17,0)),"") | B21: =IFERROR(INDEX('G-8 Condition Look up'!$I$4:$I$135,MATCH(G21,'G-8 Condition Look up'!$A$4:$A$135,0)),"") | D21: 11 | G21: =IFERROR(INDEX('G-1 All Habitats'!$B$3:$B$134,MATCH(F21,'G-1 All Habitats'!$A$3:$A$134,0)),"") | I21: =IF(G21="","",VLOOKUP(G21,'G-1 All Habitats'!$B$2:$M$134,10,FALSE)) | J21: =IFERROR(VLOOKUP(I21,'G-1 All Habitats'!$V$3:$W$7,2,FALSE),"") | L21: =IFERROR(INDEX('G-8 Condition Look up'!$A$3:$H$135,MATCH(G21,'G-8 Condition Look up'!$A$3:$A$135,0),MATCH(K21,'G-8 Condition Look up'!$A$3:$H$3,0)),"") | N21: =IF(M21="","",IF(VLOOKUP(M21,'G-3 Multipliers'!$L$3:$N$6,2,FALSE)=0,"Spatial Data Missing",VLOOKUP(M21,'G-3 Multipliers'!$L$3:$N$6,2,FALSE))) | O21: =IF(M21="","",IF(VLOOKUP(M21,'G-3 Multipliers'!$L$3:$N$6,3,FALSE)=0,"Spatial Data Missing ▲",VLOOKUP(M21,'G-3 Multipliers'!$L$3:$N$6,3,FALSE))) | P21: =IFERROR(VLOOKUP(G21,'G-1 All Habitats'!$B$2:$M$134,12,FALSE),"") | Q21: =IFERROR(IF(P21="","",IF(AND(P21='G-1 All Habitats'!$X$3,T21>0),U21+V21,IF(AND(P21='G-1 All Habitats'!$X$3,S21>0),U21+V21,IF(AND(P21='G-1 All Habitats'!$X$3,AC21>0),"Any Loss Unacceptable ⚠",IF(AND(P21='G-1 All Habitats'!$X$3,W21>0),"Any Loss Unacceptable ⚠",H21*J21*L21*O21))))),"Check Data ▲") | U21: =IFERROR(S21*J21*L21*O21,"") | V21: =IFERROR(T21*J21*L21*O21,"") | W21: =IF(E21="","",IF(H21<S21+T21,"Error in Areas ▲",IF(P21<>'G-1 All Habitats'!$X$3,H21-S21-T21,IF(AND(P21='G-1 All Habitats'!$X$3,Y21="Yes"),"Unacceptable Loss ⚠",IF(AND(P21='G-1 All Habitats'!$X$3,Y21="No"),AC21,IF(AND(P21='G-1 All Habitats'!$X$3,Y21=""),AC21,IF(AND(P21='G-1 All Habitats'!$X$3,AC21="None",AC21),IF(AND(P21='G-1 All Habitats'!$X$3,AC21>0),H21-S21-T21)))))))) | X21: =IFERROR(IF(H21="","",IF(H21-S21-T21=0<0,"Error in Areas ▲",IF(S21+T21>H21,"Error in Areas ▲",IF(AND(P21='G-1 All Habitats'!$X$3,Y21="Yes"),"Alternative Compensation ✓",IF(W21=0,0,IF(P21='G-1 All Habitats'!$X$3,"Any Loss Unacceptable ▲",Q21-U21-V21)))))),"Check Data ▲") | AC21: =IF(P21="","",IF(P21='G-1 All Habitats'!$X$3,H21-S21-T21,"None")) | AD21: =IF(P21="","", IF(P21='G-1 All Habitats'!$X$3, AC21*J21*L21*O21,"None")) | AF21: =IF(G21="","",IF(S21>0,TRUE,FALSE)) | AG21: =IF(H21="","",IF(T21>0,TRUE,FALSE)) | AH21: =IF(I21="","",IF(#REF!>0,TRUE,FALSE)) | AI21: 11 | AK21: {=IFERROR(INDEX($AI$11:$AI$259, MATCH(0, IF(TRUE=$AF$11:$AF$259, COUNTIF($AK$10:$AK20, $AI$11:$AI$259), ""), 0)),"")} | AL21: {=IFERROR(INDEX($AI$11:$AI$259, MATCH(0, IF(TRUE=$AG$11:$AG$259, COUNTIF($AL$10:$AL20, $AI$11:$AI$259), ""), 0)),"")} | AM21: {=IFERROR(INDEX($AI$11:$AI$259, MATCH(0, IF(TRUE=$AH$11:$AH$259, COUNTIF($AM$10:$AM20, $AI$11:$AI$259), ""), 0)),"")} | AQ21: =IF(X21="Unacceptable Loss",1,0) -> 0
A22: =IFERROR(INDEX('G-1 All Habitats'!$AG$3:$AG$17,MATCH(E22,'G-1 All Habitats'!$AF$3:$AF$17,0)),"") | B22: =IFERROR(INDEX('G-8 Condition Look up'!$I$4:$I$135,MATCH(G22,'G-8 Condition Look up'!$A$4:$A$135,0)),"") | D22: 12 | G22: =IFERROR(INDEX('G-1 All Habitats'!$B$3:$B$134,MATCH(F22,'G-1 All Habitats'!$A$3:$A$134,0)),"") | I22: =IF(G22="","",VLOOKUP(G22,'G-1 All Habitats'!$B$2:$M$134,10,FALSE)) | J22: =IFERROR(VLOOKUP(I22,'G-1 All Habitats'!$V$3:$W$7,2,FALSE),"") | L22: =IFERROR(INDEX('G-8 Condition Look up'!$A$3:$H$135,MATCH(G22,'G-8 Condition Look up'!$A$3:$A$135,0),MATCH(K22,'G-8 Condition Look up'!$A$3:$H$3,0)),"") | N22: =IF(M22="","",IF(VLOOKUP(M22,'G-3 Multipliers'!$L$3:$N$6,2,FALSE)=0,"Spatial Data Missing",VLOOKUP(M22,'G-3 Multipliers'!$L$3:$N$6,2,FALSE))) | O22: =IF(M22="","",IF(VLOOKUP(M22,'G-3 Multipliers'!$L$3:$N$6,3,FALSE)=0,"Spatial Data Missing ▲",VLOOKUP(M22,'G-3 Multipliers'!$L$3:$N$6,3,FALSE))) | P22: =IFERROR(VLOOKUP(G22,'G-1 All Habitats'!$B$2:$M$134,12,FALSE),"") | Q22: =IFERROR(IF(P22="","",IF(AND(P22='G-1 All Habitats'!$X$3,T22>0),U22+V22,IF(AND(P22='G-1 All Habitats'!$X$3,S22>0),U22+V22,IF(AND(P22='G-1 All Habitats'!$X$3,AC22>0),"Any Loss Unacceptable ⚠",IF(AND(P22='G-1 All Habitats'!$X$3,W22>0),"Any Loss Unacceptable ⚠",H22*J22*L22*O22))))),"Check Data ▲") | U22: =IFERROR(S22*J22*L22*O22,"") | V22: =IFERROR(T22*J22*L22*O22,"") | W22: =IF(E22="","",IF(H22<S22+T22,"Error in Areas ▲",IF(P22<>'G-1 All Habitats'!$X$3,H22-S22-T22,IF(AND(P22='G-1 All Habitats'!$X$3,Y22="Yes"),"Unacceptable Loss ⚠",IF(AND(P22='G-1 All Habitats'!$X$3,Y22="No"),AC22,IF(AND(P22='G-1 All Habitats'!$X$3,Y22=""),AC22,IF(AND(P22='G-1 All Habitats'!$X$3,AC22="None",AC22),IF(AND(P22='G-1 All Habitats'!$X$3,AC22>0),H22-S22-T22)))))))) | X22: =IFERROR(IF(H22="","",IF(H22-S22-T22=0<0,"Error in Areas ▲",IF(S22+T22>H22,"Error in Areas ▲",IF(AND(P22='G-1 All Habitats'!$X$3,Y22="Yes"),"Alternative Compensation ✓",IF(W22=0,0,IF(P22='G-1 All Habitats'!$X$3,"Any Loss Unacceptable ▲",Q22-U22-V22)))))),"Check Data ▲") | AC22: =IF(P22="","",IF(P22='G-1 All Habitats'!$X$3,H22-S22-T22,"None")) | AD22: =IF(P22="","", IF(P22='G-1 All Habitats'!$X$3, AC22*J22*L22*O22,"None")) | AF22: =IF(G22="","",IF(S22>0,TRUE,FALSE)) | AG22: =IF(H22="","",IF(T22>0,TRUE,FALSE)) | AH22: =IF(I22="","",IF(#REF!>0,TRUE,FALSE)) | AI22: 12 | AK22: {=IFERROR(INDEX($AI$11:$AI$259, MATCH(0, IF(TRUE=$AF$11:$AF$259, COUNTIF($AK$10:$AK21, $AI$11:$AI$259), ""), 0)),"")} | AL22: {=IFERROR(INDEX($AI$11:$AI$259, MATCH(0, IF(TRUE=$AG$11:$AG$259, COUNTIF($AL$10:$AL21, $AI$11:$AI$259), ""), 0)),"")} | AM22: {=IFERROR(INDEX($AI$11:$AI$259, MATCH(0, IF(TRUE=$AH$11:$AH$259, COUNTIF($AM$10:$AM21, $AI$11:$AI$259), ""), 0)),"")} | AQ22: =IF(X22="Unacceptable Loss",1,0) -> 0
A23: =IFERROR(INDEX('G-1 All Habitats'!$AG$3:$AG$17,MATCH(E23,'G-1 All Habitats'!$AF$3:$AF$17,0)),"") | B23: =IFERROR(INDEX('G-8 Condition Look up'!$I$4:$I$135,MATCH(G23,'G-8 Condition Look up'!$A$4:$A$135,0)),"") | D23: 13 | G23: =IFERROR(INDEX('G-1 All Habitats'!$B$3:$B$134,MATCH(F23,'G-1 All Habitats'!$A$3:$A$134,0)),"") | I23: =IF(G23="","",VLOOKUP(G23,'G-1 All Habitats'!$B$2:$M$134,10,FALSE)) | J23: =IFERROR(VLOOKUP(I23,'G-1 All Habitats'!$V$3:$W$7,2,FALSE),"") | L23: =IFERROR(INDEX('G-8 Condition Look up'!$A$3:$H$135,MATCH(G23,'G-8 Condition Look up'!$A$3:$A$135,0),MATCH(K23,'G-8 Condition Look up'!$A$3:$H$3,0)),"") | N23: =IF(M23="","",IF(VLOOKUP(M23,'G-3 Multipliers'!$L$3:$N$6,2,FALSE)=0,"Spatial Data Missing",VLOOKUP(M23,'G-3 Multipliers'!$L$3:$N$6,2,FALSE))) | O23: =IF(M23="","",IF(VLOOKUP(M23,'G-3 Multipliers'!$L$3:$N$6,3,FALSE)=0,"Spatial Data Missing ▲",VLOOKUP(M23,'G-3 Multipliers'!$L$3:$N$6,3,FALSE))) | P23: =IFERROR(VLOOKUP(G23,'G-1 All Habitats'!$B$2:$M$134,12,FALSE),"") | Q23: =IFERROR(IF(P23="","",IF(AND(P23='G-1 All Habitats'!$X$3,T23>0),U23+V23,IF(AND(P23='G-1 All Habitats'!$X$3,S23>0),U23+V23,IF(AND(P23='G-1 All Habitats'!$X$3,AC23>0),"Any Loss Unacceptable ⚠",IF(AND(P23='G-1 All Habitats'!$X$3,W23>0),"Any Loss Unacceptable ⚠",H23*J23*L23*O23))))),"Check Data ▲") | U23: =IFERROR(S23*J23*L23*O23,"") | V23: =IFERROR(T23*J23*L23*O23,"") | W23: =IF(E23="","",IF(H23<S23+T23,"Error in Areas ▲",IF(P23<>'G-1 All Habitats'!$X$3,H23-S23-T23,IF(AND(P23='G-1 All Habitats'!$X$3,Y23="Yes"),"Unacceptable Loss ⚠",IF(AND(P23='G-1 All Habitats'!$X$3,Y23="No"),AC23,IF(AND(P23='G-1 All Habitats'!$X$3,Y23=""),AC23,IF(AND(P23='G-1 All Habitats'!$X$3,AC23="None",AC23),IF(AND(P23='G-1 All Habitats'!$X$3,AC23>0),H23-S23-T23)))))))) | X23: =IFERROR(IF(H23="","",IF(H23-S23-T23=0<0,"Error in Areas ▲",IF(S23+T23>H23,"Error in Areas ▲",IF(AND(P23='G-1 All Habitats'!$X$3,Y23="Yes"),"Alternative Compensation ✓",IF(W23=0,0,IF(P23='G-1 All Habitats'!$X$3,"Any Loss Unacceptable ▲",Q23-U23-V23)))))),"Check Data ▲") | AC23: =IF(P23="","",IF(P23='G-1 All Habitats'!$X$3,H23-S23-T23,"None")) | AD23: =IF(P23="","", IF(P23='G-1 All Habitats'!$X$3, AC23*J23*L23*O23,"None")) | AF23: =IF(G23="","",IF(S23>0,TRUE,FALSE)) | AG23: =IF(H23="","",IF(T23>0,TRUE,FALSE)) | AH23: =IF(I23="","",IF(#REF!>0,TRUE,FALSE)) | AI23: 13 | AK23: {=IFERROR(INDEX($AI$11:$AI$259, MATCH(0, IF(TRUE=$AF$11:$AF$259, COUNTIF($AK$10:$AK22, $AI$11:$AI$259), ""), 0)),"")} | AL23: {=IFERROR(INDEX($AI$11:$AI$259, MATCH(0, IF(TRUE=$AG$11:$AG$259, COUNTIF($AL$10:$AL22, $AI$11:$AI$259), ""), 0)),"")} | AM23: {=IFERROR(INDEX($AI$11:$AI$259, MATCH(0, IF(TRUE=$AH$11:$AH$259, COUNTIF($AM$10:$AM22, $AI$11:$AI$259), ""), 0)),"")} | AQ23: =IF(X23="Unacceptable Loss",1,0) -> 0
A24: =IFERROR(INDEX('G-1 All Habitats'!$AG$3:$AG$17,MATCH(E24,'G-1 All Habitats'!$AF$3:$AF$17,0)),"") | B24: =IFERROR(INDEX('G-8 Condition Look up'!$I$4:$I$135,MATCH(G24,'G-8 Condition Look up'!$A$4:$A$135,0)),"") | D24: 14 | G24: =IFERROR(INDEX('G-1 All Habitats'!$B$3:$B$134,MATCH(F24,'G-1 All Habitats'!$A$3:$A$134,0)),"") | I24: =IF(G24="","",VLOOKUP(G24,'G-1 All Habitats'!$B$2:$M$134,10,FALSE)) | J24: =IFERROR(VLOOKUP(I24,'G-1 All Habitats'!$V$3:$W$7,2,FALSE),"") | L24: =IFERROR(INDEX('G-8 Condition Look up'!$A$3:$H$135,MATCH(G24,'G-8 Condition Look up'!$A$3:$A$135,0),MATCH(K24,'G-8 Condition Look up'!$A$3:$H$3,0)),"") | N24: =IF(M24="","",IF(VLOOKUP(M24,'G-3 Multipliers'!$L$3:$N$6,2,FALSE)=0,"Spatial Data Missing",VLOOKUP(M24,'G-3 Multipliers'!$L$3:$N$6,2,FALSE))) | O24: =IF(M24="","",IF(VLOOKUP(M24,'G-3 Multipliers'!$L$3:$N$6,3,FALSE)=0,"Spatial Data Missing ▲",VLOOKUP(M24,'G-3 Multipliers'!$L$3:$N$6,3,FALSE))) | P24: =IFERROR(VLOOKUP(G24,'G-1 All Habitats'!$B$2:$M$134,12,FALSE),"") | Q24: =IFERROR(IF(P24="","",IF(AND(P24='G-1 All Habitats'!$X$3,T24>0),U24+V24,IF(AND(P24='G-1 All Habitats'!$X$3,S24>0),U24+V24,IF(AND(P24='G-1 All Habitats'!$X$3,AC24>0),"Any Loss Unacceptable ⚠",IF(AND(P24='G-1 All Habitats'!$X$3,W24>0),"Any Loss Unacceptable ⚠",H24*J24*L24*O24))))),"Check Data ▲") | U24: =IFERROR(S24*J24*L24*O24,"") | V24: =IFERROR(T24*J24*L24*O24,"") | W24: =IF(E24="","",IF(H24<S24+T24,"Error in Areas ▲",IF(P24<>'G-1 All Habitats'!$X$3,H24-S24-T24,IF(AND(P24='G-1 All Habitats'!$X$3,Y24="Yes"),"Unacceptable Loss ⚠",IF(AND(P24='G-1 All Habitats'!$X$3,Y24="No"),AC24,IF(AND(P24='G-1 All Habitats'!$X$3,Y24=""),AC24,IF(AND(P24='G-1 All Habitats'!$X$3,AC24="None",AC24),IF(AND(P24='G-1 All Habitats'!$X$3,AC24>0),H24-S24-T24)))))))) | X24: =IFERROR(IF(H24="","",IF(H24-S24-T24=0<0,"Error in Areas ▲",IF(S24+T24>H24,"Error in Areas ▲",IF(AND(P24='G-1 All Habitats'!$X$3,Y24="Yes"),"Alternative Compensation ✓",IF(W24=0,0,IF(P24='G-1 All Habitats'!$X$3,"Any Loss Unacceptable ▲",Q24-U24-V24)))))),"Check Data ▲") | AC24: =IF(P24="","",IF(P24='G-1 All Habitats'!$X$3,H24-S24-T24,"None")) | AD24: =IF(P24="","", IF(P24='G-1 All Habitats'!$X$3, AC24*J24*L24*O24,"None")) | AF24: =IF(G24="","",IF(S24>0,TRUE,FALSE)) | AG24: =IF(H24="","",IF(T24>0,TRUE,FALSE)) | AH24: =IF(I24="","",IF(#REF!>0,TRUE,FALSE)) | AI24: 14 | AK24: {=IFERROR(INDEX($AI$11:$AI$259, MATCH(0, IF(TRUE=$AF$11:$AF$259, COUNTIF($AK$10:$AK23, $AI$11:$AI$259), ""), 0)),"")} | AL24: {=IFERROR(INDEX($AI$11:$AI$259, MATCH(0, IF(TRUE=$AG$11:$AG$259, COUNTIF($AL$10:$AL23, $AI$11:$AI$259), ""), 0)),"")} | AM24: {=IFERROR(INDEX($AI$11:$AI$259, MATCH(0, IF(TRUE=$AH$11:$AH$259, COUNTIF($AM$10:$AM23, $AI$11:$AI$259), ""), 0)),"")} | AQ24: =IF(X24="Unacceptable Loss",1,0) -> 0
A25: =IFERROR(INDEX('G-1 All Habitats'!$AG$3:$AG$17,MATCH(E25,'G-1 All Habitats'!$AF$3:$AF$17,0)),"") | B25: =IFERROR(INDEX('G-8 Condition Look up'!$I$4:$I$135,MATCH(G25,'G-8 Condition Look up'!$A$4:$A$135,0)),"") | D25: 15 | G25: =IFERROR(INDEX('G-1 All Habitats'!$B$3:$B$134,MATCH(F25,'G-1 All Habitats'!$A$3:$A$134,0)),"") | I25: =IF(G25="","",VLOOKUP(G25,'G-1 All Habitats'!$B$2:$M$134,10,FALSE)) | J25: =IFERROR(VLOOKUP(I25,'G-1 All Habitats'!$V$3:$W$7,2,FALSE),"") | L25: =IFERROR(INDEX('G-8 Condition Look up'!$A$3:$H$135,MATCH(G25,'G-8 Condition Look up'!$A$3:$A$135,0),MATCH(K25,'G-8 Condition Look up'!$A$3:$H$3,0)),"") | N25: =IF(M25="","",IF(VLOOKUP(M25,'G-3 Multipliers'!$L$3:$N$6,2,FALSE)=0,"Spatial Data Missing",VLOOKUP(M25,'G-3 Multipliers'!$L$3:$N$6,2,FALSE))) | O25: =IF(M25="","",IF(VLOOKUP(M25,'G-3 Multipliers'!$L$3:$N$6,3,FALSE)=0,"Spatial Data Missing ▲",VLOOKUP(M25,'G-3 Multipliers'!$L$3:$N$6,3,FALSE))) | P25: =IFERROR(VLOOKUP(G25,'G-1 All Habitats'!$B$2:$M$134,12,FALSE),"") | Q25: =IFERROR(IF(P25="","",IF(AND(P25='G-1 All Habitats'!$X$3,T25>0),U25+V25,IF(AND(P25='G-1 All Habitats'!$X$3,S25>0),U25+V25,IF(AND(P25='G-1 All Habitats'!$X$3,AC25>0),"Any Loss Unacceptable ⚠",IF(AND(P25='G-1 All Habitats'!$X$3,W25>0),"Any Loss Unacceptable ⚠",H25*J25*L25*O25))))),"Check Data ▲") | U25: =IFERROR(S25*J25*L25*O25,"") | V25: =IFERROR(T25*J25*L25*O25,"") | W25: =IF(E25="","",IF(H25<S25+T25,"Error in Areas ▲",IF(P25<>'G-1 All Habitats'!$X$3,H25-S25-T25,IF(AND(P25='G-1 All Habitats'!$X$3,Y25="Yes"),"Unacceptable Loss ⚠",IF(AND(P25='G-1 All Habitats'!$X$3,Y25="No"),AC25,IF(AND(P25='G-1 All Habitats'!$X$3,Y25=""),AC25,IF(AND(P25='G-1 All Habitats'!$X$3,AC25="None",AC25),IF(AND(P25='G-1 All Habitats'!$X$3,AC25>0),H25-S25-T25)))))))) | X25: =IFERROR(IF(H25="","",IF(H25-S25-T25=0<0,"Error in Areas ▲",IF(S25+T25>H25,"Error in Areas ▲",IF(AND(P25='G-1 All Habitats'!$X$3,Y25="Yes"),"Alternative Compensation ✓",IF(W25=0,0,IF(P25='G-1 All Habitats'!$X$3,"Any Loss Unacceptable ▲",Q25-U25-V25)))))),"Check Data ▲") | AC25: =IF(P25="","",IF(P25='G-1 All Habitats'!$X$3,H25-S25-T25,"None")) | AD25: =IF(P25="","", IF(P25='G-1 All Habitats'!$X$3, AC25*J25*L25*O25,"None")) | AF25: =IF(G25="","",IF(S25>0,TRUE,FALSE)) | AG25: =IF(H25="","",IF(T25>0,TRUE,FALSE)) | AH25: =IF(I25="","",IF(#REF!>0,TRUE,FALSE)) | AI25: 15 | AK25: {=IFERROR(INDEX($AI$11:$AI$259, MATCH(0, IF(TRUE=$AF$11:$AF$259, COUNTIF($AK$10:$AK24, $AI$11:$AI$259), ""), 0)),"")} | AL25: {=IFERROR(INDEX($AI$11:$AI$259, MATCH(0, IF(TRUE=$AG$11:$AG$259, COUNTIF($AL$10:$AL24, $AI$11:$AI$259), ""), 0)),"")} | AM25: {=IFERROR(INDEX($AI$11:$AI$259, MATCH(0, IF(TRUE=$AH$11:$AH$259, COUNTIF($AM$10:$AM24, $AI$11:$AI$259), ""), 0)),"")} | AQ25: =IF(X25="Unacceptable Loss",1,0) -> 0
A26: =IFERROR(INDEX('G-1 All Habitats'!$AG$3:$AG$17,MATCH(E26,'G-1 All Habitats'!$AF$3:$AF$17,0)),"") | B26: =IFERROR(INDEX('G-8 Condition Look up'!$I$4:$I$135,MATCH(G26,'G-8 Condition Look up'!$A$4:$A$135,0)),"") | D26: 16 | G26: =IFERROR(INDEX('G-1 All Habitats'!$B$3:$B$134,MATCH(F26,'G-1 All Habitats'!$A$3:$A$134,0)),"") | I26: =IF(G26="","",VLOOKUP(G26,'G-1 All Habitats'!$B$2:$M$134,10,FALSE)) | J26: =IFERROR(VLOOKUP(I26,'G-1 All Habitats'!$V$3:$W$7,2,FALSE),"") | L26: =IFERROR(INDEX('G-8 Condition Look up'!$A$3:$H$135,MATCH(G26,'G-8 Condition Look up'!$A$3:$A$135,0),MATCH(K26,'G-8 Condition Look up'!$A$3:$H$3,0)),"") | N26: =IF(M26="","",IF(VLOOKUP(M26,'G-3 Multipliers'!$L$3:$N$6,2,FALSE)=0,"Spatial Data Missing",VLOOKUP(M26,'G-3 Multipliers'!$L$3:$N$6,2,FALSE))) | O26: =IF(M26="","",IF(VLOOKUP(M26,'G-3 Multipliers'!$L$3:$N$6,3,FALSE)=0,"Spatial Data Missing ▲",VLOOKUP(M26,'G-3 Multipliers'!$L$3:$N$6,3,FALSE))) | P26: =IFERROR(VLOOKUP(G26,'G-1 All Habitats'!$B$2:$M$134,12,FALSE),"") | Q26: =IFERROR(IF(P26="","",IF(AND(P26='G-1 All Habitats'!$X$3,T26>0),U26+V26,IF(AND(P26='G-1 All Habitats'!$X$3,S26>0),U26+V26,IF(AND(P26='G-1 All Habitats'!$X$3,AC26>0),"Any Loss Unacceptable ⚠",IF(AND(P26='G-1 All Habitats'!$X$3,W26>0),"Any Loss Unacceptable ⚠",H26*J26*L26*O26))))),"Check Data ▲") | U26: =IFERROR(S26*J26*L26*O26,"") | V26: =IFERROR(T26*J26*L26*O26,"") | W26: =IF(E26="","",IF(H26<S26+T26,"Error in Areas ▲",IF(P26<>'G-1 All Habitats'!$X$3,H26-S26-T26,IF(AND(P26='G-1 All Habitats'!$X$3,Y26="Yes"),"Unacceptable Loss ⚠",IF(AND(P26='G-1 All Habitats'!$X$3,Y26="No"),AC26,IF(AND(P26='G-1 All Habitats'!$X$3,Y26=""),AC26,IF(AND(P26='G-1 All Habitats'!$X$3,AC26="None",AC26),IF(AND(P26='G-1 All Habitats'!$X$3,AC26>0),H26-S26-T26)))))))) | X26: =IFERROR(IF(H26="","",IF(H26-S26-T26=0<0,"Error in Areas ▲",IF(S26+T26>H26,"Error in Areas ▲",IF(AND(P26='G-1 All Habitats'!$X$3,Y26="Yes"),"Alternative Compensation ✓",IF(W26=0,0,IF(P26='G-1 All Habitats'!$X$3,"Any Loss Unacceptable ▲",Q26-U26-V26)))))),"Check Data ▲") | AC26: =IF(P26="","",IF(P26='G-1 All Habitats'!$X$3,H26-S26-T26,"None")) | AD26: =IF(P26="","", IF(P26='G-1 All Habitats'!$X$3, AC26*J26*L26*O26,"None")) | AF26: =IF(G26="","",IF(S26>0,TRUE,FALSE)) | AG26: =IF(H26="","",IF(T26>0,TRUE,FALSE)) | AH26: =IF(I26="","",IF(#REF!>0,TRUE,FALSE)) | AI26: 16 | AK26: {=IFERROR(INDEX($AI$11:$AI$259, MATCH(0, IF(TRUE=$AF$11:$AF$259, COUNTIF($AK$10:$AK25, $AI$11:$AI$259), ""), 0)),"")} | AL26: {=IFERROR(INDEX($AI$11:$AI$259, MATCH(0, IF(TRUE=$AG$11:$AG$259, COUNTIF($AL$10:$AL25, $AI$11:$AI$259), ""), 0)),"")} | AM26: {=IFERROR(INDEX($AI$11:$AI$259, MATCH(0, IF(TRUE=$AH$11:$AH$259, COUNTIF($AM$10:$AM25, $AI$11:$AI$259), ""), 0)),"")} | AQ26: =IF(X26="Unacceptable Loss",1,0) -> 0
A27: =IFERROR(INDEX('G-1 All Habitats'!$AG$3:$AG$17,MATCH(E27,'G-1 All Habitats'!$AF$3:$AF$17,0)),"") | B27: =IFERROR(INDEX('G-8 Condition Look up'!$I$4:$I$135,MATCH(G27,'G-8 Condition Look up'!$A$4:$A$135,0)),"") | D27: 17 | G27: =IFERROR(INDEX('G-1 All Habitats'!$B$3:$B$134,MATCH(F27,'G-1 All Habitats'!$A$3:$A$134,0)),"") | I27: =IF(G27="","",VLOOKUP(G27,'G-1 All Habitats'!$B$2:$M$134,10,FALSE)) | J27: =IFERROR(VLOOKUP(I27,'G-1 All Habitats'!$V$3:$W$7,2,FALSE),"") | L27: =IFERROR(INDEX('G-8 Condition Look up'!$A$3:$H$135,MATCH(G27,'G-8 Condition Look up'!$A$3:$A$135,0),MATCH(K27,'G-8 Condition Look up'!$A$3:$H$3,0)),"") | N27: =IF(M27="","",IF(VLOOKUP(M27,'G-3 Multipliers'!$L$3:$N$6,2,FALSE)=0,"Spatial Data Missing",VLOOKUP(M27,'G-3 Multipliers'!$L$3:$N$6,2,FALSE))) | O27: =IF(M27="","",IF(VLOOKUP(M27,'G-3 Multipliers'!$L$3:$N$6,3,FALSE)=0,"Spatial Data Missing ▲",VLOOKUP(M27,'G-3 Multipliers'!$L$3:$N$6,3,FALSE))) | P27: =IFERROR(VLOOKUP(G27,'G-1 All Habitats'!$B$2:$M$134,12,FALSE),"") | Q27: =IFERROR(IF(P27="","",IF(AND(P27='G-1 All Habitats'!$X$3,T27>0),U27+V27,IF(AND(P27='G-1 All Habitats'!$X$3,S27>0),U27+V27,IF(AND(P27='G-1 All Habitats'!$X$3,AC27>0),"Any Loss Unacceptable ⚠",IF(AND(P27='G-1 All Habitats'!$X$3,W27>0),"Any Loss Unacceptable ⚠",H27*J27*L27*O27))))),"Check Data ▲") | U27: =IFERROR(S27*J27*L27*O27,"") | V27: =IFERROR(T27*J27*L27*O27,"") | W27: =IF(E27="","",IF(H27<S27+T27,"Error in Areas ▲",IF(P27<>'G-1 All Habitats'!$X$3,H27-S27-T27,IF(AND(P27='G-1 All Habitats'!$X$3,Y27="Yes"),"Unacceptable Loss ⚠",IF(AND(P27='G-1 All Habitats'!$X$3,Y27="No"),AC27,IF(AND(P27='G-1 All Habitats'!$X$3,Y27=""),AC27,IF(AND(P27='G-1 All Habitats'!$X$3,AC27="None",AC27),IF(AND(P27='G-1 All Habitats'!$X$3,AC27>0),H27-S27-T27)))))))) | X27: =IFERROR(IF(H27="","",IF(H27-S27-T27=0<0,"Error in Areas ▲",IF(S27+T27>H27,"Error in Areas ▲",IF(AND(P27='G-1 All Habitats'!$X$3,Y27="Yes"),"Alternative Compensation ✓",IF(W27=0,0,IF(P27='G-1 All Habitats'!$X$3,"Any Loss Unacceptable ▲",Q27-U27-V27)))))),"Check Data ▲") | AC27: =IF(P27="","",IF(P27='G-1 All Habitats'!$X$3,H27-S27-T27,"None")) | AD27: =IF(P27="","", IF(P27='G-1 All Habitats'!$X$3, AC27*J27*L27*O27,"None")) | AF27: =IF(G27="","",IF(S27>0,TRUE,FALSE)) | AG27: =IF(H27="","",IF(T27>0,TRUE,FALSE)) | AH27: =IF(I27="","",IF(#REF!>0,TRUE,FALSE)) | AI27: 17 | AK27: {=IFERROR(INDEX($AI$11:$AI$259, MATCH(0, IF(TRUE=$AF$11:$AF$259, COUNTIF($AK$10:$AK26, $AI$11:$AI$259), ""), 0)),"")} | AL27: {=IFERROR(INDEX($AI$11:$AI$259, MATCH(0, IF(TRUE=$AG$11:$AG$259, COUNTIF($AL$10:$AL26, $AI$11:$AI$259), ""), 0)),"")} | AM27: {=IFERROR(INDEX($AI$11:$AI$259, MATCH(0, IF(TRUE=$AH$11:$AH$259, COUNTIF($AM$10:$AM26, $AI$11:$AI$259), ""), 0)),"")} | AQ27: =IF(X27="Unacceptable Loss",1,0) -> 0
... A100: =IFERROR(INDEX('G-1 All Habitats'!$AG$3:$AG$17,MATCH(E100,'G-1 All Habitats'!$AF$3:$AF$17,0)),"") | B100: =IFERROR(INDEX('G-8 Condition Look up'!$I$4:$I$135,MATCH(G100,'G-8 Condition Look up'!$A$4:$A$135,0)),"") | D100: 90 | G100: =IFERROR(INDEX('G-1 All Habitats'!$B$3:$B$134,MATCH(F100,'G-1 All Habitats'!$A$3:$A$134,0)),"") | I100: =IF(G100="","",VLOOKUP(G100,'G-1 All Habitats'!$B$2:$M$134,10,FALSE)) | J100: =IFERROR(VLOOKUP(I100,'G-1 All Habitats'!$V$3:$W$7,2,FALSE),"") | L100: =IFERROR(INDEX('G-8 Condition Look up'!$A$3:$H$135,MATCH(G100,'G-8 Condition Look up'!$A$3:$A$135,0),MATCH(K100,'G-8 Condition Look up'!$A$3:$H$3,0)),"") | N100: =IF(M100="","",IF(VLOOKUP(M100,'G-3 Multipliers'!$L$3:$N$6,2,FALSE)=0,"Spatial Data Missing",VLOOKUP(M100,'G-3 Multipliers'!$L$3:$N$6,2,FALSE))) | O100: =IF(M100="","",IF(VLOOKUP(M100,'G-3 Multipliers'!$L$3:$N$6,3,FALSE)=0,"Spatial Data Missing ▲",VLOOKUP(M100,'G-3 Multipliers'!$L$3:$N$6,3,FALSE))) | P100: =IFERROR(VLOOKUP(G100,'G-1 All Habitats'!$B$2:$M$134,12,FALSE),"") | Q100: =IFERROR(IF(P100="","",IF(AND(P100='G-1 All Habitats'!$X$3,T100>0),U100+V100,IF(AND(P100='G-1 All Habitats'!$X$3,S100>0),U100+V100,IF(AND(P100='G-1 All Habitats'!$X$3,AC100>0),"Any Loss Unacceptable ⚠",IF(AND(P100='G-1 All Habitats'!$X$3,W100>0),"Any Loss Unacceptable ⚠",H100*J100*L100*O100))))),"Check Data ▲") | U100: =IFERROR(S100*J100*L100*O100,"") | V100: =IFERROR(T100*J100*L100*O100,"") | W100: =IF(E100="","",IF(H100<S100+T100,"Error in Areas ▲",IF(P100<>'G-1 All Habitats'!$X$3,H100-S100-T100,IF(AND(P100='G-1 All Habitats'!$X$3,Y100="Yes"),"Unacceptable Loss ⚠",IF(AND(P100='G-1 All Habitats'!$X$3,Y100="No"),AC100,IF(AND(P100='G-1 All Habitats'!$X$3,Y100=""),AC100,IF(AND(P100='G-1 All Habitats'!$X$3,AC100="None",AC100),IF(AND(P100='G-1 All Habitats'!$X$3,AC100>0),H100-S100-T100)))))))) | X100: =IFERROR(IF(H100="","",IF(H100-S100-T100=0<0,"Error in Areas ▲",IF(S100+T100>H100,"Error in Areas ▲",IF(AND(P100='G-1 All Habitats'!$X$3,Y100="Yes"),"Alternative Compensation ✓",IF(W100=0,0,IF(P100='G-1 All Habitats'!$X$3,"Any Loss Unacceptable ▲",Q100-U100-V100)))))),"Check Data ▲") | AC100: =IF(P100="","",IF(P100='G-1 All Habitats'!$X$3,H100-S100-T100,"None")) | AD100: =IF(P100="","", IF(P100='G-1 All Habitats'!$X$3, AC100*J100*L100*O100,"None")) | AF100: =IF(G100="","",IF(S100>0,TRUE,FALSE)) | AG100: =IF(H100="","",IF(T100>0,TRUE,FALSE)) | AH100: =IF(I100="","",IF(#REF!>0,TRUE,FALSE)) | AI100: 90 | AK100: {=IFERROR(INDEX($AI$11:$AI$259, MATCH(0, IF(TRUE=$AF$11:$AF$259, COUNTIF($AK$10:$AK99, $AI$11:$AI$259), ""), 0)),"")} | AL100: {=IFERROR(INDEX($AI$11:$AI$259, MATCH(0, IF(TRUE=$AG$11:$AG$259, COUNTIF($AL$10:$AL99, $AI$11:$AI$259), ""), 0)),"")} | AM100: {=IFERROR(INDEX($AI$11:$AI$259, MATCH(0, IF(TRUE=$AH$11:$AH$259, COUNTIF($AM$10:$AM99, $AI$11:$AI$259), ""), 0)),"")} | AQ100: =IF(X100="Unacceptable Loss",1,0) -> 0
A101: =IFERROR(INDEX('G-1 All Habitats'!$AG$3:$AG$17,MATCH(E101,'G-1 All Habitats'!$AF$3:$AF$17,0)),"") | B101: =IFERROR(INDEX('G-8 Condition Look up'!$I$4:$I$135,MATCH(G101,'G-8 Condition Look up'!$A$4:$A$135,0)),"") | D101: 91 | G101: =IFERROR(INDEX('G-1 All Habitats'!$B$3:$B$134,MATCH(F101,'G-1 All Habitats'!$A$3:$A$134,0)),"") | I101: =IF(G101="","",VLOOKUP(G101,'G-1 All Habitats'!$B$2:$M$134,10,FALSE)) | J101: =IFERROR(VLOOKUP(I101,'G-1 All Habitats'!$V$3:$W$7,2,FALSE),"") | L101: =IFERROR(INDEX('G-8 Condition Look up'!$A$3:$H$135,MATCH(G101,'G-8 Condition Look up'!$A$3:$A$135,0),MATCH(K101,'G-8 Condition Look up'!$A$3:$H$3,0)),"") | N101: =IF(M101="","",IF(VLOOKUP(M101,'G-3 Multipliers'!$L$3:$N$6,2,FALSE)=0,"Spatial Data Missing",VLOOKUP(M101,'G-3 Multipliers'!$L$3:$N$6,2,FALSE))) | O101: =IF(M101="","",IF(VLOOKUP(M101,'G-3 Multipliers'!$L$3:$N$6,3,FALSE)=0,"Spatial Data Missing",VLOOKUP(M101,'G-3 Multipliers'!$L$3:$N$6,3,FALSE))) | P101: =IFERROR(VLOOKUP(G101,'G-1 All Habitats'!$B$2:$M$134,12,FALSE),"") | Q101: =IFERROR(IF(P101="","",IF(AND(P101='G-1 All Habitats'!$X$3,T101>0),U101+V101,IF(AND(P101='G-1 All Habitats'!$X$3,S101>0),U101+V101,IF(AND(P101='G-1 All Habitats'!$X$3,AC101>0),"Any Loss Unacceptable ⚠",IF(AND(P101='G-1 All Habitats'!$X$3,W101>0),"Any Loss Unacceptable ⚠",H101*J101*L101*O101))))),"Check Data ▲") | U101: =IFERROR(S101*J101*L101*O101,"") | V101: =IFERROR(T101*J101*L101*O101,"") | W101: =IF(E101="","",IF(H101<S101+T101,"Error in Areas ▲",IF(P101<>'G-1 All Habitats'!$X$3,H101-S101-T101,IF(AND(P101='G-1 All Habitats'!$X$3,Y101="Yes"),"Unacceptable Loss ⚠",IF(AND(P101='G-1 All Habitats'!$X$3,Y101="No"),AC101,IF(AND(P101='G-1 All Habitats'!$X$3,Y101=""),AC101,IF(AND(P101='G-1 All Habitats'!$X$3,AC101="None",AC101),IF(AND(P101='G-1 All Habitats'!$X$3,AC101>0),H101-S101-T101)))))))) | X101: =IFERROR(IF(H101="","",IF(H101-S101-T101=0<0,"Error in Areas ▲",IF(S101+T101>H101,"Error in Areas ▲",IF(AND(P101='G-1 All Habitats'!$X$3,Y101="Yes"),"Alternative Compensation ✓",IF(W101=0,0,IF(P101='G-1 All Habitats'!$X$3,"Any Loss Unacceptable ▲",Q101-U101-V101)))))),"Check Data ▲") | AC101: =IF(P101="","",IF(P101='G-1 All Habitats'!$X$3,H101-S101-T101,"None")) | AD101: =IF(P101="","", IF(P101='G-1 All Habitats'!$X$3, AC101*J101*L101*O101,"None")) | AF101: =IF(G101="","",IF(S101>0,TRUE,FALSE)) | AG101: =IF(H101="","",IF(T101>0,TRUE,FALSE)) | AH101: =IF(I101="","",IF(#REF!>0,TRUE,FALSE)) | AI101: 91 | AK101: {=IFERROR(INDEX($AI$11:$AI$259, MATCH(0, IF(TRUE=$AF$11:$AF$259, COUNTIF($AK$10:$AK100, $AI$11:$AI$259), ""), 0)),"")} | AL101: {=IFERROR(INDEX($AI$11:$AI$259, MATCH(0, IF(TRUE=$AG$11:$AG$259, COUNTIF($AL$10:$AL100, $AI$11:$AI$259), ""), 0)),"")} | AM101: {=IFERROR(INDEX($AI$11:$AI$259, MATCH(0, IF(TRUE=$AH$11:$AH$259, COUNTIF($AM$10:$AM100, $AI$11:$AI$259), ""), 0)),"")} | AQ101: =IF(X101="Unacceptable Loss",1,0) -> 0
A102: =IFERROR(INDEX('G-1 All Habitats'!$AG$3:$AG$17,MATCH(E102,'G-1 All Habitats'!$AF$3:$AF$17,0)),"") | B102: =IFERROR(INDEX('G-8 Condition Look up'!$I$4:$I$135,MATCH(G102,'G-8 Condition Look up'!$A$4:$A$135,0)),"") | D102: 92 | G102: =IFERROR(INDEX('G-1 All Habitats'!$B$3:$B$134,MATCH(F102,'G-1 All Habitats'!$A$3:$A$134,0)),"") | I102: =IF(G102="","",VLOOKUP(G102,'G-1 All Habitats'!$B$2:$M$134,10,FALSE)) | J102: =IFERROR(VLOOKUP(I102,'G-1 All Habitats'!$V$3:$W$7,2,FALSE),"") | L102: =IFERROR(INDEX('G-8 Condition Look up'!$A$3:$H$135,MATCH(G102,'G-8 Condition Look up'!$A$3:$A$135,0),MATCH(K102,'G-8 Condition Look up'!$A$3:$H$3,0)),"") | N102: =IF(M102="","",IF(VLOOKUP(M102,'G-3 Multipliers'!$L$3:$N$6,2,FALSE)=0,"Spatial Data Missing",VLOOKUP(M102,'G-3 Multipliers'!$L$3:$N$6,2,FALSE))) | O102: =IF(M102="","",IF(VLOOKUP(M102,'G-3 Multipliers'!$L$3:$N$6,3,FALSE)=0,"Spatial Data Missing",VLOOKUP(M102,'G-3 Multipliers'!$L$3:$N$6,3,FALSE))) | P102: =IFERROR(VLOOKUP(G102,'G-1 All Habitats'!$B$2:$M$134,12,FALSE),"") | Q102: =IFERROR(IF(P102="","",IF(AND(P102='G-1 All Habitats'!$X$3,T102>0),U102+V102,IF(AND(P102='G-1 All Habitats'!$X$3,S102>0),U102+V102,IF(AND(P102='G-1 All Habitats'!$X$3,AC102>0),"Any Loss Unacceptable ⚠",IF(AND(P102='G-1 All Habitats'!$X$3,W102>0),"Any Loss Unacceptable ⚠",H102*J102*L102*O102))))),"Check Data ▲") | U102: =IFERROR(S102*J102*L102*O102,"") | V102: =IFERROR(T102*J102*L102*O102,"") | W102: =IF(E102="","",IF(H102<S102+T102,"Error in Areas ▲",IF(P102<>'G-1 All Habitats'!$X$3,H102-S102-T102,IF(AND(P102='G-1 All Habitats'!$X$3,Y102="Yes"),"Unacceptable Loss ⚠",IF(AND(P102='G-1 All Habitats'!$X$3,Y102="No"),AC102,IF(AND(P102='G-1 All Habitats'!$X$3,Y102=""),AC102,IF(AND(P102='G-1 All Habitats'!$X$3,AC102="None",AC102),IF(AND(P102='G-1 All Habitats'!$X$3,AC102>0),H102-S102-T102)))))))) | X102: =IFERROR(IF(H102="","",IF(H102-S102-T102=0<0,"Error in Areas ▲",IF(S102+T102>H102,"Error in Areas ▲",IF(AND(P102='G-1 All Habitats'!$X$3,Y102="Yes"),"Alternative Compensation ✓",IF(W102=0,0,IF(P102='G-1 All Habitats'!$X$3,"Any Loss Unacceptable ▲",Q102-U102-V102)))))),"Check Data ▲") | AC102: =IF(P102="","",IF(P102='G-1 All Habitats'!$X$3,H102-S102-T102,"None")) | AD102: =IF(P102="","", IF(P102='G-1 All Habitats'!$X$3, AC102*J102*L102*O102,"None")) | AF102: =IF(G102="","",IF(S102>0,TRUE,FALSE)) | AG102: =IF(H102="","",IF(T102>0,TRUE,FALSE)) | AH102: =IF(I102="","",IF(#REF!>0,TRUE,FALSE)) | AI102: 92 | AK102: {=IFERROR(INDEX($AI$11:$AI$259, MATCH(0, IF(TRUE=$AF$11:$AF$259, COUNTIF($AK$10:$AK101, $AI$11:$AI$259), ""), 0)),"")} | AL102: {=IFERROR(INDEX($AI$11:$AI$259, MATCH(0, IF(TRUE=$AG$11:$AG$259, COUNTIF($AL$10:$AL101, $AI$11:$AI$259), ""), 0)),"")} | AM102: {=IFERROR(INDEX($AI$11:$AI$259, MATCH(0, IF(TRUE=$AH$11:$AH$259, COUNTIF($AM$10:$AM101, $AI$11:$AI$259), ""), 0)),"")} | AQ102: =IF(X102="Unacceptable Loss",1,0) -> 0
A103: =IFERROR(INDEX('G-1 All Habitats'!$AG$3:$AG$17,MATCH(E103,'G-1 All Habitats'!$AF$3:$AF$17,0)),"") | B103: =IFERROR(INDEX('G-8 Condition Look up'!$I$4:$I$135,MATCH(G103,'G-8 Condition Look up'!$A$4:$A$135,0)),"") | D103: 93 | G103: =IFERROR(INDEX('G-1 All Habitats'!$B$3:$B$134,MATCH(F103,'G-1 All Habitats'!$A$3:$A$134,0)),"") | I103: =IF(G103="","",VLOOKUP(G103,'G-1 All Habitats'!$B$2:$M$134,10,FALSE)) | J103: =IFERROR(VLOOKUP(I103,'G-1 All Habitats'!$V$3:$W$7,2,FALSE),"") | L103: =IFERROR(INDEX('G-8 Condition Look up'!$A$3:$H$135,MATCH(G103,'G-8 Condition Look up'!$A$3:$A$135,0),MATCH(K103,'G-8 Condition Look up'!$A$3:$H$3,0)),"") | N103: =IF(M103="","",IF(VLOOKUP(M103,'G-3 Multipliers'!$L$3:$N$6,2,FALSE)=0,"Spatial Data Missing",VLOOKUP(M103,'G-3 Multipliers'!$L$3:$N$6,2,FALSE))) | O103: =IF(M103="","",IF(VLOOKUP(M103,'G-3 Multipliers'!$L$3:$N$6,3,FALSE)=0,"Spatial Data Missing",VLOOKUP(M103,'G-3 Multipliers'!$L$3:$N$6,3,FALSE))) | P103: =IFERROR(VLOOKUP(G103,'G-1 All Habitats'!$B$2:$M$134,12,FALSE),"") | Q103: =IFERROR(IF(P103="","",IF(AND(P103='G-1 All Habitats'!$X$3,T103>0),U103+V103,IF(AND(P103='G-1 All Habitats'!$X$3,S103>0),U103+V103,IF(AND(P103='G-1 All Habitats'!$X$3,AC103>0),"Any Loss Unacceptable ⚠",IF(AND(P103='G-1 All Habitats'!$X$3,W103>0),"Any Loss Unacceptable ⚠",H103*J103*L103*O103))))),"Check Data ▲") | U103: =IFERROR(S103*J103*L103*O103,"") | V103: =IFERROR(T103*J103*L103*O103,"") | W103: =IF(E103="","",IF(H103<S103+T103,"Error in Areas ▲",IF(P103<>'G-1 All Habitats'!$X$3,H103-S103-T103,IF(AND(P103='G-1 All Habitats'!$X$3,Y103="Yes"),"Unacceptable Loss ⚠",IF(AND(P103='G-1 All Habitats'!$X$3,Y103="No"),AC103,IF(AND(P103='G-1 All Habitats'!$X$3,Y103=""),AC103,IF(AND(P103='G-1 All Habitats'!$X$3,AC103="None",AC103),IF(AND(P103='G-1 All Habitats'!$X$3,AC103>0),H103-S103-T103)))))))) | X103: =IFERROR(IF(H103="","",IF(H103-S103-T103=0<0,"Error in Areas ▲",IF(S103+T103>H103,"Error in Areas ▲",IF(AND(P103='G-1 All Habitats'!$X$3,Y103="Yes"),"Alternative Compensation ✓",IF(W103=0,0,IF(P103='G-1 All Habitats'!$X$3,"Any Loss Unacceptable ▲",Q103-U103-V103)))))),"Check Data ▲") | AC103: =IF(P103="","",IF(P103='G-1 All Habitats'!$X$3,H103-S103-T103,"None")) | AD103: =IF(P103="","", IF(P103='G-1 All Habitats'!$X$3, AC103*J103*L103*O103,"None")) | AF103: =IF(G103="","",IF(S103>0,TRUE,FALSE)) | AG103: =IF(H103="","",IF(T103>0,TRUE,FALSE)) | AH103: =IF(I103="","",IF(#REF!>0,TRUE,FALSE)) | AI103: 93 | AK103: {=IFERROR(INDEX($AI$11:$AI$259, MATCH(0, IF(TRUE=$AF$11:$AF$259, COUNTIF($AK$10:$AK102, $AI$11:$AI$259), ""), 0)),"")} | AL103: {=IFERROR(INDEX($AI$11:$AI$259, MATCH(0, IF(TRUE=$AG$11:$AG$259, COUNTIF($AL$10:$AL102, $AI$11:$AI$259), ""), 0)),"")} | AM103: {=IFERROR(INDEX($AI$11:$AI$259, MATCH(0, IF(TRUE=$AH$11:$AH$259, COUNTIF($AM$10:$AM102, $AI$11:$AI$259), ""), 0)),"")} | AQ103: =IF(X103="Unacceptable Loss",1,0) -> 0
A104: =IFERROR(INDEX('G-1 All Habitats'!$AG$3:$AG$17,MATCH(E104,'G-1 All Habitats'!$AF$3:$AF$17,0)),"") | B104: =IFERROR(INDEX('G-8 Condition Look up'!$I$4:$I$135,MATCH(G104,'G-8 Condition Look up'!$A$4:$A$135,0)),"") | D104: 94 | G104: =IFERROR(INDEX('G-1 All Habitats'!$B$3:$B$134,MATCH(F104,'G-1 All Habitats'!$A$3:$A$134,0)),"") | I104: =IF(G104="","",VLOOKUP(G104,'G-1 All Habitats'!$B$2:$M$134,10,FALSE)) | J104: =IFERROR(VLOOKUP(I104,'G-1 All Habitats'!$V$3:$W$7,2,FALSE),"") | L104: =IFERROR(INDEX('G-8 Condition Look up'!$A$3:$H$135,MATCH(G104,'G-8 Condition Look up'!$A$3:$A$135,0),MATCH(K104,'G-8 Condition Look up'!$A$3:$H$3,0)),"") | N104: =IF(M104="","",IF(VLOOKUP(M104,'G-3 Multipliers'!$L$3:$N$6,2,FALSE)=0,"Spatial Data Missing",VLOOKUP(M104,'G-3 Multipliers'!$L$3:$N$6,2,FALSE))) | O104: =IF(M104="","",IF(VLOOKUP(M104,'G-3 Multipliers'!$L$3:$N$6,3,FALSE)=0,"Spatial Data Missing",VLOOKUP(M104,'G-3 Multipliers'!$L$3:$N$6,3,FALSE))) | P104: =IFERROR(VLOOKUP(G104,'G-1 All Habitats'!$B$2:$M$134,12,FALSE),"") | Q104: =IFERROR(IF(P104="","",IF(AND(P104='G-1 All Habitats'!$X$3,T104>0),U104+V104,IF(AND(P104='G-1 All Habitats'!$X$3,S104>0),U104+V104,IF(AND(P104='G-1 All Habitats'!$X$3,AC104>0),"Any Loss Unacceptable ⚠",IF(AND(P104='G-1 All Habitats'!$X$3,W104>0),"Any Loss Unacceptable ⚠",H104*J104*L104*O104))))),"Check Data ▲") | U104: =IFERROR(S104*J104*L104*O104,"") | V104: =IFERROR(T104*J104*L104*O104,"") | W104: =IF(E104="","",IF(H104<S104+T104,"Error in Areas ▲",IF(P104<>'G-1 All Habitats'!$X$3,H104-S104-T104,IF(AND(P104='G-1 All Habitats'!$X$3,Y104="Yes"),"Unacceptable Loss ⚠",IF(AND(P104='G-1 All Habitats'!$X$3,Y104="No"),AC104,IF(AND(P104='G-1 All Habitats'!$X$3,Y104=""),AC104,IF(AND(P104='G-1 All Habitats'!$X$3,AC104="None",AC104),IF(AND(P104='G-1 All Habitats'!$X$3,AC104>0),H104-S104-T104)))))))) | X104: =IFERROR(IF(H104="","",IF(H104-S104-T104=0<0,"Error in Areas ▲",IF(S104+T104>H104,"Error in Areas ▲",IF(AND(P104='G-1 All Habitats'!$X$3,Y104="Yes"),"Alternative Compensation ✓",IF(W104=0,0,IF(P104='G-1 All Habitats'!$X$3,"Any Loss Unacceptable ▲",Q104-U104-V104)))))),"Check Data ▲") | AC104: =IF(P104="","",IF(P104='G-1 All Habitats'!$X$3,H104-S104-T104,"None")) | AD104: =IF(P104="","", IF(P104='G-1 All Habitats'!$X$3, AC104*J104*L104*O104,"None")) | AF104: =IF(G104="","",IF(S104>0,TRUE,FALSE)) | AG104: =IF(H104="","",IF(T104>0,TRUE,FALSE)) | AH104: =IF(I104="","",IF(#REF!>0,TRUE,FALSE)) | AI104: 94 | AK104: {=IFERROR(INDEX($AI$11:$AI$259, MATCH(0, IF(TRUE=$AF$11:$AF$259, COUNTIF($AK$10:$AK103, $AI$11:$AI$259), ""), 0)),"")} | AL104: {=IFERROR(INDEX($AI$11:$AI$259, MATCH(0, IF(TRUE=$AG$11:$AG$259, COUNTIF($AL$10:$AL103, $AI$11:$AI$259), ""), 0)),"")} | AM104: {=IFERROR(INDEX($AI$11:$AI$259, MATCH(0, IF(TRUE=$AH$11:$AH$259, COUNTIF($AM$10:$AM103, $AI$11:$AI$259), ""), 0)),"")} | AQ104: =IF(X104="Unacceptable Loss",1,0) -> 0
A105: =IFERROR(INDEX('G-1 All Habitats'!$AG$3:$AG$17,MATCH(E105,'G-1 All Habitats'!$AF$3:$AF$17,0)),"") | B105: =IFERROR(INDEX('G-8 Condition Look up'!$I$4:$I$135,MATCH(G105,'G-8 Condition Look up'!$A$4:$A$135,0)),"") | D105: 95 | G105: =IFERROR(INDEX('G-1 All Habitats'!$B$3:$B$134,MATCH(F105,'G-1 All Habitats'!$A$3:$A$134,0)),"") | I105: =IF(G105="","",VLOOKUP(G105,'G-1 All Habitats'!$B$2:$M$134,10,FALSE)) | J105: =IFERROR(VLOOKUP(I105,'G-1 All Habitats'!$V$3:$W$7,2,FALSE),"") | L105: =IFERROR(INDEX('G-8 Condition Look up'!$A$3:$H$135,MATCH(G105,'G-8 Condition Look up'!$A$3:$A$135,0),MATCH(K105,'G-8 Condition Look up'!$A$3:$H$3,0)),"") | N105: =IF(M105="","",IF(VLOOKUP(M105,'G-3 Multipliers'!$L$3:$N$6,2,FALSE)=0,"Spatial Data Missing",VLOOKUP(M105,'G-3 Multipliers'!$L$3:$N$6,2,FALSE))) | O105: =IF(M105="","",IF(VLOOKUP(M105,'G-3 Multipliers'!$L$3:$N$6,3,FALSE)=0,"Spatial Data Missing",VLOOKUP(M105,'G-3 Multipliers'!$L$3:$N$6,3,FALSE))) | P105: =IFERROR(VLOOKUP(G105,'G-1 All Habitats'!$B$2:$M$134,12,FALSE),"") | Q105: =IFERROR(IF(P105="","",IF(AND(P105='G-1 All Habitats'!$X$3,T105>0),U105+V105,IF(AND(P105='G-1 All Habitats'!$X$3,S105>0),U105+V105,IF(AND(P105='G-1 All Habitats'!$X$3,AC105>0),"Any Loss Unacceptable ⚠",IF(AND(P105='G-1 All Habitats'!$X$3,W105>0),"Any Loss Unacceptable ⚠",H105*J105*L105*O105))))),"Check Data ▲") | U105: =IFERROR(S105*J105*L105*O105,"") | V105: =IFERROR(T105*J105*L105*O105,"") | W105: =IF(E105="","",IF(H105<S105+T105,"Error in Areas ▲",IF(P105<>'G-1 All Habitats'!$X$3,H105-S105-T105,IF(AND(P105='G-1 All Habitats'!$X$3,Y105="Yes"),"Unacceptable Loss ⚠",IF(AND(P105='G-1 All Habitats'!$X$3,Y105="No"),AC105,IF(AND(P105='G-1 All Habitats'!$X$3,Y105=""),AC105,IF(AND(P105='G-1 All Habitats'!$X$3,AC105="None",AC105),IF(AND(P105='G-1 All Habitats'!$X$3,AC105>0),H105-S105-T105)))))))) | X105: =IFERROR(IF(H105="","",IF(H105-S105-T105=0<0,"Error in Areas ▲",IF(S105+T105>H105,"Error in Areas ▲",IF(AND(P105='G-1 All Habitats'!$X$3,Y105="Yes"),"Alternative Compensation ✓",IF(W105=0,0,IF(P105='G-1 All Habitats'!$X$3,"Any Loss Unacceptable ▲",Q105-U105-V105)))))),"Check Data ▲") | AC105: =IF(P105="","",IF(P105='G-1 All Habitats'!$X$3,H105-S105-T105,"None")) | AD105: =IF(P105="","", IF(P105='G-1 All Habitats'!$X$3, AC105*J105*L105*O105,"None")) | AF105: =IF(G105="","",IF(S105>0,TRUE,FALSE)) | AG105: =IF(H105="","",IF(T105>0,TRUE,FALSE)) | AH105: =IF(I105="","",IF(#REF!>0,TRUE,FALSE)) | AI105: 95 | AK105: {=IFERROR(INDEX($AI$11:$AI$259, MATCH(0, IF(TRUE=$AF$11:$AF$259, COUNTIF($AK$10:$AK104, $AI$11:$AI$259), ""), 0)),"")} | AL105: {=IFERROR(INDEX($AI$11:$AI$259, MATCH(0, IF(TRUE=$AG$11:$AG$259, COUNTIF($AL$10:$AL104, $AI$11:$AI$259), ""), 0)),"")} | AM105: {=IFERROR(INDEX($AI$11:$AI$259, MATCH(0, IF(TRUE=$AH$11:$AH$259, COUNTIF($AM$10:$AM104, $AI$11:$AI$259), ""), 0)),"")} | AQ105: =IF(X105="Unacceptable Loss",1,0) -> 0
A106: =IFERROR(INDEX('G-1 All Habitats'!$AG$3:$AG$17,MATCH(E106,'G-1 All Habitats'!$AF$3:$AF$17,0)),"") | B106: =IFERROR(INDEX('G-8 Condition Look up'!$I$4:$I$135,MATCH(G106,'G-8 Condition Look up'!$A$4:$A$135,0)),"") | D106: 96 | G106: =IFERROR(INDEX('G-1 All Habitats'!$B$3:$B$134,MATCH(F106,'G-1 All Habitats'!$A$3:$A$134,0)),"") | I106: =IF(G106="","",VLOOKUP(G106,'G-1 All Habitats'!$B$2:$M$134,10,FALSE)) | J106: =IFERROR(VLOOKUP(I106,'G-1 All Habitats'!$V$3:$W$7,2,FALSE),"") | L106: =IFERROR(INDEX('G-8 Condition Look up'!$A$3:$H$135,MATCH(G106,'G-8 Condition Look up'!$A$3:$A$135,0),MATCH(K106,'G-8 Condition Look up'!$A$3:$H$3,0)),"") | N106: =IF(M106="","",IF(VLOOKUP(M106,'G-3 Multipliers'!$L$3:$N$6,2,FALSE)=0,"Spatial Data Missing",VLOOKUP(M106,'G-3 Multipliers'!$L$3:$N$6,2,FALSE))) | O106: =IF(M106="","",IF(VLOOKUP(M106,'G-3 Multipliers'!$L$3:$N$6,3,FALSE)=0,"Spatial Data Missing",VLOOKUP(M106,'G-3 Multipliers'!$L$3:$N$6,3,FALSE))) | P106: =IFERROR(VLOOKUP(G106,'G-1 All Habitats'!$B$2:$M$134,12,FALSE),"") | Q106: =IFERROR(IF(P106="","",IF(AND(P106='G-1 All Habitats'!$X$3,T106>0),U106+V106,IF(AND(P106='G-1 All Habitats'!$X$3,S106>0),U106+V106,IF(AND(P106='G-1 All Habitats'!$X$3,AC106>0),"Any Loss Unacceptable ⚠",IF(AND(P106='G-1 All Habitats'!$X$3,W106>0),"Any Loss Unacceptable ⚠",H106*J106*L106*O106))))),"Check Data ▲") | U106: =IFERROR(S106*J106*L106*O106,"") | V106: =IFERROR(T106*J106*L106*O106,"") | W106: =IF(E106="","",IF(H106<S106+T106,"Error in Areas ▲",IF(P106<>'G-1 All Habitats'!$X$3,H106-S106-T106,IF(AND(P106='G-1 All Habitats'!$X$3,Y106="Yes"),"Unacceptable Loss ⚠",IF(AND(P106='G-1 All Habitats'!$X$3,Y106="No"),AC106,IF(AND(P106='G-1 All Habitats'!$X$3,Y106=""),AC106,IF(AND(P106='G-1 All Habitats'!$X$3,AC106="None",AC106),IF(AND(P106='G-1 All Habitats'!$X$3,AC106>0),H106-S106-T106)))))))) | X106: =IFERROR(IF(H106="","",IF(H106-S106-T106=0<0,"Error in Areas ▲",IF(S106+T106>H106,"Error in Areas ▲",IF(AND(P106='G-1 All Habitats'!$X$3,Y106="Yes"),"Alternative Compensation ✓",IF(W106=0,0,IF(P106='G-1 All Habitats'!$X$3,"Any Loss Unacceptable ▲",Q106-U106-V106)))))),"Check Data ▲") | AC106: =IF(P106="","",IF(P106='G-1 All Habitats'!$X$3,H106-S106-T106,"None")) | AD106: =IF(P106="","", IF(P106='G-1 All Habitats'!$X$3, AC106*J106*L106*O106,"None")) | AF106: =IF(G106="","",IF(S106>0,TRUE,FALSE)) | AG106: =IF(H106="","",IF(T106>0,TRUE,FALSE)) | AH106: =IF(I106="","",IF(#REF!>0,TRUE,FALSE)) | AI106: 96 | AK106: {=IFERROR(INDEX($AI$11:$AI$259, MATCH(0, IF(TRUE=$AF$11:$AF$259, COUNTIF($AK$10:$AK105, $AI$11:$AI$259), ""), 0)),"")} | AL106: {=IFERROR(INDEX($AI$11:$AI$259, MATCH(0, IF(TRUE=$AG$11:$AG$259, COUNTIF($AL$10:$AL105, $AI$11:$AI$259), ""), 0)),"")} | AM106: {=IFERROR(INDEX($AI$11:$AI$259, MATCH(0, IF(TRUE=$AH$11:$AH$259, COUNTIF($AM$10:$AM105, $AI$11:$AI$259), ""), 0)),"")} | AQ106: =IF(X106="Unacceptable Loss",1,0) -> 0
