Workbook
Name _Bill_FW_Sewers10: #REF!
Name _Bill_FW_Sewers10: #REF!
Name _Bill_FW_Sewers10: #REF!
Name _Bill_FW_Sewers10: #REF!
Name _Bill_FW_Sewers10: #REF!
Name _Bill_FW_Sewers10: #REF!
Name _Bill_FW_Sewers9: #REF!
Name _Bill_FW_Sewers9: #REF!
Name _Bill_FW_Sewers9: #REF!
Name _Bill_FW_Sewers9: #REF!
Name _Bill_FW_Sewers9: #REF!
Name _Bill_LandscapingAndStServices: #REF!
Name _Bill_LandscapingAndStServices: #REF!
Name _Bill_LandscapingAndStServices: #REF!
Name _Bill_LandscapingAndStServices: #REF!
Name _Bill_LandscapingAndStServices: #REF!
Name _Bill_Stage1.1: #REF!
Name _Bill_Stage1.1: #REF!
Name _Bill_Stage1.1: #REF!
Name _Bill_Stage1.1: #REF!
Name _Bill_Stage1.2: #REF!
Name _Bill_Stage1.2: #REF!
Name _Bill_Stage1.2: #REF!
Name _Bill_Stage1.2: #REF!
Name _Bill_Stage2.3: #REF!
Name _Bill_Stage2.3: #REF!
Name _Bill_Stage2.3: #REF!
Name _Bill_Stage2.3: #REF!
Name _Bill_Stage3.4: #REF!
Name _Bill_Stage3.4: #REF!
Name _Bill_Stage3.4: #REF!
Name _Bill_Stage3.4: #REF!
Name _Bill_SW_Sewers6: #REF!
Name _Bill_SW_Sewers6: #REF!
Name _Bill_SW_Sewers6: #REF!
Name _Bill_SW_Sewers6: #REF!
Name _Bill_SW_Sewers7: #REF!
Name _Bill_SW_Sewers7: #REF!
Name _Bill_SW_Sewers7: #REF!
Name _Bill_SW_Sewers7: #REF!
Name _Bill_SW_Sewers8: #REF!
Name _Bill_SW_Sewers8: #REF!
Name _Bill_SW_Sewers8: #REF!
Name _Bill_SW_Sewers8: #REF!
Name _Input_Carriageway: #REF!
Name _Input_Carriageway: #REF!
Name _Input_Carriageway: #REF!
Name _Input_Carriageway: #REF!
Name _Input_Footpaths: #REF!
Name _Input_Footpaths: #REF!
Name _Input_Footpaths: #REF!
Name _Input_Footpaths: #REF!
Name _Input_General: #REF!
Name _Input_General: #REF!
Name _Input_General: #REF!
Name _Input_General: #REF!
Name _Summary_Adopt: #REF!
Name _Summary_Adopt: #REF!
Name _Summary_Adopt: #REF!
Name _Summary_Adopt: #REF!

Sheet Breakdown Summary
B2: Trows Farm, Castleton | G2: Date | H2: 45453 | J2: Ver - 6
B3: Cowm Top Lane, Rochdale | H3: Breakdown of Abnormal Costs
B4: Drawing : Planning Layout Full - H8544-BAH-XX-XX-DR-XXX-203001 _ Rev 001 01 Feb 24
A5: Ref | B5: Description | G5: Quantity | H5: Unit | I5: Rate | J5: Total | L5: Phasing Breakdown
L6: Site 1
L7: Barratt | M7: David Wilson | N7: Phs | O7: Phs
K8: Nr of OM | L8: ='Dwelling Mix'!P90-'Breakdown Summary'!L9 -> 302 | M8: ='Dwelling Mix'!S90-'Breakdown Summary'!M9 -> 143 | N8: ='Dwelling Mix'!V90-N9 -> 0 | O8: ='Dwelling Mix'!Y90-O9 -> 0
K9: Nr of Social | L9: =SUM('Dwelling Mix'!P87:P88) -> 0 | M9: =SUM('Dwelling Mix'!S87:S88) -> 0 | N9: =SUM('Dwelling Mix'!V87:V88) -> 0 | O9: =SUM('Dwelling Mix'!Y87:Y88) -> 0
K10: Gross ft2 | L10: ='Dwelling Mix'!O90 -> 309398 | M10: ='Dwelling Mix'!R90 -> 164228 | N10: ='Dwelling Mix'!U90 -> 0 | O10: ='Dwelling Mix'!X90 -> 0
K12: Landscaping / POS | L12: ='Dwelling Mix'!O94 -> 19.928804 | M12: ='Dwelling Mix'!R94 -> 0.21008403 | N12: ='Dwelling Mix'!U94 -> 0 | O12: ='Dwelling Mix'!X94 -> 0
K13: Nett Acres | L13: ='Dwelling Mix'!O95 -> 19.11 | M13: ='Dwelling Mix'!R95 -> 10.009886 | N13: ='Dwelling Mix'!U95 -> 0 | O13: ='Dwelling Mix'!X95 -> 0
A15: A | B15: Collection
A17: 1 | B17: ='1. Affordable'!B15 -> Affordable
A19: 2 | B19: ='2. CIL'!A3 -> CIL Calculation | J19: ='2. CIL'!H26 -> 0 | L19: =J19 -> 0
A21: 3 | B21: ='3. S106'!B10 -> Section 106 | J21: ='3. S106'!J32 -> 0 | L21: ='3. S106'!L32 -> 0 | M21: ='3. S106'!M32 -> 0 | N21: ='3. S106'!N32 -> 0 | O21: ='3. S106'!O32 -> 0 | P21: ='3. S106'!P32 -> 0 | Q21: ='3. S106'!Q32 -> 0 | R21: ='3. S106'!R32 -> 0 | S21: ='3. S106'!S32 -> 0
A23: 4 | B23: ='4. Off Site Wks'!B10 -> Off Site Works | J23: ='4. Off Site Wks'!J66 -> 1917340.9 | L23: ='4. Off Site Wks'!L66 -> 1258259.9 | M23: ='4. Off Site Wks'!M66 -> 659081.01 | N23: ='4. Off Site Wks'!N66 -> 0 | O23: ='4. Off Site Wks'!O66 -> 0 | P23: ='4. Off Site Wks'!P66 -> 0 | Q23: ='4. Off Site Wks'!Q66 -> 0 | R23: ='4. Off Site Wks'!R66 -> 0 | S23: ='4. Off Site Wks'!S66 -> 0
A25: 5 | B25: ='5. Cut & Fill'!B10 -> Cut & Fill | J25: ='5. Cut & Fill'!J63 -> 3723198.2 | L25: ='5. Cut & Fill'!L63 -> 2443358.3 | M25: ='5. Cut & Fill'!M63 -> 1279839.8 | N25: ='5. Cut & Fill'!N63 -> 0 | O25: ='5. Cut & Fill'!O63 -> 0 | P25: ='5. Cut & Fill'!P63 -> 0 | Q25: ='5. Cut & Fill'!Q63 -> 0 | R25: ='5. Cut & Fill'!R63 -> 0 | S25: ='5. Cut & Fill'!S63 -> 0
A27: 6 | B27: ='6. Additional Road'!B10 -> Additional Road Costs - 0 & 1 Sided Development | J27: ='6. Additional Road'!J54 -> 1008384.4 | L27: ='6. Additional Road'!L54 -> 1008384.4 | M27: ='6. Additional Road'!M54 -> 0 | N27: ='6. Additional Road'!N54 -> 0 | O27: ='6. Additional Road'!O54 -> 0 | P27: ='6. Additional Road'!P54 -> 0 | Q27: ='6. Additional Road'!Q54 -> 0 | R27: ='6. Additional Road'!R54 -> 0 | S27: ='6. Additional Road'!S54 -> 0
A29: 7 | B29: ='7. POS'!B10 -> Open Space & Play Equipment | J29: ='7. POS'!J33 -> 1100189.3 | L29: ='7. POS'!L33 -> 1100189.3 | M29: ='7. POS'!M33 -> 0 | N29: ='7. POS'!N33 -> 0 | O29: ='7. POS'!O33 -> 0 | P29: ='7. POS'!P33 -> 0 | Q29: ='7. POS'!Q33 -> 0 | R29: ='7. POS'!R33 -> 0 | S29: ='7. POS'!S33 -> 0
A31: 8a | B31: ='8a. Foul Sewers'!B10 -> Foul Sewers | J31: ='8a. Foul Sewers'!J37 -> 545574.01 | L31: ='8a. Foul Sewers'!L37 -> 545574.01 | M31: ='8a. Foul Sewers'!M37 -> 0 | N31: ='8a. Foul Sewers'!N37 -> 0 | O31: ='8a. Foul Sewers'!O37 -> 0 | P31: ='8a. Foul Sewers'!P37 -> 0 | Q31: ='8a. Foul Sewers'!Q37 -> 0 | R31: ='8a. Foul Sewers'!R37 -> 0 | S31: ='8a. Foul Sewers'!S37 -> 0
A33: 8b | B33: ='8b. SW Attenuation'!B10 -> Surface Water Attenuation | J33: ='8b. SW Attenuation'!J112 -> 650988.54 | L33: ='8b. SW Attenuation'!L112 -> 650988.54 | M33: ='8b. SW Attenuation'!M112 -> 0 | N33: ='8b. SW Attenuation'!N112 -> 0 | O33: ='8b. SW Attenuation'!O49 -> 0 | P33: ='8b. SW Attenuation'!P49 -> 0 | Q33: ='8b. SW Attenuation'!Q49 -> 0 | R33: ='8b. SW Attenuation'!R49 -> 0 | S33: ='8b. SW Attenuation'!S49 -> 0
A35: 9 | B35: ='9. Abnormal Founds'!B10 -> Abnormal Foundations | J35: ='9. Abnormal Founds'!J84 -> 3132730 | L35: ='9. Abnormal Founds'!L84 -> 3132730 | M35: ='9. Abnormal Founds'!M84 -> 0 | N35: ='9. Abnormal Founds'!N84 -> 0 | O35: ='9. Abnormal Founds'!O84 -> 0 | P35: ='9. Abnormal Founds'!P84 -> 0 | Q35: ='9. Abnormal Founds'!Q84 -> 0 | R35: ='9. Abnormal Founds'!R84 -> 0 | S35: ='9. Abnormal Founds'!S84 -> 0
A37: 10 | B37: ='10. Retaining Walls'!B10 -> Retaining Walls | J37: ='10. Retaining Walls'!J92 -> 2479468.4 | L37: ='10. Retaining Walls'!L92 -> 2479468.4 | M37: ='10. Retaining Walls'!M92 -> 0 | N37: ='10. Retaining Walls'!N92 -> 0 | O37: ='10. Retaining Walls'!O92 -> 0 | P37: ='10. Retaining Walls'!P77 -> 0 | Q37: ='10. Retaining Walls'!Q77 -> 0 | R37: ='10. Retaining Walls'!R77 -> 0 | S37: ='10. Retaining Walls'!S77 -> 0
A39: 11 | B39: ='11. Services'!B10 -> Service Diversion & Substation | J39: ='11. Services'!J59 -> 967750 | L39: ='11. Services'!L59 -> 656765.17 | M39: ='11. Services'!M59 -> 310984.83 | N39: ='11. Services'!N59 -> 0 | O39: ='11. Services'!O59 -> 0 | P39: ='11. Services'!P59 -> 0 | Q39: ='11. Services'!Q59 -> 0 | R39: ='11. Services'!R59 -> 0 | S39: ='11. Services'!S59 -> 0
A41: ='12. Externals'!A10 -> 12 | B41: ='12. Externals'!B10 -> Externals &Site Spec Requirements | J41: ='12. Externals'!J55 -> 3895803.8 | L41: ='12. Externals'!L55 -> 2180603.8 | M41: ='12. Externals'!M55 -> 1158950 | N41: ='12. Externals'!N55 -> 0 | O41: ='12. Externals'!O55 -> 0 | P41: ='12. Externals'!P55 -> 0 | Q41: ='12. Externals'!Q55 -> 0 | R41: ='12. Externals'!R55 -> 0 | S41: ='12. Externals'!S55 -> 0
C45: Link to Aerial Pics & Drone Footage
C46: https://1drv.ms/u/s!Aqn1RsZvM4igg58zRvu_00deVcL7Xw?e=xSFreO
J50: =SUM(J14:J49) -> 19421427 | L50: =SUM(L14:L49) -> 15456322 | M50: =SUM(M14:M49) -> 3408855.7 | N50: =SUM(N14:N49) -> 0 | O50: =SUM(O14:O49) -> 0 | P50: =SUM(P14:P49) -> 0 | Q50: =SUM(Q14:Q49) -> 0 | R50: =SUM(R14:R49) -> 0 | S50: =SUM(S14:S49) -> 0
B52: Contingency - 5% on Build Costs due risk on Abnormals | G52: =SUM(J23:J48) -> 19421427 | H52: Value | I52: 0.05 | J52: =G52*I52 -> 971071.37 | L52: =(SUM(L23:L48))*$I52 -> 772816.09 | M52: =(SUM(M23:M48))*$I52 -> 170442.78 | N52: =(SUM(N23:N48))*$I52 -> 0 | O52: =(SUM(O23:O48))*$I52 -> 0 | P52: =(SUM(P23:P48))*$I52 -> 0 | Q52: =(SUM(Q23:Q48))*$I52 -> 0 | R52: =(SUM(R23:R48))*$I52 -> 0 | S52: =(SUM(S23:S48))*$I52 -> 0
J55: =SUM(J49:J54) -> 20392499 | L55: =SUM(L49:L54) -> 16229138 | M55: =SUM(M49:M54) -> 3579298.5 | N55: =SUM(N49:N54) -> 0 | O55: =SUM(O49:O54) -> 0 | P55: =SUM(P49:P54) -> 0 | Q55: =SUM(Q49:Q54) -> 0 | R55: =SUM(R49:R54) -> 0 | S55: =SUM(S49:S54) -> 0

Sheet Dwelling Mix
H3: ='Breakdown Summary'!B2 -> Trows Farm, Castleton
H4: ='Breakdown Summary'!B3 -> Cowm Top Lane, Rochdale
O5: Barratt | R5: David Wilson | U5: Phs | X5: Phs | AA5: Development Total | AE5: Foundation Length | AF5: Dwelling Footprint
A7: Build Cost | L7: Beds | M7: Sq Ft | O7: Total ft2 | P7: No Units | R7: Total ft2 | S7: No Units | U7: Total ft2 | V7: No Units | X7: Total ft2 | Y7: No Units | AA7: Total ft2 | AB7: No Units
A8: Founds | B8: Supers | C8: Plot Dev | D8: Total Bld | E8: £ per ft2 | G8: Private Sale
A9: =7.03/60.07 -> 0.11703013 | B9: =46.79/60.07 -> 0.77892459 | C9: =6.25/60.07 -> 0.10404528
G10: Barratt - Contemporary
A11: =($M11*$E11)*A$9 -> 6891.6704 | B11: =($M11*$E11)*B$9 -> 45869.311 | C11: =($M11*$E11)*C$9 -> 6127.0185 | D11: =SUM(A11:C11) -> 58888 | E11: 68 | H11: Type 50 - End | I11: 2 | J11: Parking Space | L11: 2 | M11: 866 | O11: =P11*M11 -> 5196 | P11: 6 | R11: =S11*M11 -> 0 | U11: =V11*M11 -> 0 | X11: =Y11*M11 -> 0 | AA11: =O11+R11+U11+X11 -> 5196 | AB11: =P11+S11+V11+Y11 -> 6 | AE11: =ROUNDUP(((SQRT((M11/10.764)/2))*5),0) -> 32 | AF11: =ROUNDUP(((SQRT((M11/10.764)/2))*(SQRT((M11/10.764)/2))),0) -> 41 | AG11: =SQRT(AF11) -> 6.4031242 | AH11: =(AG11+2+2)*(AG11+2+2) -> 108.22499
A12: =($M12*$E12)*A$9 -> 6891.6704 | B12: =($M12*$E12)*B$9 -> 45869.311 | C12: =($M12*$E12)*C$9 -> 6127.0185 | D12: =SUM(A12:C12) -> 58888 | E12: 68 | H12: Type 50 - Mid | I12: 2 | J12: Parking Space | L12: 2 | M12: 866 | O12: =P12*M12 -> 866 | P12: 1 | R12: =S12*M12 -> 0 | U12: =V12*M12 -> 0 | X12: =Y12*M12 -> 0 | AA12: =O12+R12+U12+X12 -> 866 | AB12: =P12+S12+V12+Y12 -> 1 | AE12: =ROUNDUP(((SQRT((M12/10.764)/2))*5),0) -> 32 | AF12: =ROUNDUP(((SQRT((M12/10.764)/2))*(SQRT((M12/10.764)/2))),0) -> 41 | AG12: =SQRT(AF12) -> 6.4031242 | AH12: =(AG12+2+2)*(AG12+2+2) -> 108.22499
A13: =($M13*$E13)*A$9 -> 8157.0002 | B13: =($M13*$E13)*B$9 -> 54291.044 | C13: =($M13*$E13)*C$9 -> 7251.9561 | D13: =SUM(A13:C13) -> 69700 | E13: 68 | H13: Type 52 - End | I13: 2 | J13: Parking Space | L13: 2 | M13: 1025 | O13: =P13*M13 -> 4100 | P13: 4 | R13: =S13*M13 -> 0 | U13: =V13*M13 -> 0 | X13: =Y13*M13 -> 0 | AA13: =O13+R13+U13+X13 -> 4100 | AB13: =P13+S13+V13+Y13 -> 4 | AE13: =ROUNDUP(((SQRT((M13/10.764)/2))*5),0) -> 35 | AF13: =ROUNDUP(((SQRT((M13/10.764)/2))*(SQRT((M13/10.764)/2))),0) -> 48 | AG13: =SQRT(AF13) -> 6.9282032 | AH13: =(AG13+2+2)*(AG13+2+2) -> 119.42563
A14: =($M14*$E14)*A$9 -> 8157.0002 | B14: =($M14*$E14)*B$9 -> 54291.044 | C14: =($M14*$E14)*C$9 -> 7251.9561 | D14: =SUM(A14:C14) -> 69700 | E14: 68 | H14: Type 52 - Mid | I14: 2 | J14: Parking Space | L14: 2 | M14: 1025 | O14: =P14*M14 -> 2050 | P14: 2 | R14: =S14*M14 -> 0 | U14: =V14*M14 -> 0 | X14: =Y14*M14 -> 0 | AA14: =O14+R14+U14+X14 -> 2050 | AB14: =P14+S14+V14+Y14 -> 2 | AE14: =ROUNDUP(((SQRT((M14/10.764)/2))*5),0) -> 35 | AF14: =ROUNDUP(((SQRT((M14/10.764)/2))*(SQRT((M14/10.764)/2))),0) -> 48 | AG14: =SQRT(AF14) -> 6.9282032 | AH14: =(AG14+2+2)*(AG14+2+2) -> 119.42563
A15: =($M15*$E15)*A$9 -> 6247.0684 | B15: =($M15*$E15)*B$9 -> 41578.995 | C15: =($M15*$E15)*C$9 -> 5553.9371 | D15: =SUM(A15:C15) -> 53380 | E15: 68 | H15: Kew - End | I15: 2 | J15: Parking Space | L15: 2 | M15: 785 | O15: =P15*M15 -> 7850 | P15: 10 | R15: =S15*M15 -> 0 | U15: =V15*M15 -> 0 | X15: =Y15*M15 -> 0 | AA15: =O15+R15+U15+X15 -> 7850 | AB15: =P15+S15+V15+Y15 -> 10 | AE15: =ROUNDUP(((SQRT((M15/10.764)/2))*5),0) -> 31 | AF15: =ROUNDUP(((SQRT((M15/10.764)/2))*(SQRT((M15/10.764)/2))),0) -> 37 | AG15: =SQRT(AF15) -> 6.0827625 | AH15: =(AG15+2+2)*(AG15+2+2) -> 101.6621
A16: =($M16*$E16)*A$9 -> 6567.1934 | B16: =($M16*$E16)*B$9 -> 43709.67 | C16: =($M16*$E16)*C$9 -> 5838.5432 | D16: =SUM(A16:C16) -> 56115.406 | E16: 71.484594 | H16: Kew - Mid | I16: 2 | J16: Parking Space | L16: 2 | M16: 785 | O16: =P16*M16 -> 3140 | P16: 4 | R16: =S16*M16 -> 0 | U16: =V16*M16 -> 0 | X16: =Y16*M16 -> 0 | AA16: =O16+R16+U16+X16 -> 3140 | AB16: =P16+S16+V16+Y16 -> 4 | AE16: =ROUNDUP(((SQRT((M16/10.764)/2))*5),0) -> 31 | AF16: =ROUNDUP(((SQRT((M16/10.764)/2))*(SQRT((M16/10.764)/2))),0) -> 37 | AG16: =SQRT(AF16) -> 6.0827625 | AH16: =(AG16+2+2)*(AG16+2+2) -> 101.6621
A17: =($M17*$E17)*A$9 -> 7337.3211 | B17: =($M17*$E17)*B$9 -> 48835.456 | C17: =($M17*$E17)*C$9 -> 6523.2229 | D17: =SUM(A17:C17) -> 62696 | E17: 68 | H17: Holkham | I17: 2 | J17: Parking Space | L17: 3 | M17: 922 | O17: =P17*M17 -> 8298 | P17: 9 | R17: =S17*M17 -> 0 | U17: =V17*M17 -> 0 | X17: =Y17*M17 -> 0 | AA17: =O17+R17+U17+X17 -> 8298 | AB17: =P17+S17+V17+Y17 -> 9 | AE17: =ROUNDUP(((SQRT((M17/10.764)/2))*5),0) -> 33 | AF17: =ROUNDUP(((SQRT((M17/10.764)/2))*(SQRT((M17/10.764)/2))),0) -> 43 | AG17: =SQRT(AF17) -> 6.5574385 | AH17: =(AG17+2+2)*(AG17+2+2) -> 111.45951
A18: =($M18*$E18)*A$9 -> 7723.0152 | B18: =($M18*$E18)*B$9 -> 51402.543 | C18: =($M18*$E18)*C$9 -> 6866.123 | D18: =SUM(A18:C18) -> 65991.682 | E18: 70.654905 | H18: Brownstone - End | I18: 2 | J18: Parking Space | L18: 3 | M18: 934 | O18: =P18*M18 -> 11208 | P18: 12 | R18: =S18*M18 -> 0 | U18: =V18*M18 -> 0 | X18: =Y18*M18 -> 0 | AA18: =O18+R18+U18+X18 -> 11208 | AB18: =P18+S18+V18+Y18 -> 12 | AE18: =ROUNDUP(((SQRT((M18/10.764)/2))*5),0) -> 33 | AF18: =ROUNDUP(((SQRT((M18/10.764)/2))*(SQRT((M18/10.764)/2))),0) -> 44 | AG18: =SQRT(AF18) -> 6.6332496 | AH18: =(AG18+2+2)*(AG18+2+2) -> 113.066
A19: =($M19*$E19)*A$9 -> 7692.7498 | B19: =($M19*$E19)*B$9 -> 51201.104 | C19: =($M19*$E19)*C$9 -> 6839.2157 | D19: =SUM(A19:C19) -> 65733.069 | E19: 67.766051 | H19: Mewstone - End | I19: 2 | J19: Parking Space | L19: 3 | M19: 970 | O19: =P19*M19 -> 27160 | P19: 28 | R19: =S19*M19 -> 0 | U19: =V19*M19 -> 0 | X19: =Y19*M19 -> 0 | AA19: =O19+R19+U19+X19 -> 27160 | AB19: =P19+S19+V19+Y19 -> 28 | AE19: =ROUNDUP(((SQRT((M19/10.764)/2))*5),0) -> 34 | AF19: =ROUNDUP(((SQRT((M19/10.764)/2))*(SQRT((M19/10.764)/2))),0) -> 46 | AG19: =SQRT(AF19) -> 6.78233 | AH19: =(AG19+2+2)*(AG19+2+2) -> 116.25864
A20: =($M20*$E20)*A$9 -> 7719.3075 | B20: =($M20*$E20)*B$9 -> 51377.866 | C20: =($M20*$E20)*C$9 -> 6862.8267 | D20: =SUM(A20:C20) -> 65960 | E20: 68 | H20: Mewstone - Mid | I20: 2 | J20: Parking Space | L20: 3 | M20: 970 | O20: =P20*M20 -> 5820 | P20: 6 | R20: =S20*M20 -> 0 | U20: =V20*M20 -> 0 | X20: =Y20*M20 -> 0 | AA20: =O20+R20+U20+X20 -> 5820 | AB20: =P20+S20+V20+Y20 -> 6 | AE20: =ROUNDUP(((SQRT((M20/10.764)/2))*5),0) -> 34 | AF20: =ROUNDUP(((SQRT((M20/10.764)/2))*(SQRT((M20/10.764)/2))),0) -> 46 | AG20: =SQRT(AF20) -> 6.78233 | AH20: =(AG20+2+2)*(AG20+2+2) -> 116.25864
A21: =($M21*$E21)*A$9 -> 7628.343 | B21: =($M21*$E21)*B$9 -> 50772.428 | C21: =($M21*$E21)*C$9 -> 6781.955 | D21: =SUM(A21:C21) -> 65182.726 | E21: 67.198686 | H21: Matlock - End | I21: 2 | J21: Parking Space | L21: 3 | M21: 970 | O21: =P21*M21 -> 12610 | P21: 13 | R21: =S21*M21 -> 0 | U21: =V21*M21 -> 0 | X21: =Y21*M21 -> 0 | AA21: =O21+R21+U21+X21 -> 12610 | AB21: =P21+S21+V21+Y21 -> 13 | AE21: =ROUNDUP(((SQRT((M21/10.764)/2))*6),0) -> 41 | AF21: =ROUNDUP(((SQRT((M21/10.764)/2))*(SQRT((M21/10.764)/2))),0) -> 46 | AG21: =SQRT(AF21) -> 6.78233 | AH21: =(AG21+2+2)*(AG21+2+2) -> 116.25864
A22: =($M22*$E22)*A$9 -> 7918.2587 | B22: =($M22*$E22)*B$9 -> 52702.038 | C22: =($M22*$E22)*C$9 -> 7039.7037 | D22: =SUM(A22:C22) -> 67660 | E22: 68 | H22: Martham | I22: 2 | J22: Single Integral | L22: 3 | M22: 995 | O22: =P22*M22 -> 1990 | P22: 2 | R22: =S22*M22 -> 0 | U22: =V22*M22 -> 0 | X22: =Y22*M22 -> 0 | AA22: =O22+R22+U22+X22 -> 1990 | AB22: =P22+S22+V22+Y22 -> 2 | AE22: =ROUNDUP(((SQRT((M22/10.764)/2))*6),0) -> 41 | AF22: =ROUNDUP(((SQRT((M22/10.764)/2))*(SQRT((M22/10.764)/2))),0) -> 47 | AG22: =SQRT(AF22) -> 6.8556546 | AH22: =(AG22+2+2)*(AG22+2+2) -> 117.84524
A23: =($M23*$E23)*A$9 -> 7918.2587 | B23: =($M23*$E23)*B$9 -> 52702.038 | C23: =($M23*$E23)*C$9 -> 7039.7037 | D23: =SUM(A23:C23) -> 67660 | E23: 68 | H23: Martham - End | I23: 2 | J23: Parking Space | L23: 3 | M23: 995 | O23: =P23*M23 -> 4975 | P23: 5 | R23: =S23*M23 -> 0 | U23: =V23*M23 -> 0 | X23: =Y23*M23 -> 0 | AA23: =O23+R23+U23+X23 -> 4975 | AB23: =P23+S23+V23+Y23 -> 5 | AE23: =ROUNDUP(((SQRT((M23/10.764)/2))*6),0) -> 41 | AF23: =ROUNDUP(((SQRT((M23/10.764)/2))*(SQRT((M23/10.764)/2))),0) -> 47 | AG23: =SQRT(AF23) -> 6.8556546 | AH23: =(AG23+2+2)*(AG23+2+2) -> 117.84524
A24: =($M24*$E24)*A$9 -> 8324.1192 | B24: =($M24*$E24)*B$9 -> 55403.348 | C24: =($M24*$E24)*C$9 -> 7400.5327 | D24: =SUM(A24:C24) -> 71128 | E24: 68 | H24: Redford | I24: 2 | J24: Parking Space | L24: 3 | M24: 1046 | O24: =P24*M24 -> 4184 | P24: 4 | R24: =S24*M24 -> 0 | U24: =V24*M24 -> 0 | X24: =Y24*M24 -> 0 | AA24: =O24+R24+U24+X24 -> 4184 | AB24: =P24+S24+V24+Y24 -> 4 | AE24: =ROUNDUP(((SQRT((M24/10.764)/2))*6),0) -> 42 | AF24: =ROUNDUP(((SQRT((M24/10.764)/2))*(SQRT((M24/10.764)/2))),0) -> 49 | AG24: =SQRT(AF24) -> 7 | AH24: =(AG24+2+2)*(AG24+2+2) -> 121
A25: =($M25*$E25)*A$9 -> 8928.9309 | B25: =($M25*$E25)*B$9 -> 59428.83 | C25: =($M25*$E25)*C$9 -> 7938.2387 | D25: =SUM(A25:C25) -> 76296 | E25: 68 | H25: Knightwood - End | I25: 2.5 | J25: Parking Space | K25: SG | L25: 3 | M25: 1122 | O25: =P25*M25 -> 8976 | P25: 8 | R25: =S25*M25 -> 0 | U25: =V25*M25 -> 0 | X25: =Y25*M25 -> 0 | AA25: =O25+R25+U25+X25 -> 8976 | AB25: =P25+S25+V25+Y25 -> 8 | AE25: =ROUNDUP(((SQRT((M25/10.764)/2))*6),0) -> 44 | AF25: =ROUNDUP(((SQRT((M25/10.764)/2))*(SQRT((M25/10.764)/2))),0) -> 53 | AG25: =SQRT(AF25) -> 7.2801099 | AH25: =(AG25+2+2)*(AG25+2+2) -> 127.24088
H26: Allerthorpe | I26: 2 | J26: Parking Space | K26: SG | L26: 3 | M26: 1225 | O26: =P26*M26 -> 6125 | P26: 5 | R26: =S26*M26 -> 0 | U26: =V26*M26 -> 0 | X26: =Y26*M26 -> 0 | AA26: =O26+R26+U26+X26 -> 6125 | AB26: =P26+S26+V26+Y26 -> 5 | AE26: =ROUNDUP(((SQRT((M26/10.764)/2))*6),0) -> 46 | AF26: =ROUNDUP(((SQRT((M26/10.764)/2))*(SQRT((M26/10.764)/2))),0) -> 57 | AG26: =SQRT(AF26) -> 7.5498344 | AH26: =(AG26+2+2)*(AG26+2+2) -> 133.39868
H27: Newby | I27: 2 | J27: Single Detached | L27: 3 | M27: 952 | O27: =P27*M27 -> 6664 | P27: 7 | R27: =S27*M27 -> 0 | U27: =V27*M27 -> 0 | X27: =Y27*M27 -> 0 | AA27: =O27+R27+U27+X27 -> 6664 | AB27: =P27+S27+V27+Y27 -> 7 | AE27: =ROUNDUP(((SQRT((M27/10.764)/2))*6),0) -> 40 | AF27: =ROUNDUP(((SQRT((M27/10.764)/2))*(SQRT((M27/10.764)/2))),0) -> 45 | AG27: =SQRT(AF27) -> 6.7082039 | AH27: =(AG27+2+2)*(AG27+2+2) -> 114.66563
H28: Linstock | I28: 2 | J28: Parking Space | K28: SG | L28: 3 | M28: 1551 | O28: =P28*M28 -> 7755 | P28: 5 | R28: =S28*M28 -> 0 | U28: =V28*M28 -> 0 | X28: =Y28*M28 -> 0 | AA28: =O28+R28+U28+X28 -> 7755 | AB28: =P28+S28+V28+Y28 -> 5 | AE28: =ROUNDUP(((SQRT((M28/10.764)/2))*6),0) -> 51 | AF28: =ROUNDUP(((SQRT((M28/10.764)/2))*(SQRT((M28/10.764)/2))),0) -> 73 | AG28: =SQRT(AF28) -> 8.5440037 | AH28: =(AG28+2+2)*(AG28+2+2) -> 157.35203
O29: =P29*M29 -> 0 | R29: =S29*M29 -> 0 | U29: =V29*M29 -> 0 | X29: =Y29*M29 -> 0 | AA29: =O29+R29+U29+X29 -> 0 | AB29: =P29+S29+V29+Y29 -> 0 | AE29: =ROUNDUP(((SQRT((M29/10.764)/2))*6),0) -> 0 | AF29: =ROUNDUP(((SQRT((M29/10.764)/2))*(SQRT((M29/10.764)/2))),0) -> 0 | AG29: =SQRT(AF29) -> 0 | AH29: =(AG29+2+2)*(AG29+2+2) -> 16
O30: =P30*M30 -> 0 | R30: =S30*M30 -> 0 | U30: =V30*M30 -> 0 | X30: =Y30*M30 -> 0 | AA30: =O30+R30+U30+X30 -> 0 | AB30: =P30+S30+V30+Y30 -> 0 | AE30: =ROUNDUP(((SQRT((M30/10.764)/2))*6),0) -> 0 | AF30: =ROUNDUP(((SQRT((M30/10.764)/2))*(SQRT((M30/10.764)/2))),0) -> 0 | AG30: =SQRT(AF30) -> 0 | AH30: =(AG30+2+2)*(AG30+2+2) -> 16
O31: =P31*M31 -> 0 | R31: =S31*M31 -> 0 | U31: =V31*M31 -> 0 | X31: =Y31*M31 -> 0 | AA31: =O31+R31+U31+X31 -> 0 | AB31: =P31+S31+V31+Y31 -> 0 | AE31: =ROUNDUP(((SQRT((M31/10.764)/2))*6),0) -> 0 | AF31: =ROUNDUP(((SQRT((M31/10.764)/2))*(SQRT((M31/10.764)/2))),0) -> 0 | AG31: =SQRT(AF31) -> 0 | AH31: =(AG31+2+2)*(AG31+2+2) -> 16
O32: =P32*M32 -> 0 | R32: =S32*M32 -> 0 | U32: =V32*M32 -> 0 | X32: =Y32*M32 -> 0 | AA32: =O32+R32+U32+X32 -> 0 | AB32: =P32+S32+V32+Y32 -> 0 | AE32: =ROUNDUP(((SQRT((M32/10.764)/2))*6),0) -> 0 | AF32: =ROUNDUP(((SQRT((M32/10.764)/2))*(SQRT((M32/10.764)/2))),0) -> 0 | AG32: =SQRT(AF32) -> 0 | AH32: =(AG32+2+2)*(AG32+2+2) -> 16
O33: =P33*M33 -> 0 | R33: =S33*M33 -> 0 | U33: =V33*M33 -> 0 | X33: =Y33*M33 -> 0 | AA33: =O33+R33+U33+X33 -> 0 | AB33: =P33+S33+V33+Y33 -> 0 | AE33: =ROUNDUP(((SQRT((M33/10.764)/2))*6),0) -> 0 | AF33: =ROUNDUP(((SQRT((M33/10.764)/2))*(SQRT((M33/10.764)/2))),0) -> 0 | AG33: =SQRT(AF33) -> 0 | AH33: =(AG33+2+2)*(AG33+2+2) -> 16
G35: Barratt - Classic
A36: =($M36*$E36)*A$9 -> 6891.6704 | B36: =($M36*$E36)*B$9 -> 45869.311 | C36: =($M36*$E36)*C$9 -> 6127.0185 | D36: =SUM(A36:C36) -> 58888 | E36: 68 | H36: Type 50 - End | I36: 2 | J36: Parking Space | L36: 2 | M36: 866 | O36: =P36*M36 -> 3464 | P36: 4 | R36: =S36*M36 -> 0 | U36: =V36*M36 -> 0 | X36: =Y36*M36 -> 0 | AA36: =O36+R36+U36+X36 -> 3464 | AB36: =P36+S36+V36+Y36 -> 4 | AE36: =ROUNDUP(((SQRT((M36/10.764)/2))*5),0) -> 32 | AF36: =ROUNDUP(((SQRT((M36/10.764)/2))*(SQRT((M36/10.764)/2))),0) -> 41 | AG36: =SQRT(AF36) -> 6.4031242 | AH36: =(AG36+2+2)*(AG36+2+2) -> 108.22499
A37: =($M37*$E37)*A$9 -> 8157.0002 | B37: =($M37*$E37)*B$9 -> 54291.044 | C37: =($M37*$E37)*C$9 -> 7251.9561 | D37: =SUM(A37:C37) -> 69700 | E37: 68 | H37: Type 52 - End | I37: 2 | J37: Parking Space | L37: 3 | M37: 1025 | O37: =P37*M37 -> 10250 | P37: 10 | R37: =S37*M37 -> 0 | U37: =V37*M37 -> 0 | X37: =Y37*M37 -> 0 | AA37: =O37+R37+U37+X37 -> 10250 | AB37: =P37+S37+V37+Y37 -> 10 | AE37: =ROUNDUP(((SQRT((M37/10.764)/2))*5),0) -> 35 | AF37: =ROUNDUP(((SQRT((M37/10.764)/2))*(SQRT((M37/10.764)/2))),0) -> 48 | AG37: =SQRT(AF37) -> 6.9282032 | AH37: =(AG37+2+2)*(AG37+2+2) -> 119.42563
A38: =($M38*$E38)*A$9 -> 6247.0684 | B38: =($M38*$E38)*B$9 -> 41578.995 | C38: =($M38*$E38)*C$9 -> 5553.9371 | D38: =SUM(A38:C38) -> 53380 | E38: 68 | H38: Kew - End | I38: 2 | J38: Parking Space | L38: 2 | M38: 785 | O38: =P38*M38 -> 6280 | P38: 8 | R38: =S38*M38 -> 0 | U38: =V38*M38 -> 0 | X38: =Y38*M38 -> 0 | AA38: =O38+R38+U38+X38 -> 6280 | AB38: =P38+S38+V38+Y38 -> 8 | AE38: =ROUNDUP(((SQRT((M38/10.764)/2))*5),0) -> 31 | AF38: =ROUNDUP(((SQRT((M38/10.764)/2))*(SQRT((M38/10.764)/2))),0) -> 37 | AG38: =SQRT(AF38) -> 6.0827625 | AH38: =(AG38+2+2)*(AG38+2+2) -> 101.6621
A39: =($M39*$E39)*A$9 -> 6247.0684 | B39: =($M39*$E39)*B$9 -> 41578.995 | C39: =($M39*$E39)*C$9 -> 5553.9371 | D39: =SUM(A39:C39) -> 53380 | E39: 68 | H39: Kew - Mid | I39: 2 | J39: Parking Space | L39: 2 | M39: 785 | O39: =P39*M39 -> 1570 | P39: 2 | R39: =S39*M39 -> 0 | U39: =V39*M39 -> 0 | X39: =Y39*M39 -> 0 | AA39: =O39+R39+U39+X39 -> 1570 | AB39: =P39+S39+V39+Y39 -> 2 | AE39: =ROUNDUP(((SQRT((M39/10.764)/2))*5),0) -> 31 | AF39: =ROUNDUP(((SQRT((M39/10.764)/2))*(SQRT((M39/10.764)/2))),0) -> 37 | AG39: =SQRT(AF39) -> 6.0827625 | AH39: =(AG39+2+2)*(AG39+2+2) -> 101.6621
A40: =($M40*$E40)*A$9 -> 7576.0626 | B40: =($M40*$E40)*B$9 -> 50424.462 | C40: =($M40*$E40)*C$9 -> 6735.4753 | D40: =SUM(A40:C40) -> 64736 | E40: 68 | H40: Newby | I40: 2 | J40: Parking Space | L40: 3 | M40: 952 | O40: =P40*M40 -> 7616 | P40: 8 | R40: =S40*M40 -> 0 | U40: =V40*M40 -> 0 | X40: =Y40*M40 -> 0 | AA40: =O40+R40+U40+X40 -> 7616 | AB40: =P40+S40+V40+Y40 -> 8 | AE40: =ROUNDUP(((SQRT((M40/10.764)/2))*5),0) -> 34 | AF40: =ROUNDUP(((SQRT((M40/10.764)/2))*(SQRT((M40/10.764)/2))),0) -> 45 | AG40: =SQRT(AF40) -> 6.7082039 | AH40: =(AG40+2+2)*(AG40+2+2) -> 114.66563
A41: =($M41*$E41)*A$9 -> 8114.8759 | B41: =($M41*$E41)*B$9 -> 54010.675 | C41: =($M41*$E41)*C$9 -> 7214.5056 | D41: =SUM(A41:C41) -> 69340.056 | E41: 71.484594 | H41: Mewstone - End | I41: 2 | J41: Parking Space | L41: 3 | M41: 970 | O41: =P41*M41 -> 34920 | P41: 36 | R41: =S41*M41 -> 0 | U41: =V41*M41 -> 0 | X41: =Y41*M41 -> 0 | AA41: =O41+R41+U41+X41 -> 34920 | AB41: =P41+S41+V41+Y41 -> 36 | AE41: =ROUNDUP(((SQRT((M41/10.764)/2))*5),0) -> 34 | AF41: =ROUNDUP(((SQRT((M41/10.764)/2))*(SQRT((M41/10.764)/2))),0) -> 46 | AG41: =SQRT(AF41) -> 6.78233 | AH41: =(AG41+2+2)*(AG41+2+2) -> 116.25864
A42: =($M42*$E42)*A$9 -> 7719.3075 | B42: =($M42*$E42)*B$9 -> 51377.866 | C42: =($M42*$E42)*C$9 -> 6862.8267 | D42: =SUM(A42:C42) -> 65960 | E42: 68 | H42: Mewstone - Mid | I42: 2 | J42: Parking Space | L42: 3 | M42: 970 | O42: =P42*M42 -> 1940 | P42: 2 | R42: =S42*M42 -> 0 | U42: =V42*M42 -> 0 | X42: =Y42*M42 -> 0 | AA42: =O42+R42+U42+X42 -> 1940 | AB42: =P42+S42+V42+Y42 -> 2 | AE42: =ROUNDUP(((SQRT((M42/10.764)/2))*5),0) -> 34 | AF42: =ROUNDUP(((SQRT((M42/10.764)/2))*(SQRT((M42/10.764)/2))),0) -> 46 | AG42: =SQRT(AF42) -> 6.78233 | AH42: =(AG42+2+2)*(AG42+2+2) -> 116.25864
A43: =($M43*$E43)*A$9 -> 8020.6903 | B43: =($M43*$E43)*B$9 -> 53383.798 | C43: =($M43*$E43)*C$9 -> 7130.7702 | D43: =SUM(A43:C43) -> 68535.258 | E43: 70.654905 | H43: Matlock - End | I43: 2 | J43: Parking Space | L43: 3 | M43: 970 | O43: =P43*M43 -> 19400 | P43: 20 | R43: =S43*M43 -> 0 | U43: =V43*M43 -> 0 | X43: =Y43*M43 -> 0 | AA43: =O43+R43+U43+X43 -> 19400 | AB43: =P43+S43+V43+Y43 -> 20 | AE43: =ROUNDUP(((SQRT((M43/10.764)/2))*5),0) -> 34 | AF43: =ROUNDUP(((SQRT((M43/10.764)/2))*(SQRT((M43/10.764)/2))),0) -> 46 | AG43: =SQRT(AF43) -> 6.78233 | AH43: =(AG43+2+2)*(AG43+2+2) -> 116.25864
A44: =($M44*$E44)*A$9 -> 7891.0165 | B44: =($M44*$E44)*B$9 -> 52520.72 | C44: =($M44*$E44)*C$9 -> 7015.4841 | D44: =SUM(A44:C44) -> 67427.221 | E44: 67.766051 | H44: Martham - End | I44: 2 | J44: Parking Space | L44: 3 | M44: 995 | O44: =P44*M44 -> 5970 | P44: 6 | R44: =S44*M44 -> 0 | U44: =V44*M44 -> 0 | X44: =Y44*M44 -> 0 | AA44: =O44+R44+U44+X44 -> 5970 | AB44: =P44+S44+V44+Y44 -> 6 | AE44: =ROUNDUP(((SQRT((M44/10.764)/2))*5),0) -> 34 | AF44: =ROUNDUP(((SQRT((M44/10.764)/2))*(SQRT((M44/10.764)/2))),0) -> 47 | AG44: =SQRT(AF44) -> 6.8556546 | AH44: =(AG44+2+2)*(AG44+2+2) -> 117.84524
...

Sheet PHDWH                         
E3: TROWS ROCHDALE
A5: Sales Name | B5: Storeys | C5: Garage Type | D5: Garage | E5: Beds | F5: Floor Area | H5: Qty
A6: DAVID WILSON
A7: Primrose (End) | B7: 2 | C7: Parking Space | E7: 2 | F7: 768 | H7: 8
A8: Primrose (Mid) | B8: 2 | C8: Parking Space | E8: 2 | F8: 768 | H8: 4
A9: YH50 (End) | B9: 2 | C9: Parking Space | E9: 2 | F9: 866 | H9: 4
A10: YH50 (Mid) | B10: 2 | C10: Parking Space | E10: 2 | F10: 866 | H10: 2
A11: YH52 (End) | B11: 2 | C11: Parking Space | E11: 3 | F11: 1025 | H11: 6
A12: YH52 (Mid) | B12: 2 | C12: Parking Space | E12: 3 | F12: 1025 | H12: 2
A13: Alder (End) | B13: 2 | C13: Parking Space | E13: 3 | F13: 966 | H13: 31
A14: Alder (Mid) | B14: 2 | C14: Parking Space | E14: 3 | F14: 966 | H14: 3
A15: Foxglove (Det) | B15: 2 | C15: Parking Space | E15: 3 | F15: 1116 | H15: 9
A16: Foxglove (End) | B16: 2 | C16: Parking Space | E16: 3 | F16: 1116 | H16: 3
A17: Frampton (End) | B17: 2.5 | C17: Parking Space | E17: =VALUE([23]Summary!$B$2) -> 3 | F17: 1127 | H17: 10
A18: Hazelborough | B18: 2 | D18: SG | E18: 4 | F18: 1163 | H18: 8
A19: Hamford | B19: 2 | D19: Sg | E19: 4 | F19: 1275 | H19: 5
A20: Thornhill | B20: 2 | E20: 4 | F20: 1338 | H20: 8
A21: Winterton | B21: 2 | D21: SG | E21: 4 | F21: 1354 | H21: 11
A22: Lynford | B22: 2 | D22: SG | E22: 4 | F22: 1434 | H22: 6
A23: Hepburn | B23: 2 | E23: 4 | F23: 1444 | H23: 6
A24: Wychwood | B24: 2 | D24: SG | E24: 4 | F24: 1489 | H24: 10
A25: Culver | B25: 2 | D25: SG | E25: 5 | F25: 1525 | H25: 7
A26: SUB TOTAL | H26: =SUM(H7:H25) -> 143
A28: BARRATT - Contemporary
A29: Type 50 - End | B29: 2 | C29: Parking Space | E29: 2 | F29: 866 | H29: 6
A30: Type 50 - Mid | B30: 2 | C30: Parking Space | E30: 2 | F30: 866 | H30: 1
A31: Type 52 - End | B31: 2 | C31: Parking Space | E31: 2 | F31: 1025 | H31: 4
A32: Type 52 - Mid | B32: 2 | C32: Parking Space | E32: 2 | F32: 1025 | H32: 2
A33: Kew - End | B33: 2 | C33: Parking Space | E33: 2 | F33: 785 | H33: 10
A34: Kew - Mid | B34: 2 | C34: Parking Space | E34: 2 | F34: 785 | H34: 4
A35: Holkham | B35: 2 | C35: Parking Space | E35: 3 | F35: 922 | H35: 9
A36: Brownstone - End | B36: 2 | C36: Parking Space | E36: 3 | F36: 934 | H36: 12
A37: Mewstone - End | B37: 2 | C37: Parking Space | E37: 3 | F37: 970 | H37: 28
A38: Mewstone - Mid | B38: 2 | C38: Parking Space | E38: 3 | F38: 970 | H38: 6
A39: Matlock - End | B39: 2 | C39: Parking Space | E39: 3 | F39: 970 | H39: 13
A40: Martham | B40: 2 | C40: Single Integral | E40: 3 | F40: 995 | H40: 2
... A42: Redford | B42: 2 | C42: Parking Space | E42: 3 | F42: 1046 | H42: 4
A43: Knightwood - End | B43: 2.5 | C43: Parking Space | D43: SG | E43: 3 | F43: 1122 | H43: 8
A44: Allerthorpe | B44: 2 | C44: Parking Space | D44: SG | E44: 3 | F44: 1225 | H44: 5
A45: Newby | B45: 2 | C45: Single Detached | E45: 3 | F45: 952 | H45: 7
...

Sheet B Regs Timetable
C2: Eight Acre Lane, Formby
A6: Revenue | C6: Year / Month | D6: Done | F6: 2022 | R6: 2023 | AD6: 2024 | AP6: 2025 | BB6: 2026 | BC6: 2027 | BD6: 2028 | BE6: 2029 | BF6: 2030 | BG6: 2031 | BH6: 2032 | BI6: 2033 | BJ6: 2034 | BK6: 2035 | BL6: 2036 | BM6: 2037 | BN6: 2038
F7: Jan | G7: Feb | H7: Mar | I7: Apr | J7: May | K7: Jun | L7: Jul | M7: Aug | N7: Sep | O7: Oct | P7: Nov | Q7: Dec | R7: Jan | S7: Feb | T7: Mar | U7: Apr | V7: May | W7: Jun | X7: Jul | Y7: Aug | Z7: Sep | AA7: Oct | AB7: Nov | AC7: Dec | AD7: Jan | AE7: Feb | AF7: Mar | AG7: Apr | AH7: May | AI7: Jun | AJ7: Jul | AK7: Aug | AL7: Sep | AM7: Oct | AN7: Nov | AO7: Dec | AP7: Jan | AQ7: Feb | AR7: Mar | AS7: Apr | AT7: May | AU7: Jun | AV7: Jul | AW7: Aug | AX7: Sep | AY7: Oct | AZ7: Nov | BA7: Dec | BB7: 12 mths | BC7: 12 mths | BD7: 12 mths | BE7: 12 mths | BF7: 12 mths | BG7: 12 mths | BH7: 12 mths | BI7: 12 mths | BJ7: 12 mths | BK7: 12 mths | BL7: 12 mths | BM7: 12 mths | BN7: 12 mths
C11: Planning Application Submitted
C12: Planning Approval Gained
C13: Cut & Fill
C14: Roads and Sewers Start
C15: Ground Works Start
C16: Supers Start
C17: First Legal Completion
C18: PD Plots B Regs F & L - Barratt | D18: ='Dwelling Mix'!P90 -> 302 | AO18: 3 | AP18: 3 | AQ18: 3 | AR18: 3 | AS18: 3 | AT18: 3 | AU18: 3 | BP18: =SUM(X18:BO18) -> 21
C19: PD Plots B Regs F & L - David Wilson | D19: ='Dwelling Mix'!S90 -> 143 | AR19: 3 | AS19: 3 | AT19: 3 | AU19: 3 | BP19: =SUM(X19:BO19) -> 12
C20: PD Plots with Future Homes Stds 2025 - Barratt | D20: =D18-(SUM(AO18:AU18)) -> 281 | AV20: 3 | AW20: 3 | AX20: 3 | AY20: 3 | AZ20: 3 | BA20: 3 | BB20: =3*12 -> 36 | BC20: =3*12 -> 36 | BD20: =3*12 -> 36 | BE20: =3*12 -> 36 | BF20: =3*12 -> 36 | BG20: =3*12 -> 36 | BH20: =3*12 -> 36 | BI20: =3*12 -> 36 | BJ20: =356-BP18-306 -> 29 | BP20: =SUM(AV20:BO20) -> 335
C21: PD Plots with Future Homes Stds 2025 - David Wilson | D21: =D19-(SUM(AO19:AU19)) -> 131 | AV21: 3 | AW21: 3 | AX21: 3 | AY21: 3 | AZ21: 3 | BA21: 3 | BB21: =3*12 -> 36 | BC21: =3*12 -> 36 | BD21: =3*12 -> 36 | BE21: 1 | BP21: =SUM(AV21:BO21) -> 127
BP23: =SUM(BP18:BP22) -> 495
D24: pa | E24: Cummulative
C25: Sales Rate of 3 per month per developer | D25: =3*12 -> 36 | E25: 0
C27: 2023 | E27: =D27 -> 0
C28: 2024 | D28: =SUM(AD18:AO19) -> 3 | E28: =E27+D28 -> 3
C29: 2025 | D29: =SUM(AP18:BA21) -> 66 | E29: =E28+D29 -> 69
C30: 2026 | D30: =SUM(BB20:BB21) -> 72 | E30: =E29+D30 -> 141
C31: 2027 | D31: =BC20+BC21 -> 72 | E31: =E30+D31 -> 213
C32: 2028 | D32: =BD20+BD21 -> 72 | E32: =E31+D32 -> 285
C33: 2029 | D33: =BE20+BE21 -> 37 | E33: =E32+D33 -> 322
C34: 2030 | D34: =BF20 -> 36 | E34: =E33+D34 -> 358
C35: 2031 | D35: =BG20 -> 36 | E35: =E34+D35 -> 394
C36: 2032 | D36: =BH20 -> 36 | E36: =E35+D36 -> 430
C37: 2033 | D37: =BI20 -> 36 | E37: =E36+D37 -> 466
C38: 2034 | D38: =BJ20 -> 29 | E38: =E37+D38 -> 495
C39: 2035 | E39: =E38+D39 -> 495
C40: 2036 | E40: =E39+D40 -> 495
C41: 2037 | E41: =E40+D41 -> 495
C45: Build Regs - Part F&L | D45: 44682 | E45: =E32 -> 285 | F45: 4500 | H45: =E45*F45 -> 1282500 | J45: 4.8914349
C46: Build Regs - Future Homes | D46: 45778 | E46: =D21 -> 131 | F46: 5500 | H46: =E46*F46 -> 720500 | J46: 2.6640681

Sheet DWH 
A1: Schedule of Accomodation
A2: Site Name: Rochdale, Trows Farm
A3: Revision: Planning Layout 01
A4: Date: 08-02-24
B5: Garages
A6: Open Market Houses
A7: House Type Code | C7: House Type Name | D7: Beds | E7: Storey Height | F7: Number | G7: sqm | H7: Sq Ft | I7: Total Sq Ft
A8: N224 XEH7 | C8: Primrose (End) | D8: 2 | E8: 2 | F8: 8 | G8: 71.3 | H8: 768 | I8: =F8*H8 -> 6144
A9: N224 XI-7 | C9: Primrose (Mid) | D9: 2 | E9: 2 | F9: 4 | G9: 71.3 | H9: 768 | I9: =F9*H9 -> 3072
A10: YH50 X0HE | C10: YH50 (End) | D10: 2 | E10: 2 | F10: 4 | G10: 80.5 | H10: 866 | I10: =F10*H10 -> 3464
A11: YH50 X0-I | C11: YH50 (Mid) | D11: 2 | E11: 2 | F11: 2 | G11: 80.5 | H11: 866 | I11: =F11*H11 -> 1732
A12: YH52 X0HE | C12: YH52 (End) | D12: 3 | E12: 2 | F12: 6 | G12: 95.2 | H12: 1025 | I12: =F12*H12 -> 6150
A13: YH52 X0-I | C13: YH52 (Mid) | D13: 3 | E13: 2 | F13: 2 | G13: 95.2 | H13: 1025 | I13: =F13*H13 -> 2050
A14: N382 XEH7 | C14: Alder (End) | D14: 3 | E14: 2 | F14: 31 | G14: 89.7 | H14: 966 | I14: =F14*H14 -> 29946
A15: N382 XI-7 | C15: Alder (Mid) | D15: 3 | E15: 2 | F15: 3 | G15: 89.7 | H15: 966 | I15: =F15*H15 -> 2898
A16: N341 XDG7 | C16: Foxglove (Det) | D16: 3 | E16: 2 | F16: 9 | G16: 103.7 | H16: 1116 | I16: =F16*H16 -> 10044
A17: N341 XEG7 | C17: Foxglove (End) | D17: 3 | E17: 2 | F17: 3 | G17: 103.7 | H17: 1116 | I17: =F17*H17 -> 3348
A18: N319 XEG7 | C18: Frampton (End) | D18: =VALUE([23]Summary!$B$2) -> 3 | E18: 2.5 | F18: 10 | G18: 104.7 | H18: 1127 | I18: =F18*H18 -> 11270
A19: N403 X-G7 | B19: SG | C19: Hazelborough | D19: 4 | E19: 2 | F19: 8 | G19: 108 | H19: 1163 | I19: =F19*H19 -> 9304
A20: N431 X-H7 | B20: Sg | C20: Hamford | D20: 4 | E20: 2 | F20: 5 | G20: 118.5 | H20: 1275 | I20: =F20*H20 -> 6375
A21: N411 X-H7 | C21: Thornhill | D21: 4 | E21: 2 | F21: 8 | G21: 124.3 | H21: 1338 | I21: =F21*H21 -> 10704
A22: N442 X-H7 | B22: SG | C22: Winterton | D22: 4 | E22: 2 | F22: 11 | G22: 125.8 | H22: 1354 | I22: =F22*H22 -> 14894
A23: N417 X-H7 | B23: SG | C23: Lynford | D23: 4 | E23: 2 | F23: 6 | G23: 133.2 | H23: 1434 | I23: =F23*H23 -> 8604
A24: N408 X-H7 | C24: Hepburn | D24: 4 | E24: 2 | F24: 6 | G24: 134.2 | H24: 1444 | I24: =F24*H24 -> 8664
A25: N456 X-H7 | B25: SG | C25: Wychwood | D25: 4 | E25: 2 | F25: 10 | G25: 138.3 | H25: 1489 | I25: =F25*H25 -> 14890
A26: N469 X-H7 | B26: SG | C26: Culver | D26: 5 | E26: 2 | F26: 7 | G26: 141.7 | H26: 1525 | I26: =F26*H26 -> 10675
A30: Open Market Summary
A31: Bedroom Provision
A32: 1 Beds: | D32: =K7 -> 0 | E32: =D32/I32 -> 0 | F32: Total Dwellings: | I32: =SUM(F8:F28) -> 143
A33: 2 Beds: | D33: =L7 -> 0 | E33: =D33/I32 -> 0 | F33: Provision Percentage; | I33: =I32/I61 -> 1
A34: 3 Beds: | D34: =M7 -> 0 | E34: =D34/I32 -> 0 | F34: Total Sq Ft: | I34: =SUM(I8:I28) -> 164228
A35: 4 Beds: | D35: =N7 -> 0 | E35: =D35/I32 -> 0
A36: 5 Beds: | D36: =O7 -> 0 | E36: =D36/I32 -> 0
A38: Affordable
A39: House Type Code | D39: Beds | E39: Storey Height | F39: Number | G39: Sqm | H39: Sq Ft | I39: Total Sq Ft
A40: YH50 X0HE | C40: YH50 (End) | D40: 2 | E40: 2 | F40: 4 | G40: 80.5 | H40: 866 | I40: =F40*H40 -> 3464
A41: YH50 X0-I | C41: YH50 (Mid) | D41: 2 | E41: 2 | F41: 2 | G41: 80.5 | H41: 866 | I41: =F41*H41 -> 1732
A42: YH52 X0HE | C42: YH52 (End) | D42: 3 | E42: 2 | F42: 6 | G42: 95.2 | H42: 1025 | I42: =F42*H42 -> 6150
A43: YH52 X0-I | C43: YH52 (Mid) | D43: 3 | E43: 2 | F43: 2 | G43: 95.2 | H43: 1025 | I43: =F43*H43 -> 2050
A45: Affordable Summary
...

Sheet BARRATT - CLASSIC PARCEL
A1: BARRATT - CLASSIC PARCEL
A2: S C H E D U L E O F A C C O M M O D A T I O N
A4: Barratt Type | B4: Garages | C4: House Type | D4: Sqft | F4: No | G4: Total Sqft
A5: Type 50 - End | C5: 2 Bed Terraced House | D5: 866 | E5: 2 | F5: 4 | G5: 3464
A6: Type 52 - End | C6: 3 Bed Terraced House | D6: 1025 | E6: 2 | F6: 10 | G6: 10250
A7: Kew - End | C7: 2 Bed Terraced House | D7: 785 | E7: 2 | F7: 8 | G7: 6280
A8: Kew - Mid | C8: 2 Bed Terraced House | D8: 785 | E8: 2 | F8: 2 | G8: 1570
A9: Newby | C9: 3 Bed Detached House | D9: 952 | E9: 2 | F9: 8 | G9: 7616
A10: Mewstone - End | C10: 3 Bed Semi / Mews House | D10: 970 | E10: 2 | F10: 36 | G10: 34920
A11: Mewstone - Mid | C11: 3 Bed Semi / Mews House | D11: 970 | E11: 2 | F11: 2 | G11: 1940
A12: Matlock - End | C12: 3 Bed Semi / Mews House | D12: 970 | E12: 2 | F12: 20 | G12: 19400
A13: Martham - End | C13: 3 Bed Detached / Semi Detached Dual Aspect House | D13: 995 | E13: 2 | F13: 6 | G13: 5970
A14: Martham | C14: 3 Bed Detached / Semi Detached Dual Aspect House | D14: 995 | E14: 2 | F14: 1 | G14: 995
A15: Redford | C15: 3 Bed Detached | D15: 1046 | E15: 2 | F15: 7 | G15: 7322
A16: Willow | C16: 4 Bedroom Int. Garage Detached House | D16: 1074 | E16: 2 | F16: 22 | G16: 23628
A17: Knightwood - End | B17: SG | C17: 4 Bed Townhouse | D17: 1122 | E17: 2.5 | F17: 14 | G17: 15708
A18: Harlow | C18: 4 Bedroom Int. Garage Detached House | D18: 1276 | E18: 2 | F18: 9 | G18: 11484
A19: Allerthorpe | B19: SG | C19: 4 Bed Dual Aspect Detached House | D19: 1225 | E19: 2 | F19: 12 | G19: 15925
A20: Allerthorpe | B20: DG | C20: 4 Bed Dual Aspect Detached House | D20: 1225 | E20: 2 | F20: 1 | G20: 15925
A21: Linstock | B21: SG | C21: 5 Bedroom Detached | D21: 1551 | E21: 2 | F21: 9 | G21: 13959
A24: Total number of units and square footage | F24: 171 | G24: 180431
A25: Total number of Single Garage | F25: 18
A26: Total number of Twin Garages | F26: 1
A28: Gross Site Area in Acres | G28: N/A
A30: Open Space & Undevelopable Area in Acres | G30: N/A
A32: Net Site Area in Acres | G32: 11.18
A34: Density (Units per Acre) | G34: 15.29517
A36: Density (Units per Hectare) | G36: 37.795188
A38: Square Foot / Acre | G38: 16138.73
A40: Percentage NDSS Compliant | G40: 1
A42: Percentage Part M4(2) Compliant | G42: 0.1

Sheet BARRATT - CONTEMPORARY PARCEL
A1: BARRATT - CONTEMPORARY PARCEL
A2: S C H E D U L E O F A C C O M M O D A T I O N
A4: Barratt Type | B4: Garges | C4: House Type | D4: Sqft | E4: Storey Heights | F4: No | G4: Total Sqft
A5: Type 50 - End | C5: 2 Bed Terraced House | D5: 866 | E5: 2 | F5: 6 | G5: =D5*F5 -> 5196
A6: Type 50 - Mid | C6: 2 Bed Terraced House | D6: 866 | E6: 2 | F6: 1 | G6: =D6*F6 -> 866
A7: Type 52 - End | C7: 3 Bed Terraced House | D7: 1025 | E7: 2 | F7: 4 | G7: =D7*F7 -> 4100
A8: Type 52 - Mid | C8: 3 Bed Terraced House | D8: 1025 | E8: 2 | F8: 2 | G8: =D8*F8 -> 2050
A9: Kew - End | C9: 2 Bed Terraced House | D9: 785 | E9: 2 | F9: 10 | G9: =D9*F9 -> 7850
A10: Kew - Mid | C10: 2 Bed Terraced House | D10: 785 | E10: 2 | F10: 4 | G10: =D10*F10 -> 3140
A11: Holkham | C11: 3 Bed Int.Garage Detached House | D11: 922 | E11: 2 | F11: 9 | G11: =D11*F11 -> 8298
A12: Brownstone - End | C12: 3 Bed Semi/Mews house | D12: 934 | E12: 2 | F12: 12 | G12: =D12*F12 -> 11208
A13: Mewstone - End | C13: 3 Bed Semi/Mews house | D13: 970 | E13: 2 | F13: 28 | G13: =D13*F13 -> 27160
A14: Mewstone - Mid | C14: 3 Bed Semi/Mews house | D14: 970 | E14: 2 | F14: 6 | G14: =D14*F14 -> 5820
A15: Matlock - End | C15: 3 Bed Semi/Mews house | D15: 970 | E15: 2 | F15: 13 | G15: =D15*F15 -> 12610
A16: Martham | C16: 3 Bed Detached Dual Aspec | D16: 995 | E16: 2 | F16: 2 | G16: =D16*F16 -> 1990
... A18: Redford | C18: 3 Bed Detached | D18: 1046 | E18: 2 | F18: 4 | G18: =D18*F18 -> 4184
A19: Knightwood - End | B19: SG | C19: 4 Bed Town house | D19: 1122 | E19: 2.5 | F19: 8 | G19: =D19*F19 -> 8976
A20: Allerthorpe | B20: SG | C20: 4 Bed Dual Aspect Detached house | D20: 1225 | E20: 2 | F20: 5 | G20: =D20*F20 -> 6125
A21: Newby | C21: 3 Bed Detached | D21: 952 | E21: 2 | F21: 7 | G21: =D21*F21 -> 6664
A22: Linstock | B22: SG | C22: 5 Bed Detached | D22: 1551 | E22: 2 | F22: 5 | G22: =D22*F22 -> 7755
A25: Total number of units and square footage | F25: =SUM(F5:F22) -> 131 | G25: =SUM(G5:G24) -> 128967
A26: Total number of Single Garages | F26: 9
A27: Total number of Twin Shared Garages | F27: 1
A29: Gross Site Area in Acres | G29: N/A
A31: Open Space & Undevelopable Area in Acres | G31: N/A
A33: Net Site Area in Acres | G33: 7.93
A35: Density (Units per Acre) | G35: =$F$25/$G$33 -> 16.519546
A37: Density (Units per Hectare) | G37: =$F$25/($G$33*0.404685642) -> 40.820687
A39: Square Foot / Acre | G39: =$G$25/$G$33 -> 16263.178
A41: Percentage NDSS Compliant | G41: 1
A43: Percentage Part M4(2) Compliant | G43: 0.1

Sheet 1. Affordable
B2: ='Breakdown Summary'!B2 -> Trows Farm, Castleton | G2: ='Breakdown Summary'!G2 -> Date | H2: ='Breakdown Summary'!H2 -> 45453 | J2: ='Breakdown Summary'!J2 -> Ver - 6
G3: ='Breakdown Summary'!H3 -> Breakdown of Abnormal Costs
A5: Ref | B5: Description | G5: Quantity | H5: Unit | I5: Rate | J5: Total | L5: ='Breakdown Summary'!L5:S5 -> Phasing Breakdown
L6: ='Breakdown Summary'!L6 -> Site 1 | N6: ='Breakdown Summary'!N6 -> 0 | P6: ='Breakdown Summary'!P6:P7 -> 0 | Q6: ='Breakdown Summary'!Q6:Q7 -> 0 | R6: ='Breakdown Summary'!R6:R7 -> 0 | S6: ='Breakdown Summary'!S6:S7 -> 0
L7: ='Breakdown Summary'!L7 -> Barratt | M7: ='Breakdown Summary'!M7 -> David Wilson | N7: ='Breakdown Summary'!N7 -> Phs | O7: ='Breakdown Summary'!O7 -> Phs
L8: ='Breakdown Summary'!L8 -> 302 | M8: ='Breakdown Summary'!M8 -> 143 | N8: ='Breakdown Summary'!N8 -> 0 | O8: ='Breakdown Summary'!O8 -> 0
L9: ='Breakdown Summary'!L9 -> 0 | M9: ='Breakdown Summary'!M9 -> 0 | N9: ='Breakdown Summary'!N9 -> 0 | O9: ='Breakdown Summary'!O9 -> 0
L10: ='Breakdown Summary'!L10 -> 309398 | M10: ='Breakdown Summary'!M10 -> 164228 | N10: ='Breakdown Summary'!N10 -> 0 | O10: ='Breakdown Summary'!O10 -> 0
L11: ='Breakdown Summary'!L11 -> 0 | M11: ='Breakdown Summary'!M11 -> 0 | N11: ='Breakdown Summary'!N11 -> 0 | O11: ='Breakdown Summary'!O11 -> 0
L12: ='Breakdown Summary'!L12 -> 19.928804 | M12: ='Breakdown Summary'!M12 -> 0.21008403 | N12: ='Breakdown Summary'!N12 -> 0 | O12: ='Breakdown Summary'!O12 -> 0
L13: ='Breakdown Summary'!L13 -> 19.11 | M13: ='Breakdown Summary'!M13 -> 10.009886 | N13: ='Breakdown Summary'!N13 -> 0 | O13: ='Breakdown Summary'!O13 -> 0
A15: 1 | B15: Affordable
B17: West Parcel
E19: ft2
E20: ft2
E21: ft2
E22: ft2
E23: ft2
E24: ft2
E25: ft2
B28: East Parcel
E30: ft2
E31: ft2
E32: ft2
E33: ft2
E34: ft2
E35: ft2
E36: ft2
J44: =SUM(J14:J43) -> 0 | L44: =SUM(L14:L43) -> 0 | M44: =SUM(M14:M43) -> 0 | N44: =SUM(N14:N43) -> 0 | O44: =SUM(O14:O43) -> 0 | P44: =SUM(P14:P43) -> 0 | Q44: =SUM(Q14:Q43) -> 0 | R44: =SUM(R14:R43) -> 0 | S44: =SUM(S14:S43) -> 0

Sheet 2. CIL
A1: ='Breakdown Summary'!B2 -> Trows Farm, Castleton
A3: CIL Calculation | W3: Series: | X3: BCIS All-in TPI | AA3: BCIS General Building Cost Index
G4: Index at ????? | W4: Series number: | X4: 101 | Z4: quarterly | AA4: 1111 | AC4: monthly
W5: Base: | X5: 1985 mean = 100 | AA5: 1985 mean = 100
G6: CIL Rate/M2 | W6: Last updated: | X6: 28-Feb-2020 | AA6: 25-Feb-2020
G7: Indexation/M2 | L7: ='Breakdown Summary'!L5:S5 -> Phasing Breakdown | W7: Notes:
G8: Chargable Amount/M2 | L8: ='Breakdown Summary'!L6 -> Site 1 | N8: ='Breakdown Summary'!N6 -> 0 | P8: ='Breakdown Summary'!P6:P7 -> #VALUE! | Q8: ='Breakdown Summary'!Q6:Q7 -> #VALUE! | R8: ='Breakdown Summary'!R6:R7 -> #VALUE! | S8: ='Breakdown Summary'!S6:S7 -> #VALUE! | W8: Downloaded: | X8: 10-Mar-2020 09:30
A9: Cowell CIL | L9: ='Breakdown Summary'!L7 -> Barratt | M9: ='Breakdown Summary'!M7 -> David Wilson | N9: ='Breakdown Summary'!N7 -> Phs | O9: ='Breakdown Summary'!O7 -> Phs | W9: Date | X9: Index | Y9: Status | Z9: Sample | AA9: Index | AB9: Status
A10: Housetype | B10: No | C10: Garage | D10: House SQFT | E10: Garage SQFT | F10: Total SQFT per Unit | G10: Total | H10: Total m2 | L10: ='Breakdown Summary'!L13 -> 19.11 | M10: ='Breakdown Summary'!M13 -> 10.009886 | N10: ='Breakdown Summary'!N13 -> 0 | O10: ='Breakdown Summary'!O13 -> 0 | P10: ='Breakdown Summary'!P13 -> 0 | W10: 40179 | AA10: 288.8 | AB10: Firm
F11: =SUM(D11:E11) -> 0 | G11: =B11*F11 -> 0 | H11: =G11/10.764 -> 0 | W11: 40210 | X11: 209 | Z11: 63 | AA11: 289.1 | AB11: Firm
F12: =SUM(D12:E12) -> 0 | G12: =B12*F12 -> 0 | H12: =G12/10.764 -> 0 | W12: 40238 | AA12: 290.3 | AB12: Firm
F13: =SUM(D13:E13) -> 0 | G13: =B13*F13 -> 0 | H13: =G13/10.764 -> 0 | W13: 40269 | AA13: 293 | AB13: Firm
F14: =SUM(D14:E14) -> 0 | G14: =B14*F14 -> 0 | H14: =G14/10.764 -> 0 | W14: 40299 | X14: 218 | Z14: 45 | AA14: 295.7 | AB14: Firm
F15: =SUM(D15:E15) -> 0 | G15: =B15*F15 -> 0 | H15: =G15/10.764 -> 0 | W15: 40330 | AA15: 297.1 | AB15: Firm
F16: =SUM(D16:E16) -> 0 | G16: =B16*F16 -> 0 | H16: =G16/10.764 -> 0 | W16: 40360 | AA16: 297.8 | AB16: Firm
F17: =SUM(D17:E17) -> 0 | G17: =B17*F17 -> 0 | H17: =G17/10.764 -> 0 | W17: 40391 | X17: 219 | Z17: 42 | AA17: 298 | AB17: Firm
F18: =SUM(D18:E18) -> 0 | G18: =B18*F18 -> 0 | H18: =G18/10.764 -> 0 | W18: 40422 | AA18: 298.6 | AB18: Firm
F19: =SUM(D19:E19) -> 0 | G19: =B19*F19 -> 0 | H19: =G19/10.764 -> 0 | W19: 40452 | AA19: 298.9 | AB19: Firm
F20: =SUM(D20:E20) -> 0 | G20: =B20*F20 -> 0 | H20: =G20/10.764 -> 0 | W20: 40483 | X20: 220 | Z20: 49 | AA20: 299.1 | AB20: Firm
F21: =SUM(D21:E21) -> 0 | G21: =B21*F21 -> 0 | H21: =G21/10.764 -> 0 | W21: 40513 | AA21: 299.3 | AB21: Firm
F22: =SUM(D22:E22) -> 0 | G22: =B22*F22 -> 0 | H22: =G22/10.764 -> 0 | W22: 40544 | AA22: 300.4 | AB22: Firm
B23: =SUM(B11:B22) -> 0 | D23: =SUM(B11*D11,B12*D12,B13*D13,B14*D14,B16*D16,B19*D19,B22*D22,B17*D17,B15*D15,B18*D18,B20*D20,B21*D21) -> 0 | E23: =SUM(B11*E11,B12*E12,B13*E13,B14*E14,B16*E16,B17*E17,B19*E19,B22*E22,B15*E15,B18*E18,B20*E20,B21*E21) -> 0 | F23: =SUM(B11*F11,B12*F12,B13*F13,B14*F14,B16*F16,B17*F17,B19*F19,B22*F22,B15*F15,B18*F18,B20*F20,B21*F21) -> 0 | G23: =SUM(G11:G22) -> 0 | H23: =SUM(H11:H22) -> 0 | W23: 40575 | X23: 219 | Z23: 45 | AA23: 302 | AB23: Firm
G24: =H6 -> 0 | H24: =H23*G24 -> 0 | W24: 40603 | AA24: 303.2 | AB24: Firm
G25: =H7 -> 0 | H25: =H23*G25 -> 0 | W25: 40634 | AA25: 304.2 | AB25: Firm
G26: Total | H26: =SUM(H24:H25) -> 0 | L26: =H26 -> 0 | W26: 40664 | AA26: 305.2 | AB26: Firm
W27: 40969 | AA27: 310.5 | AB27: Firm
W28: 41000 | AA28: 310.6 | AB28: Firm
W29: 41030 | X29: 230 | Z29: 30 | AA29: 310.1 | AB29: Firm
W30: 41061 | AA30: 309.7 | AB30: Firm
W31: 41091 | AA31: 309.8 | AB31: Firm
W32: 41122 | X32: 223 | Z32: 33 | AA32: 309.7 | AB32: Firm
W33: 41153 | AA33: 309.8 | AB33: Firm
W34: 41183 | AA34: 309.8 | AB34: Firm
W35: 41214 | X35: 224 | Z35: 36 | AA35: 310.9 | AB35: Firm
W36: 41244 | AA36: 310.4 | AB36: Firm
W37: 41275 | AA37: 313 | AB37: Firm
W38: 41306 | X38: 234 | Z38: 36 | AA38: 314 | AB38: Firm
W39: 41334 | AA39: 314.2 | AB39: Firm
W40: 41365 | AA40: 314.5 | AB40: Firm
W41: 41395 | X41: 236 | Z41: 31 | AA41: 314.5 | AB41: Firm
...

Sheet 3. S106
B2: ='Breakdown Summary'!B2 -> Trows Farm, Castleton | G2: ='Breakdown Summary'!G2 -> Date | H2: ='Breakdown Summary'!H2 -> 45453 | J2: ='Breakdown Summary'!J2 -> Ver - 6
B3: ='Breakdown Summary'!B3 -> Cowm Top Lane, Rochdale | G3: ='Breakdown Summary'!H3 -> Breakdown of Abnormal Costs
A5: Ref | B5: Description | G5: Quantity | H5: Unit | I5: Rate | J5: Total | L5: ='Breakdown Summary'!L5:S5 -> Phasing Breakdown | AA5: Phasing Breakdown including Area in m²
L6: ='Breakdown Summary'!L6 -> Site 1 | N6: ='Breakdown Summary'!N6 -> 0 | P6: ='Breakdown Summary'!P6:P7 -> 0 | Q6: ='Breakdown Summary'!Q6:Q7 -> 0 | R6: ='Breakdown Summary'!R6:R7 -> 0 | S6: ='Breakdown Summary'!S6:S7 -> 0 | AA6: Residential Phases | AF6: Employment Space | AG6: Safeguard Space | AH6: Green space
L7: ='Breakdown Summary'!L7 -> Barratt | M7: ='Breakdown Summary'!M7 -> David Wilson | N7: ='Breakdown Summary'!N7 -> Phs | O7: ='Breakdown Summary'!O7 -> Phs | AA7: 1 | AB7: 2 | AC7: 3 | AD7: 4 | AE7: 5
L8: ='Breakdown Summary'!L13 -> 19.11 | M8: ='Breakdown Summary'!M13 -> 10.009886 | N8: ='Breakdown Summary'!N13 -> 0 | O8: ='Breakdown Summary'!O13 -> 0 | P8: ='Breakdown Summary'!P13 -> 0 | AA8: 1 | AB8: 0 | AC8: 0 | AD8: 0 | AE8: 0 | AF8: 0 | AG8: 0 | AH8: 0
A10: 2 | B10: Section 106
B12: The following are payments required under the terms of the S 106 Agreement
J15: =G15*I15 -> 0 | L15: =J15 -> 0
AA16: =J16 -> 0
J19: =G19*I19 -> 0 | L19: =J19 -> 0 | AA19: =J19 -> 0
J21: =G21*I21 -> 0 | O21: =J21 -> 0 | AA21: =J21 -> 0
AA22: =J22 -> 0
AA25: =J25 -> 0
J26: =J19*I26 -> 0 | L26: =J26 -> 0
J32: =SUM(J9:J31) -> 0 | L32: =SUM(L9:L31) -> 0 | M32: =SUM(M9:M31) -> 0 | N32: =SUM(N9:N31) -> 0 | O32: =SUM(O9:O31) -> 0 | P32: =SUM(P9:P31) -> 0 | Q32: =SUM(Q9:Q31) -> 0 | R32: =SUM(R9:R31) -> 0 | S32: =SUM(S9:S31) -> 0 | AA32: =SUM(AA9:AA31) -> 0 | AB32: =SUM(AB9:AB31) -> 0 | AC32: =SUM(AC9:AC31) -> 0 | AD32: =SUM(AD9:AD31) -> 0 | AE32: =SUM(AE9:AE31) -> 0 | AF32: =SUM(AF9:AF31) -> 0 | AG32: =SUM(AG9:AG31) -> 0 | AH32: =SUM(AH9:AH31) -> 0

Sheet 4. Off Site Wks
B2: ='Breakdown Summary'!B2 -> Trows Farm, Castleton | G2: ='Breakdown Summary'!G2 -> Date | H2: ='Breakdown Summary'!H2 -> 45453 | J2: ='Breakdown Summary'!J2 -> Ver - 6
B3: ='Breakdown Summary'!B3 -> Cowm Top Lane, Rochdale | G3: ='Breakdown Summary'!H3 -> Breakdown of Abnormal Costs
A5: Ref | B5: Description | G5: Quantity | H5: Unit | I5: Rate | J5: Total | L5: ='Breakdown Summary'!L5:S5 -> Phasing Breakdown | AA5: Phasing Breakdown including Area in m²
L6: ='Breakdown Summary'!L6 -> Site 1 | N6: ='Breakdown Summary'!N6 -> 0 | P6: ='Breakdown Summary'!P6:P7 -> 0 | Q6: ='Breakdown Summary'!Q6:Q7 -> 0 | R6: ='Breakdown Summary'!R6:R7 -> 0 | S6: ='Breakdown Summary'!S6:S7 -> 0 | AA6: Residential Phases | AF6: Employment Space | AG6: Safeguard Space | AH6: Green space
L7: ='Breakdown Summary'!L7 -> Barratt | M7: ='Breakdown Summary'!M7 -> David Wilson | N7: ='Breakdown Summary'!N7 -> Phs | O7: ='Breakdown Summary'!O7 -> Phs | AA7: 1 | AB7: 2 | AC7: 3 | AD7: 4 | AE7: 5
L8: ='Breakdown Summary'!L13 -> 19.11 | M8: ='Breakdown Summary'!M13 -> 10.009886 | N8: ='Breakdown Summary'!N13 -> 0 | O8: ='Breakdown Summary'!O13 -> 0 | P8: ='Breakdown Summary'!P13 -> 0 | AA8: 1 | AB8: 0 | AC8: 0 | AD8: 0 | AE8: 0 | AF8: 0 | AG8: 0 | AH8: 0
A10: 4 | B10: Off Site Works
C12: Cost of 3rd Party Land required for access road
C14: Legal & Agents Fees | G14: 1 | H14: Item | I14: 50000 | J14: =G14*I14 -> 50000 | L14: =J14/(L$8+M$8)*L$8 -> 32812.628 | M14: =J14-L14 -> 17187.372
L15: =J15/(L$8+M$8)*L$8 -> 0 | M15: =J15-L15 -> 0
C16: Purchase Price for Access road land | G16: 1 | H16: item | I16: 1250000 | J16: =G16*I16 -> 1250000 | L16: =J16/(L$8+M$8)*L$8 -> 820315.7 | M16: =J16-L16 -> 429684.3
L17: =J17/(L$8+M$8)*L$8 -> 0 | M17: =J17-L17 -> 0
L18: =J18/(L$8+M$8)*L$8 -> 0 | M18: =J18-L18 -> 0
L19: =J19/(L$8+M$8)*L$8 -> 0 | M19: =J19-L19 -> 0
L20: =J20/(L$8+M$8)*L$8 -> 0 | M20: =J20-L20 -> 0
B21: Section 278 Works to Existing Highways | L21: =J21/(L$8+M$8)*L$8 -> 0 | M21: =J21-L21 -> 0
L22: =J22/(L$8+M$8)*L$8 -> 0 | M22: =J22-L22 -> 0
C23: Extend Cowm Top Lane to site for main Access | L23: =J23/(L$8+M$8)*L$8 -> 0 | M23: =J23-L23 -> 0
L24: =J24/(L$8+M$8)*L$8 -> 0 | M24: =J24-L24 -> 0
C25: Civils Works junction improvements | G25: 1 | H25: Item | I25: 15000 | J25: =G25*I25 -> 15000 | L25: =J25/(L$8+M$8)*L$8 -> 9843.7884 | M25: =J25-L25 -> 5156.2116
L26: =J26/(L$8+M$8)*L$8 -> 0 | M26: =J26-L26 -> 0
C27: 5.50m road | G27: 180 | H27: m | I27: ='Road Construction'!N4 -> 854.93166 | J27: =G27*I27 -> 153887.7 | L27: =J27/(L$8+M$8)*L$8 -> 100989.2 | M27: =J27-L27 -> 52898.502
L28: =J28/(L$8+M$8)*L$8 -> 0 | M28: =J28-L28 -> 0
C29: 2.0m footpath both sides | G29: =G27*2 -> 360 | H29: m | I29: ='Footpath Construction'!N4 -> 154.34193 | J29: =G29*I29 -> 55563.094 | L29: =J29/(L$8+M$8)*L$8 -> 36463.423 | M29: =J29-L29 -> 19099.671
L30: =J30/(L$8+M$8)*L$8 -> 0 | M30: =J30-L30 -> 0
C31: Surface water inc gullies | G31: =G27 -> 180 | H31: Item | I31: ='Surface Water Sewers'!N4 -> 346.39339 | J31: =G31*I31 -> 62350.81 | L31: =J31/(L$8+M$8)*L$8 -> 40917.879 | M31: =J31-L31 -> 21432.931
L32: =J32/(L$8+M$8)*L$8 -> 0 | M32: =J32-L32 -> 0
C33: Street lights (inc connections) | G33: =G27/30+1 -> 7 | H33: Nr | I33: =1450+850 -> 2300 | J33: =G33*I33 -> 16100 | L33: =J33/(L$8+M$8)*L$8 -> 10565.666 | M33: =J33-L33 -> 5534.3337
L34: =J34/(L$8+M$8)*L$8 -> 0 | M34: =J34-L34 -> 0
C35: Allowance for new service media for site | G35: =G27 -> 180 | H35: Nr | I35: =28.5*5 -> 142.5 | J35: =G35*I35 -> 25650 | L35: =J35/(L$8+M$8)*L$8 -> 16832.878 | M35: =J35-L35 -> 8817.1218
L36: =J36/(L$8+M$8)*L$8 -> 0 | M36: =J36-L36 -> 0
C37: Design & Professional Fees | G37: 1 | H37: Nr | I37: 22500 | J37: =G37*I37 -> 22500 | L37: =J37/(L$8+M$8)*L$8 -> 14765.683 | M37: =J37-L37 -> 7734.3174
L38: =J38/(L$8+M$8)*L$8 -> 0 | M38: =J38-L38 -> 0
C39: Supervision Fees | F39: 0.125 | G39: =SUM(J25:J37) -> 351051.6 | I39: 0.125 | J39: =G39*I39 -> 43881.45 | L39: =J39/(L$8+M$8)*L$8 -> 28797.314 | M39: =J39-L39 -> 15084.136
L40: =J40/(L$8+M$8)*L$8 -> 0 | M40: =J40-L40 -> 0
C41: Sundry Builders Work | G41: =SUM(J25:J39) -> 394933.05 | H41: % | I41: 0.075 | J41: =G41*I41 -> 29619.979 | L41: =J41/(L$8+M$8)*L$8 -> 19438.187 | M41: =J41-L41 -> 10181.792
L42: =J42/(L$8+M$8)*L$8 -> 0 | M42: =J42-L42 -> 0
C43: Contractors Prelims | G43: =SUM(J25:J41) -> 424553.03 | H43: % | I43: 0.14 | J43: =G43*I43 -> 59437.424 | L43: =J43/(L$8+M$8)*L$8 -> 39005.962 | M43: =J43-L43 -> 20431.462
C44: Contractors Margin | G44: =G43 -> 424553.03 | H44: % | I44: 0.055 | J44: =G44*I44 -> 23350.417 | L44: =J44/(L$8+M$8)*L$8 -> 15323.771 | M44: =J44-L44 -> 8026.6459
L45: =J45/(L$8+M$8)*L$8 -> 0 | M45: =J45-L45 -> 0
...

Sheet 5. Cut & Fill
B2: ='Breakdown Summary'!B2 -> Trows Farm, Castleton | G2: ='Breakdown Summary'!G2 -> Date | H2: ='Breakdown Summary'!H2 -> 45453 | J2: ='Breakdown Summary'!J2 -> Ver - 6
B3: ='Breakdown Summary'!B3 -> Cowm Top Lane, Rochdale | G3: ='Breakdown Summary'!H3 -> Breakdown of Abnormal Costs
A5: Ref | B5: Description | G5: Quantity | H5: Unit | I5: Rate | J5: Total | L5: ='Breakdown Summary'!L5:S5 -> Phasing Breakdown | AA5: Phasing Breakdown including Area in m²
L6: ='Breakdown Summary'!L6 -> Site 1 | N6: ='Breakdown Summary'!N6 -> 0 | P6: ='Breakdown Summary'!P6:P7 -> 0 | Q6: ='Breakdown Summary'!Q6:Q7 -> 0 | R6: ='Breakdown Summary'!R6:R7 -> 0 | S6: ='Breakdown Summary'!S6:S7 -> 0 | AA6: Residential Phases | AF6: Employment Space | AG6: Safeguard Space | AH6: Green space
L7: ='Breakdown Summary'!L7 -> Barratt | M7: ='Breakdown Summary'!M7 -> David Wilson | N7: ='Breakdown Summary'!N7 -> Phs | O7: ='Breakdown Summary'!O7 -> Phs | AA7: 1 | AB7: 2 | AC7: 3 | AD7: 4 | AE7: 5
L8: ='Breakdown Summary'!L13 -> 19.11 | M8: ='Breakdown Summary'!M13 -> 10.009886 | N8: ='Breakdown Summary'!N13 -> 0 | O8: ='Breakdown Summary'!O13 -> 0 | P8: ='Breakdown Summary'!P13 -> 0 | AA8: 1 | AB8: 0 | AC8: 0 | AD8: 0 | AE8: 0 | AF8: 0 | AG8: 0 | AH8: 0
A10: 5 | B10: Cut & Fill
C12: Service disconnections to existing Farmhouse | G12: 1 | H12: Item | I12: 7500 | J12: =G12*I12 -> 7500 | L12: =J12/(L$8+M$8)*L$8 -> 4921.8942 | M12: =J12-L12 -> 2578.1058
L13: =J13/(L$8+M$8)*L$8 -> 0 | M13: =J13-L13 -> 0
C14: Demolition of a small structure in the north of the site | G14: 1 | H14: Item | I14: 4250 | J14: =G14*I14 -> 4250 | L14: =J14/(L$8+M$8)*L$8 -> 2789.0734 | M14: =J14-L14 -> 1460.9266
L15: =J15/(L$8+M$8)*L$8 -> 0 | M15: =J15-L15 -> 0
C16: Demolition of the farmhouse and associated stable blocks in the south of the site | G16: 1 | H16: Item | I16: 15500 | J16: =G16*I16 -> 15500 | L16: =J16/(L$8+M$8)*L$8 -> 10171.915 | M16: =J16-L16 -> 5328.0853
L17: =J17/(L$8+M$8)*L$8 -> 0 | M17: =J17-L17 -> 0
C18: Allowance to turnover of fills where present / around the farmyard area /deal with the infilled former pond | G18: 1 | H18: Item | I18: 25000 | J18: =G18*I18 -> 25000 | L18: =J18/(L$8+M$8)*L$8 -> 16406.314 | M18: =J18-L18 -> 8593.6859
L19: =J19/(L$8+M$8)*L$8 -> 0 | M19: =J19-L19 -> 0
J20: =G20*I20 -> 0 | L20: =J20/(L$8+M$8)*L$8 -> 0 | M20: =J20-L20 -> 0
C21: Groundworkers Prelims for cut & fill operation | G21: 48 | H21: wks | I21: 8500 | J21: =G21*I21 -> 408000 | L21: =J21/(L$8+M$8)*L$8 -> 267751.05 | M21: =J21-L21 -> 140248.95
J22: =G22*I22 -> 0 | L22: =J22/(L$8+M$8)*L$8 -> 0 | M22: =J22-L22 -> 0
C23: Air monitoring during the turnover works | G23: 15 | H23: wks | I23: 1250 | J23: =G23*I23 -> 18750 | L23: =J23/(L$8+M$8)*L$8 -> 12304.736 | M23: =J23-L23 -> 6445.2645
J24: =G24*I24 -> 0 | L24: =J24/(L$8+M$8)*L$8 -> 0 | M24: =J24-L24 -> 0
C25: Dust suppression during the turnover works | G25: =G23 -> 15 | H25: wks | I25: 2500 | J25: =G25*I25 -> 37500 | L25: =J25/(L$8+M$8)*L$8 -> 24609.471 | M25: =J25-L25 -> 12890.529
J26: =G26*I26 -> 0 | L26: =J26/(L$8+M$8)*L$8 -> 0 | M26: =J26-L26 -> 0
C27: Consultant Engineer inspections & periodic supervision | G27: =G21 -> 48 | H27: wks | I27: 1250 | J27: =G27*I27 -> 60000 | L27: =J27/(L$8+M$8)*L$8 -> 39375.154 | M27: =J27-L27 -> 20624.846
J28: =G28*I28 -> 0 | L28: =J28/(L$8+M$8)*L$8 -> 0 | M28: =J28-L28 -> 0
C29: Protection to High Pressure Gas Main | G29: 1 | H29: Item | I29: 40000 | J29: =G29*I29 -> 40000 | L29: =J29/(L$8+M$8)*L$8 -> 26250.102 | M29: =J29-L29 -> 13749.898
L30: =J30/(L$8+M$8)*L$8 -> 0 | M30: =J30-L30 -> 0
C31: MMP, As built records and engineer sign off | G31: 1 | H31: Item | I31: 8500 | J31: =G31*I31 -> 8500 | L31: =J31/(L$8+M$8)*L$8 -> 5578.1468 | M31: =J31-L31 -> 2921.8532
L32: =J32/(L$8+M$8)*L$8 -> 0 | M32: =J32-L32 -> 0
C33: Cut - reprofile the site | G33: 169846 | H33: m3 | I33: 5.5 | J33: =G33*I33 -> 934153 | L33: =J33/(L$8+M$8)*L$8 -> 613040.3 | M33: =J33-L33 -> 321112.7
C34: Cut - reprofile the site | G34: 0 | H34: m3 | I34: =I33 -> 5.5 | J34: =G34*I34 -> 0 | L34: =J34/(L$8+M$8)*L$8 -> 0 | M34: =J34-L34 -> 0
L35: =J35/(L$8+M$8)*L$8 -> 0 | M35: =J35-L35 -> 0
C36: Fill - reprofile the site | G36: 205533 | H36: m3 | I36: 8.5 | J36: =G36*I36 -> 1747030.5 | L36: =J36/(L$8+M$8)*L$8 -> 1146493.2 | M36: =J36-L36 -> 600537.26
C37: Fill - reprofile the site | G37: =G34*0.5 -> 0 | H37: m3 | I37: =I36 -> 8.5 | J37: =G37*I37 -> 0 | L37: =J37/(L$8+M$8)*L$8 -> 0 | M37: =J37-L37 -> 0
L38: =J38/(L$8+M$8)*L$8 -> 0 | M38: =J38-L38 -> 0
C39: Cement Treatment allownace for wet, silty material | G39: 300 | H39: tonne | I39: 145 | J39: =G39*I39 -> 43500 | L39: =J39/(L$8+M$8)*L$8 -> 28546.986 | M39: =J39-L39 -> 14953.014
C40: Allowance for Lime stabalisation | G40: 300 | H40: tonne | I40: 228 | J40: =G40*I40 -> 68400 | L40: =J40/(L$8+M$8)*L$8 -> 44887.675 | M40: =J40-L40 -> 23512.325
L41: =J41/(L$8+M$8)*L$8 -> 0 | M41: =J41-L41 -> 0
C42: Imported subsoil / inert material | G42: =G36-G33-(50*'Dwelling Mix'!AB90) -> 13437 | H42: m3 | I42: =(260/8.5)+4.5 -> 35.088235 | J42: =G42*I42 -> 471480.62 | L42: =J42/(L$8+M$8)*L$8 -> 309410.36 | M42: =J42-L42 -> 162070.25
C43: Imported subsoil / inert material | H43: m3 | I43: =I42 -> 35.088235 | J43: =G43*I43 -> 0 | L43: =J43/(L$8+M$8)*L$8 -> 0 | M43: =J43-L43 -> 0
L44: =J44/(L$8+M$8)*L$8 -> 0 | M44: =J44-L44 -> 0
...

Sheet 6. Additional Road
B2: ='Breakdown Summary'!B2 -> Trows Farm, Castleton | G2: ='Breakdown Summary'!G2 -> Date | H2: ='Breakdown Summary'!H2 -> 45453 | J2: ='Breakdown Summary'!J2 -> Ver - 6
B3: ='Breakdown Summary'!B3 -> Cowm Top Lane, Rochdale | G3: ='Breakdown Summary'!H3 -> Breakdown of Abnormal Costs
A5: Ref | B5: Description | G5: Quantity | H5: Unit | I5: Rate | J5: Total | L5: ='Breakdown Summary'!L5:S5 -> Phasing Breakdown | AA5: Phasing Breakdown including Area in m²
L6: ='Breakdown Summary'!L6 -> Site 1 | N6: ='Breakdown Summary'!N6 -> 0 | P6: ='Breakdown Summary'!P6:P7 -> 0 | Q6: ='Breakdown Summary'!Q6:Q7 -> 0 | R6: ='Breakdown Summary'!R6:R7 -> 0 | S6: ='Breakdown Summary'!S6:S7 -> 0 | AA6: Residential Phases | AF6: Employment Space | AG6: Safeguard Space | AH6: Green space
L7: ='Breakdown Summary'!L7 -> Barratt | M7: ='Breakdown Summary'!M7 -> David Wilson | N7: ='Breakdown Summary'!N7 -> Phs | O7: ='Breakdown Summary'!O7 -> Phs | AA7: 1 | AB7: 2 | AC7: 3 | AD7: 4 | AE7: 5
